BEGIN:VCALENDAR
VERSION:2.0
PRODID:icalendar-ruby
CALSCALE:GREGORIAN
BEGIN:VTIMEZONE
TZID:America/Denver
BEGIN:DAYLIGHT
DTSTART:20260308T030000
TZOFFSETFROM:-0700
TZOFFSETTO:-0600
RRULE:FREQ=YEARLY;BYDAY=2SU;BYMONTH=3
TZNAME:MDT
END:DAYLIGHT
BEGIN:STANDARD
DTSTART:20261101T010000
TZOFFSETFROM:-0600
TZOFFSETTO:-0700
RRULE:FREQ=YEARLY;BYDAY=1SU;BYMONTH=11
TZNAME:MST
END:STANDARD
END:VTIMEZONE
BEGIN:VEVENT
DTSTAMP:20260420T060326Z
UID:f8eb36d0-0a60-44fa-a0d0-e4f882004ca6
DTSTART;VALUE=DATE:20260207
DTEND;VALUE=DATE:20260509
DESCRIPTION:
LOCATION:
SUMMARY:Panorama Family Survey Window
END:VEVENT
BEGIN:VEVENT
DTSTAMP:20260420T060326Z
UID:78764802-2676-4227-bf18-9f0265ff78a0
DTSTART;VALUE=DATE:20260423
DTEND;VALUE=DATE:20260424
DESCRIPTION:
LOCATION:
SUMMARY:Fourth Quarter Progress Reports
END:VEVENT
BEGIN:VEVENT
DTSTAMP:20260420T060326Z
UID:1bb16d35-2d7a-4a18-82f6-ee62ce3d0a45
DTSTART:20260515T060000
DTEND:20260515T220000
DESCRIPTION:
LOCATION:warrior stadium 
SUMMARY:Mesa Rocket Launches
END:VEVENT
BEGIN:VEVENT
DTSTAMP:20260420T060326Z
UID:60470cc5-3c49-4cde-8ac1-59f9c05f87ea
DTSTART:20260516T170000
DTEND:20260516T180000
DESCRIPTION:
LOCATION:
SUMMARY:SHS Graduation
END:VEVENT
BEGIN:VEVENT
DTSTAMP:20260420T060326Z
UID:c20e5005-9439-40f1-9e8e-7247967c54c0
DTSTART:20260516T170000
DTEND:20260516T190000
DESCRIPTION:
LOCATION:Socorro Rodeo & Sports Complex\, Socorro Soccer and Rodeo Complex\
 , Rodeo Dr\, Socorro\, NM 87801\, USA
SUMMARY:Socorro High School Graduation Ceremony 5:00 p.m.
END:VEVENT
BEGIN:VEVENT
DTSTAMP:20260420T060326Z
UID:5910ae02-0da0-4c94-8b72-09449d23daa0
DTSTART:20260525T080000
DTEND:20260525T160000
DESCRIPTION:
LOCATION:
SUMMARY:No School - Memorial Day
END:VEVENT
BEGIN:VEVENT
DTSTAMP:20260420T060326Z
UID:e921dd80-e08a-4ae2-914a-27010a2888c8
DTSTART;VALUE=DATE:20260528
DTEND;VALUE=DATE:20260529
DESCRIPTION:
LOCATION:
SUMMARY:Fourth Quarter Report Cards Issued
END:VEVENT
BEGIN:VEVENT
DTSTAMP:20260420T060326Z
UID:69ff60c4-eecf-4f4a-99b9-d128f64acce2
DTSTART:20260528T075000
DTEND:20260528T160500
DESCRIPTION:Elementary Student Schedule: 7:50 am - 3:25 pm\nSecondary Stude
 nt Schedule:  8:17 am - 4:00 pm
LOCATION:
SUMMARY:Last Day of School
END:VEVENT
BEGIN:VEVENT
DTSTAMP:20260420T060326Z
UID:0e003ecb-0b3c-4fda-959c-247bd97eb939
DTSTART;VALUE=DATE:20260608
DTEND;VALUE=DATE:20260614
DESCRIPTION:
LOCATION:Macey Center\, 801 Leroy Pl\, Socorro\, NM 87801\, USA
SUMMARY:Missoula Children's Theater
END:VEVENT
BEGIN:VEVENT
DTSTAMP:20260420T060326Z
UID:a10a5a86-4703-41bc-9f22-c9736247ad86
DTSTART;VALUE=DATE:20260615
DTEND;VALUE=DATE:20260619
DESCRIPTION:
LOCATION:
SUMMARY:Parkview Summer Reading Program Week 1
END:VEVENT
BEGIN:VEVENT
DTSTAMP:20260420T060326Z
UID:dd56ef07-e8b0-4c14-9f11-80c8d4c4ee5b
DTSTART;VALUE=DATE:20260622
DTEND;VALUE=DATE:20260626
DESCRIPTION:
LOCATION:
SUMMARY:Parkview Summer Reading Program Week 2
END:VEVENT
BEGIN:VEVENT
DTSTAMP:20260420T060326Z
UID:d96c1c2f-3c51-4be2-a9b7-d4e15e872084
DTSTART;VALUE=DATE:20260629
DTEND;VALUE=DATE:20260703
DESCRIPTION:
LOCATION:
SUMMARY:Parkview Summer Reading Program Week 3
END:VEVENT
BEGIN:VEVENT
DTSTAMP:20260420T060326Z
UID:9e392269-a374-46aa-ba09-08795b96ad3c
DTSTART;VALUE=DATE:20260706
DTEND;VALUE=DATE:20260710
DESCRIPTION:
LOCATION:
SUMMARY:Parkview Summer Reading Program Week 4
END:VEVENT
END:VCALENDAR
