BEGIN:VCALENDAR
VERSION:2.0
PRODID:icalendar-ruby
CALSCALE:GREGORIAN
BEGIN:VTIMEZONE
TZID:America/New_York
BEGIN:DAYLIGHT
DTSTART:20260308T030000
TZOFFSETFROM:-0500
TZOFFSETTO:-0400
RRULE:FREQ=YEARLY;BYDAY=2SU;BYMONTH=3
TZNAME:EDT
END:DAYLIGHT
BEGIN:STANDARD
DTSTART:20261101T010000
TZOFFSETFROM:-0400
TZOFFSETTO:-0500
RRULE:FREQ=YEARLY;BYDAY=1SU;BYMONTH=11
TZNAME:EST
END:STANDARD
END:VTIMEZONE
BEGIN:VEVENT
DTSTAMP:20260420T043628Z
UID:060e204b-7d8d-4361-b84d-0c9d57d0b35a
DTSTART:20260420T170000
DTEND:20260420T180000
DESCRIPTION:Visit https://pointpleasanthighschool.bigteams.com/main/event/s
 cid/WV255504907/eventid/80678299 for more information! 
LOCATION:
SUMMARY:Point Pleasant High School TEN C V Away Winfield High School
END:VEVENT
BEGIN:VEVENT
DTSTAMP:20260420T043628Z
UID:e3531f43-5bab-4d30-ba15-66a408ff8faa
DTSTART:20260420T180000
DTEND:20260420T190000
DESCRIPTION:Visit https://pointpleasanthighschool.bigteams.com/main/event/s
 cid/WV255504907/eventid/80656375 for more information! 
LOCATION:
SUMMARY:Point Pleasant High School BB B MS Home Poca Middle School
END:VEVENT
BEGIN:VEVENT
DTSTAMP:20260420T043628Z
UID:ad5ee248-d570-40d8-8d7d-53991939374d
DTSTART:20260420T180000
DTEND:20260420T190000
DESCRIPTION:Visit https://pointpleasanthighschool.bigteams.com/main/event/s
 cid/WV255504907/eventid/80676406 for more information! 
LOCATION:
SUMMARY:Point Pleasant High School SB G MS Away George Washington Middle Sc
 hool
END:VEVENT
BEGIN:VEVENT
DTSTAMP:20260420T043628Z
UID:49d30c18-4ca9-4301-8592-2c707e4698ea
DTSTART:20260421T163000
DTEND:20260421T173000
DESCRIPTION:Visit https://pointpleasanthighschool.bigteams.com/main/event/s
 cid/WV255504907/eventid/80962188 for more information! 
LOCATION:
SUMMARY:Point Pleasant High School BB B JV Home Winfield High School
END:VEVENT
BEGIN:VEVENT
DTSTAMP:20260420T043628Z
UID:ad78a8ca-30ea-4596-91ac-889cdffacf42
DTSTART:20260421T163000
DTEND:20260421T173000
DESCRIPTION:Visit https://pointpleasanthighschool.bigteams.com/main/event/s
 cid/WV255504907/eventid/80849977 for more information! 
LOCATION:
SUMMARY:Point Pleasant High School TRA C MS Away TBA (Legacy Open- Laidley 
 )
END:VEVENT
BEGIN:VEVENT
DTSTAMP:20260420T043628Z
UID:c865ef18-0cd0-453a-833b-a356bc8e4c67
DTSTART:20260421T180000
DTEND:20260421T190000
DESCRIPTION:Visit https://pointpleasanthighschool.bigteams.com/main/event/s
 cid/WV255504907/eventid/79678709 for more information! 
LOCATION:
SUMMARY:Point Pleasant High School SB G V Away Winfield High School
END:VEVENT
BEGIN:VEVENT
DTSTAMP:20260420T043628Z
UID:8d02aa31-4d69-48c7-9564-4e2281df6e1b
DTSTART:20260421T190000
DTEND:20260421T200000
DESCRIPTION:Visit https://pointpleasanthighschool.bigteams.com/main/event/s
 cid/WV255504907/eventid/80638501 for more information! 
LOCATION:
SUMMARY:Point Pleasant High School BB B V Home Winfield High School
END:VEVENT
BEGIN:VEVENT
DTSTAMP:20260420T043628Z
UID:a09539aa-11de-4f6f-8ad9-329202bd9ae5
DTSTART:20260422T170000
DTEND:20260422T180000
DESCRIPTION:Visit https://pointpleasanthighschool.bigteams.com/main/event/s
 cid/WV255504907/eventid/80678304 for more information! 
LOCATION:
SUMMARY:Point Pleasant High School TEN C V Home St. Joseph Catholic High Sc
 hool
END:VEVENT
BEGIN:VEVENT
DTSTAMP:20260420T043628Z
UID:cbb02f9e-3642-48dd-8d11-fb0b44ba56a5
DTSTART:20260422T180000
DTEND:20260422T190000
DESCRIPTION:Visit https://pointpleasanthighschool.bigteams.com/main/event/s
 cid/WV255504907/eventid/80656380 for more information! 
LOCATION:
SUMMARY:Point Pleasant High School BB B MS Home Ripley Middle School
END:VEVENT
BEGIN:VEVENT
DTSTAMP:20260420T043628Z
UID:ae408016-3f71-493a-b74e-3f1f34ea4a72
DTSTART:20260422T180000
DTEND:20260422T190000
DESCRIPTION:Visit https://pointpleasanthighschool.bigteams.com/main/event/s
 cid/WV255504907/eventid/80673506 for more information! 
LOCATION:
SUMMARY:Point Pleasant High School SB G MS Home Wayne High School
END:VEVENT
BEGIN:VEVENT
DTSTAMP:20260420T043628Z
UID:7702a4b2-7ae9-40f0-8875-024522b9b639
DTSTART:20260423T163000
DTEND:20260423T173000
DESCRIPTION:Visit https://pointpleasanthighschool.bigteams.com/main/event/s
 cid/WV255504907/eventid/80800218 for more information! 
LOCATION:
SUMMARY:Point Pleasant High School BB B JV Home South Charleston High Schoo
 l
END:VEVENT
BEGIN:VEVENT
DTSTAMP:20260420T043628Z
UID:fce320b6-dc53-4a6f-ae17-55728c3fdb4a
DTSTART:20260423T163000
DTEND:20260423T173000
DESCRIPTION:Visit https://pointpleasanthighschool.bigteams.com/main/event/s
 cid/WV255504907/eventid/80849823 for more information! 
LOCATION:
SUMMARY:Point Pleasant High School TRA BG V Away TBA (Indian Invitational- 
 Sissonville)
END:VEVENT
BEGIN:VEVENT
DTSTAMP:20260420T043628Z
UID:f6faf774-e7c0-41b0-97e1-4ab4d3181432
DTSTART:20260423T180000
DTEND:20260423T190000
DESCRIPTION:Visit https://pointpleasanthighschool.bigteams.com/main/event/s
 cid/WV255504907/eventid/80673981 for more information! 
LOCATION:
SUMMARY:Point Pleasant High School SB G MS Home Logan Middle School
END:VEVENT
BEGIN:VEVENT
DTSTAMP:20260420T043628Z
UID:bf47244c-e0d1-4b89-87e8-62a00847aeb6
DTSTART:20260423T180000
DTEND:20260423T190000
DESCRIPTION:Visit https://pointpleasanthighschool.bigteams.com/main/event/s
 cid/WV255504907/eventid/79678713 for more information! 
LOCATION:
SUMMARY:Point Pleasant High School SB G V Away Lincoln County High School
END:VEVENT
BEGIN:VEVENT
DTSTAMP:20260420T043628Z
UID:c2e985da-e53c-45f8-9457-f652fd5b04a3
DTSTART:20260423T190000
DTEND:20260423T200000
DESCRIPTION:Visit https://pointpleasanthighschool.bigteams.com/main/event/s
 cid/WV255504907/eventid/80638507 for more information! 
LOCATION:
SUMMARY:Point Pleasant High School BB B V Home South Charleston High School
END:VEVENT
BEGIN:VEVENT
DTSTAMP:20260420T043628Z
UID:2fae76c8-07b8-4f87-b247-6ac2dd821963
DTSTART:20260424T163000
DTEND:20260424T173000
DESCRIPTION:Visit https://pointpleasanthighschool.bigteams.com/main/event/s
 cid/WV255504907/eventid/80800231 for more information! 
LOCATION:
SUMMARY:Point Pleasant High School BB B JV Away Nitro High School
END:VEVENT
BEGIN:VEVENT
DTSTAMP:20260420T043628Z
UID:04b2d48f-22ac-405d-832f-5f6db1c53b11
DTSTART:20260424T163000
DTEND:20260424T173000
DESCRIPTION:Visit https://pointpleasanthighschool.bigteams.com/main/event/s
 cid/WV255504907/eventid/80678307 for more information! 
LOCATION:
SUMMARY:Point Pleasant High School TEN C V Away Scott High School (Tri with
  Man)
END:VEVENT
BEGIN:VEVENT
DTSTAMP:20260420T043628Z
UID:8694e86d-a39b-4f2c-b917-98d915c0e4c1
DTSTART:20260424T173000
DTEND:20260424T183000
DESCRIPTION:Visit https://pointpleasanthighschool.bigteams.com/main/event/s
 cid/WV255504907/eventid/80684665 for more information! 
LOCATION:
SUMMARY:Point Pleasant High School SB G V Home George Washington High Schoo
 l
END:VEVENT
BEGIN:VEVENT
DTSTAMP:20260420T043628Z
UID:3fd98d18-b9cd-46db-8be1-40920d5f02fa
DTSTART:20260424T180000
DTEND:20260424T190000
DESCRIPTION:Visit https://pointpleasanthighschool.bigteams.com/main/event/s
 cid/WV255504907/eventid/80676415 for more information! 
LOCATION:
SUMMARY:Point Pleasant High School BB B MS Away George Washington Middle Sc
 hool
END:VEVENT
BEGIN:VEVENT
DTSTAMP:20260420T043628Z
UID:8c064c46-835b-446b-9705-fb285ca27162
DTSTART:20260424T180000
DTEND:20260424T190000
DESCRIPTION:Visit https://pointpleasanthighschool.bigteams.com/main/event/s
 cid/WV255504907/eventid/80674065 for more information! 
LOCATION:
SUMMARY:Point Pleasant High School SB G MS Away Wahama High School
END:VEVENT
BEGIN:VEVENT
DTSTAMP:20260420T043628Z
UID:0f497324-e391-46ad-8796-f8d2dd17e600
DTSTART:20260424T190000
DTEND:20260424T200000
DESCRIPTION:Visit https://pointpleasanthighschool.bigteams.com/main/event/s
 cid/WV255504907/eventid/79678741 for more information! 
LOCATION:
SUMMARY:Point Pleasant High School BB B V Away Nitro High School
END:VEVENT
BEGIN:VEVENT
DTSTAMP:20260420T043628Z
UID:678246f9-c177-4e9b-b5dd-1cca2cafbbee
DTSTART:20260425T100000
DTEND:20260425T110000
DESCRIPTION:Visit https://pointpleasanthighschool.bigteams.com/main/event/s
 cid/WV255504907/eventid/80727735 for more information! 
LOCATION:
SUMMARY:Point Pleasant High School BB B MS Away Poca Middle School
END:VEVENT
BEGIN:VEVENT
DTSTAMP:20260420T043628Z
UID:15bd9340-156d-4814-b748-8dd3b1ac3a33
DTSTART:20260425T120000
DTEND:20260425T130000
DESCRIPTION:Visit https://pointpleasanthighschool.bigteams.com/main/event/s
 cid/WV255504907/eventid/80638614 for more information! 
LOCATION:
SUMMARY:Point Pleasant High School SB G MS Away New Martinsville Elementary
  School
END:VEVENT
BEGIN:VEVENT
DTSTAMP:20260420T043628Z
UID:01143fda-fda7-4542-9197-6188859caae1
DTSTART:20260425T140000
DTEND:20260425T150000
DESCRIPTION:Visit https://pointpleasanthighschool.bigteams.com/main/event/s
 cid/WV255504907/eventid/80656384 for more information! 
LOCATION:
SUMMARY:Point Pleasant High School SB G MS Away New Martinsville Elementary
  School
END:VEVENT
BEGIN:VEVENT
DTSTAMP:20260420T043628Z
UID:5b780bee-aaaf-4632-9c76-54756424b2c3
DTSTART:20260427T170000
DTEND:20260427T180000
DESCRIPTION:Visit https://pointpleasanthighschool.bigteams.com/main/event/s
 cid/WV255504907/eventid/80678314 for more information! 
LOCATION:
SUMMARY:Point Pleasant High School TEN C V Home Sherman High School
END:VEVENT
BEGIN:VEVENT
DTSTAMP:20260420T043628Z
UID:682fa49f-b8f1-4326-8ca7-f1aa59beb6a9
DTSTART:20260427T180000
DTEND:20260427T190000
DESCRIPTION:Visit https://pointpleasanthighschool.bigteams.com/main/event/s
 cid/WV255504907/eventid/80656389 for more information! 
LOCATION:
SUMMARY:Point Pleasant High School SB G MS Home Poca Middle School
END:VEVENT
BEGIN:VEVENT
DTSTAMP:20260420T043628Z
UID:fbd98083-a532-473a-a9e3-bbcf43952ec2
DTSTART:20260427T190000
DTEND:20260427T200000
DESCRIPTION:Visit https://pointpleasanthighschool.bigteams.com/main/event/s
 cid/WV255504907/eventid/80638522 for more information! 
LOCATION:
SUMMARY:CANCELLED: Point Pleasant High School BB B V Away Lincoln County Hi
 gh School
END:VEVENT
BEGIN:VEVENT
DTSTAMP:20260420T043628Z
UID:3d405187-4a25-4d29-9749-dadfbb2851d4
DTSTART:20260428T170000
DTEND:20260428T180000
DESCRIPTION:Visit https://pointpleasanthighschool.bigteams.com/main/event/s
 cid/WV255504907/eventid/80678315 for more information! 
LOCATION:
SUMMARY:Point Pleasant High School TEN C V Home Ripley High School
END:VEVENT
BEGIN:VEVENT
DTSTAMP:20260420T043628Z
UID:bf435896-007c-4679-ad20-0a5536ab0b9e
DTSTART:20260428T170000
DTEND:20260428T180000
DESCRIPTION:Visit https://pointpleasanthighschool.bigteams.com/main/event/s
 cid/WV255504907/eventid/80849826 for more information! 
LOCATION:
SUMMARY:Point Pleasant High School TRA BG V Away TBA (Huntington Last Chanc
 e Inv.)
END:VEVENT
BEGIN:VEVENT
DTSTAMP:20260420T043628Z
UID:978c5fd5-de61-4953-b25e-47c4a6cc3f11
DTSTART:20260428T180000
DTEND:20260428T190000
DESCRIPTION:Visit https://pointpleasanthighschool.bigteams.com/main/event/s
 cid/WV255504907/eventid/80656419 for more information! 
LOCATION:
SUMMARY:Point Pleasant High School BB B MS Away Hurricane High School
END:VEVENT
BEGIN:VEVENT
DTSTAMP:20260420T043628Z
UID:d759282f-f1c9-41be-91a0-346ae386babd
DTSTART:20260428T180000
DTEND:20260428T190000
DESCRIPTION:Visit https://pointpleasanthighschool.bigteams.com/main/event/s
 cid/WV255504907/eventid/80656422 for more information! 
LOCATION:
SUMMARY:Point Pleasant High School SB G MS Away Hurricane Middle School
END:VEVENT
BEGIN:VEVENT
DTSTAMP:20260420T043628Z
UID:0a443390-312f-4b6d-ad22-9a419c0999ae
DTSTART:20260428T180000
DTEND:20260428T190000
DESCRIPTION:Visit https://pointpleasanthighschool.bigteams.com/main/event/s
 cid/WV255504907/eventid/79678717 for more information! 
LOCATION:
SUMMARY:Point Pleasant High School SB G V Home Herbert Hoover High School
END:VEVENT
BEGIN:VEVENT
DTSTAMP:20260420T043628Z
UID:e5653085-39ce-4e0b-bc0b-714dfdc3e6b4
DTSTART:20260429T163000
DTEND:20260429T173000
DESCRIPTION:Visit https://pointpleasanthighschool.bigteams.com/main/event/s
 cid/WV255504907/eventid/80962191 for more information! 
LOCATION:
SUMMARY:Point Pleasant High School BB B JV Away Scott High School
END:VEVENT
BEGIN:VEVENT
DTSTAMP:20260420T043628Z
UID:9e383932-7137-45d0-af29-e6923243b6db
DTSTART:20260429T163000
DTEND:20260429T173000
DESCRIPTION:Visit https://pointpleasanthighschool.bigteams.com/main/event/s
 cid/WV255504907/eventid/80962193 for more information! 
LOCATION:
SUMMARY:Point Pleasant High School TRA C MS Away TBA (Ripley Invitational)
END:VEVENT
BEGIN:VEVENT
DTSTAMP:20260420T043628Z
UID:55e7d673-a583-4739-8455-6fa36630ca05
DTSTART:20260429T170000
DTEND:20260429T180000
DESCRIPTION:Visit https://pointpleasanthighschool.bigteams.com/main/event/s
 cid/WV255504907/eventid/80678316 for more information! 
LOCATION:
SUMMARY:Point Pleasant High School TEN C V Away Ravenswood High School
END:VEVENT
BEGIN:VEVENT
DTSTAMP:20260420T043628Z
UID:1d749183-db62-47be-9a9d-83071493f357
DTSTART:20260429T183000
DTEND:20260429T193000
DESCRIPTION:Visit https://pointpleasanthighschool.bigteams.com/main/event/s
 cid/WV255504907/eventid/80727664 for more information! 
LOCATION:
SUMMARY:Point Pleasant High School BB B MS Away Wayne High School
END:VEVENT
BEGIN:VEVENT
DTSTAMP:20260420T043628Z
UID:84cc7bb3-8aa1-46f3-8f75-587630a72264
DTSTART:20260429T190000
DTEND:20260429T200000
DESCRIPTION:Visit https://pointpleasanthighschool.bigteams.com/main/event/s
 cid/WV255504907/eventid/80638527 for more information! 
LOCATION:
SUMMARY:Point Pleasant High School BB B V Away Scott High School
END:VEVENT
BEGIN:VEVENT
DTSTAMP:20260420T043628Z
UID:8622a7c8-1836-469c-b256-1807d00772ba
DTSTART:20260430T173000
DTEND:20260430T183000
DESCRIPTION:Visit https://pointpleasanthighschool.bigteams.com/main/event/s
 cid/WV255504907/eventid/80684832 for more information! 
LOCATION:
SUMMARY:Point Pleasant High School SB G V Home Gallia Academy
END:VEVENT
BEGIN:VEVENT
DTSTAMP:20260420T043628Z
UID:b16e89c1-50cd-49cd-9bf7-8757c6cc8b83
DTSTART:20260430T180000
DTEND:20260430T190000
DESCRIPTION:Visit https://pointpleasanthighschool.bigteams.com/main/event/s
 cid/WV255504907/eventid/80638537 for more information! 
LOCATION:
SUMMARY:Point Pleasant High School BB B JV Home Huntington High School
END:VEVENT
BEGIN:VEVENT
DTSTAMP:20260420T043628Z
UID:7b82b2af-3f06-49e4-84fa-c78b4c08a3ba
DTSTART:20260430T180000
DTEND:20260430T190000
DESCRIPTION:Visit https://pointpleasanthighschool.bigteams.com/main/event/s
 cid/WV255504907/eventid/80638531 for more information! 
LOCATION:
SUMMARY:Point Pleasant High School BB B V Away Ripley High School
END:VEVENT
BEGIN:VEVENT
DTSTAMP:20260420T043628Z
UID:c33eee22-f8a4-4813-8bff-0323aea0eaf5
DTSTART:20260430T180000
DTEND:20260430T190000
DESCRIPTION:Visit https://pointpleasanthighschool.bigteams.com/main/event/s
 cid/WV255504907/eventid/80656424 for more information! 
LOCATION:
SUMMARY:Point Pleasant High School SB G MS Home Chapmanville Regional HS
END:VEVENT
BEGIN:VEVENT
DTSTAMP:20260420T043628Z
UID:a231360a-6ecd-4a24-adb7-0b296d508e29
DTSTART:20260501T163000
DTEND:20260501T173000
DESCRIPTION:Visit https://pointpleasanthighschool.bigteams.com/main/event/s
 cid/WV255504907/eventid/80850004 for more information! 
LOCATION:
SUMMARY:Point Pleasant High School TRA C MS Away TBA (River Valley Middle I
 nv. )
END:VEVENT
BEGIN:VEVENT
DTSTAMP:20260420T043628Z
UID:a84ea7f9-3d22-4c36-9c51-ab644a787881
DTSTART:20260501T173000
DTEND:20260501T183000
DESCRIPTION:Visit https://pointpleasanthighschool.bigteams.com/main/event/s
 cid/WV255504907/eventid/80638550 for more information! 
LOCATION:
SUMMARY:Point Pleasant High School BB B V Away Hurricane High School
END:VEVENT
BEGIN:VEVENT
DTSTAMP:20260420T043628Z
UID:bda44875-133a-416c-aedc-473d5e3a68e4
DTSTART:20260502T000000
DTEND:20260502T010000
DESCRIPTION:Visit https://pointpleasanthighschool.bigteams.com/main/event/s
 cid/WV255504907/eventid/80678321 for more information! 
LOCATION:
SUMMARY:Time: TBA -Point Pleasant High School TEN C V Away TBA (Regional Te
 nnis)
END:VEVENT
BEGIN:VEVENT
DTSTAMP:20260420T043628Z
UID:e7e01a92-9478-4aab-b255-779e0ed8aca0
DTSTART:20260502T120000
DTEND:20260502T130000
DESCRIPTION:Visit https://pointpleasanthighschool.bigteams.com/main/event/s
 cid/WV255504907/eventid/80673439 for more information! 
LOCATION:
SUMMARY:Point Pleasant High School BB B MS Home Logan Middle School
END:VEVENT
BEGIN:VEVENT
DTSTAMP:20260420T043628Z
UID:daf26bf7-80a6-4bef-b03c-cc1b939ed064
DTSTART:20260504T170000
DTEND:20260504T180000
DESCRIPTION:Visit https://pointpleasanthighschool.bigteams.com/main/event/s
 cid/WV255504907/eventid/80684835 for more information! 
LOCATION:
SUMMARY:Point Pleasant High School SB G V Away Parkersburg South High Schoo
 l
END:VEVENT
BEGIN:VEVENT
DTSTAMP:20260420T043628Z
UID:d0a6a923-4b45-441a-8bab-772824138864
DTSTART:20260504T180000
DTEND:20260504T190000
DESCRIPTION:Visit https://pointpleasanthighschool.bigteams.com/main/event/s
 cid/WV255504907/eventid/80727605 for more information! 
LOCATION:
SUMMARY:Point Pleasant High School BB B MS Home Ravenswood Middle School
END:VEVENT
BEGIN:VEVENT
DTSTAMP:20260420T043628Z
UID:106963dd-6407-46b2-9027-083cda46e27d
DTSTART:20260505T163000
DTEND:20260505T173000
DESCRIPTION:Visit https://pointpleasanthighschool.bigteams.com/main/event/s
 cid/WV255504907/eventid/80800250 for more information! 
LOCATION:
SUMMARY:Point Pleasant High School BB B JV Away Herbert Hoover High School
END:VEVENT
BEGIN:VEVENT
DTSTAMP:20260420T043628Z
UID:c3997587-8468-4d15-9afa-5e6045b95020
DTSTART:20260505T163000
DTEND:20260505T173000
DESCRIPTION:Visit https://pointpleasanthighschool.bigteams.com/main/event/s
 cid/WV255504907/eventid/80849834 for more information! 
LOCATION:
SUMMARY:Point Pleasant High School TRA BG V Away TBA (Rock Hill Invitationa
 l)
END:VEVENT
BEGIN:VEVENT
DTSTAMP:20260420T043628Z
UID:9da3a909-5164-4eec-922f-efac2867243b
DTSTART:20260505T163000
DTEND:20260505T173000
DESCRIPTION:Visit https://pointpleasanthighschool.bigteams.com/main/event/s
 cid/WV255504907/eventid/80850008 for more information! 
LOCATION:
SUMMARY:Point Pleasant High School TRA C MS Away TBA (Wolfpack Inv. - Laidl
 ey)
END:VEVENT
BEGIN:VEVENT
DTSTAMP:20260420T043628Z
UID:c3f2e9b7-23e5-42d3-b29b-f325bbf7c52a
DTSTART:20260505T173000
DTEND:20260505T183000
DESCRIPTION:Visit https://pointpleasanthighschool.bigteams.com/main/event/s
 cid/WV255504907/eventid/80684752 for more information! 
LOCATION:
SUMMARY:Point Pleasant High School SB G V Away Buffalo High School
END:VEVENT
BEGIN:VEVENT
DTSTAMP:20260420T043628Z
UID:dbfa8a31-9b83-4996-81e1-8f0c0706036e
DTSTART:20260505T190000
DTEND:20260505T200000
DESCRIPTION:Visit https://pointpleasanthighschool.bigteams.com/main/event/s
 cid/WV255504907/eventid/79678746 for more information! 
LOCATION:
SUMMARY:Point Pleasant High School BB B V Away Herbert Hoover High School
END:VEVENT
BEGIN:VEVENT
DTSTAMP:20260420T043628Z
UID:38fa6601-4577-4d37-8d4d-31c04ca19ad8
DTSTART:20260506T163000
DTEND:20260506T173000
DESCRIPTION:Visit https://pointpleasanthighschool.bigteams.com/main/event/s
 cid/WV255504907/eventid/80800255 for more information! 
LOCATION:
SUMMARY:Point Pleasant High School BB B JV Home Wayne High School
END:VEVENT
BEGIN:VEVENT
DTSTAMP:20260420T043628Z
UID:2aed77d9-5c03-4428-acee-7fb46a907c86
DTSTART:20260506T190000
DTEND:20260506T200000
DESCRIPTION:Visit https://pointpleasanthighschool.bigteams.com/main/event/s
 cid/WV255504907/eventid/80638561 for more information! 
LOCATION:
SUMMARY:Point Pleasant High School BB B V Home Wayne High School
END:VEVENT
BEGIN:VEVENT
DTSTAMP:20260420T043628Z
UID:0bf91144-0e42-4460-bef8-4eff9dd926b4
DTSTART:20260508T163000
DTEND:20260508T173000
DESCRIPTION:Visit https://pointpleasanthighschool.bigteams.com/main/event/s
 cid/WV255504907/eventid/80800261 for more information! 
LOCATION:
SUMMARY:Point Pleasant High School BB B JV Away Spring Valley High School
END:VEVENT
BEGIN:VEVENT
DTSTAMP:20260420T043628Z
UID:bfa62c12-4c09-409f-94d9-991c7006c943
DTSTART:20260508T190000
DTEND:20260508T200000
DESCRIPTION:Visit https://pointpleasanthighschool.bigteams.com/main/event/s
 cid/WV255504907/eventid/80638564 for more information! 
LOCATION:
SUMMARY:Point Pleasant High School BB B V Away Spring Valley High School
END:VEVENT
BEGIN:VEVENT
DTSTAMP:20260420T043628Z
UID:ebf9cc86-3c35-4c76-a931-d8e85da3685b
DTSTART:20260509T100000
DTEND:20260509T110000
DESCRIPTION:Visit https://pointpleasanthighschool.bigteams.com/main/event/s
 cid/WV255504907/eventid/80850023 for more information! 
LOCATION:
SUMMARY:Point Pleasant High School TRA C MS Away TBA (Doddrige MS Invitatio
 nal)
END:VEVENT
BEGIN:VEVENT
DTSTAMP:20260420T043628Z
UID:541575f1-38d8-4366-bd7d-81a0e82fd1e8
DTSTART:20260509T120000
DTEND:20260509T130000
DESCRIPTION:Visit https://pointpleasanthighschool.bigteams.com/main/event/s
 cid/WV255504907/eventid/80638569 for more information! 
LOCATION:
SUMMARY:Point Pleasant High School BB B V Away Marietta High School
END:VEVENT
BEGIN:VEVENT
DTSTAMP:20260420T043628Z
UID:129860dd-af4f-4bd2-9952-944c0a5d90a9
DTSTART:20260509T150000
DTEND:20260509T160000
DESCRIPTION:Visit https://pointpleasanthighschool.bigteams.com/main/event/s
 cid/WV255504907/eventid/80800267 for more information! 
LOCATION:
SUMMARY:Point Pleasant High School BB B V Away Marietta High School
END:VEVENT
BEGIN:VEVENT
DTSTAMP:20260420T043628Z
UID:0c9d9f7e-96d3-4134-b74b-aa9248cedd53
DTSTART:20260512T163000
DTEND:20260512T173000
DESCRIPTION:Visit https://pointpleasanthighschool.bigteams.com/main/event/s
 cid/WV255504907/eventid/80800270 for more information! 
LOCATION:
SUMMARY:Point Pleasant High School BB B JV Away Wayne High School
END:VEVENT
BEGIN:VEVENT
DTSTAMP:20260420T043628Z
UID:7367b68e-fdad-46b8-a737-1254a51658a5
DTSTART:20260512T190000
DTEND:20260512T200000
DESCRIPTION:Visit https://pointpleasanthighschool.bigteams.com/main/event/s
 cid/WV255504907/eventid/80638580 for more information! 
LOCATION:
SUMMARY:Point Pleasant High School BB B V Away Wayne High School
END:VEVENT
BEGIN:VEVENT
DTSTAMP:20260420T043628Z
UID:d35f1941-5ac1-4892-a193-53bed799c6a4
DTSTART:20260514T130000
DTEND:20260514T140000
DESCRIPTION:Visit https://pointpleasanthighschool.bigteams.com/main/event/s
 cid/WV255504907/eventid/80849840 for more information! 
LOCATION:
SUMMARY:Point Pleasant High School TRA BG V Away TBA (Region IV Championshi
 ps-Laidley)
END:VEVENT
BEGIN:VEVENT
DTSTAMP:20260420T043628Z
UID:5b98c6f6-5db3-43cc-af80-11af4f9b461a
DTSTART:20260514T183000
DTEND:20260514T193000
DESCRIPTION:Visit https://pointpleasanthighschool.bigteams.com/main/event/s
 cid/WV255504907/eventid/80638588 for more information! 
LOCATION:
SUMMARY:Point Pleasant High School BB B V Away Huntington High School
END:VEVENT
BEGIN:VEVENT
DTSTAMP:20260420T043628Z
UID:b45e46be-8ee7-4430-b627-3bea1e7d93f1
DTSTART:20260515T180000
DTEND:20260515T190000
DESCRIPTION:Visit https://pointpleasanthighschool.bigteams.com/main/event/s
 cid/WV255504907/eventid/80638520 for more information! 
LOCATION:
SUMMARY:Point Pleasant High School BB B V Home St. Albans High School
END:VEVENT
END:VCALENDAR
