BEGIN:VCALENDAR
VERSION:2.0
PRODID:icalendar-ruby
CALSCALE:GREGORIAN
BEGIN:VTIMEZONE
TZID:America/New_York
BEGIN:DAYLIGHT
DTSTART:20260308T030000
TZOFFSETFROM:-0500
TZOFFSETTO:-0400
RRULE:FREQ=YEARLY;BYDAY=2SU;BYMONTH=3
TZNAME:EDT
END:DAYLIGHT
BEGIN:STANDARD
DTSTART:20261101T010000
TZOFFSETFROM:-0400
TZOFFSETTO:-0500
RRULE:FREQ=YEARLY;BYDAY=1SU;BYMONTH=11
TZNAME:EST
END:STANDARD
END:VTIMEZONE
BEGIN:VEVENT
DTSTAMP:20260420T024353Z
UID:17aa4c71-5ae6-472b-befe-b7cda07bfdc4
DTSTART:20260422T180000
DTEND:20260422T190000
DESCRIPTION:<a href="https://www.google.com/url?q=https://5il.co/3t097&amp\
 ;sa=D&amp\;source=calendar&amp\;ust=1766604549159815&amp\;usg=AOvVaw31d9BU
 Jpm-o2TUvweqO-hC" target="_blank">https://5il.co/3t097</a>
LOCATION:Remote- details to follow
SUMMARY:Business Operations/Resource Management Subcommittee
END:VEVENT
BEGIN:VEVENT
DTSTAMP:20260420T024353Z
UID:0ed0e682-70a9-4fd5-b9e1-a088e031c147
DTSTART:20260422T190000
DTEND:20260422T200000
DESCRIPTION:
LOCATION:remote - details to follow 
SUMMARY:Policy Subcommittee 
END:VEVENT
BEGIN:VEVENT
DTSTAMP:20260420T024353Z
UID:e8bd5be3-c544-43c3-84aa-f29e146d3e6f
DTSTART:20260427T190000
DTEND:20260427T200000
DESCRIPTION:
LOCATION:remote - details to follow 
SUMMARY:Curriculum/Instruction Subcommittee
END:VEVENT
BEGIN:VEVENT
DTSTAMP:20260420T024353Z
UID:db1f2301-aab6-4868-a767-8910bb20ebb6
DTSTART:20260507T190000
DTEND:20260507T200000
DESCRIPTION:
LOCATION:NF Community Room 
SUMMARY:BoE Meeting
END:VEVENT
BEGIN:VEVENT
DTSTAMP:20260420T024353Z
UID:b54a83b2-2995-4772-91e2-09882977864f
DTSTART:20260521T180000
DTEND:20260521T190000
DESCRIPTION:<a href="https://www.google.com/url?q=https://5il.co/3t097&amp\
 ;sa=D&amp\;source=calendar&amp\;ust=1766604549159815&amp\;usg=AOvVaw31d9BU
 Jpm-o2TUvweqO-hC" target="_blank">https://5il.co/3t097</a>
LOCATION:NF Community Room 
SUMMARY:Business Operations/Resource Management Subcommittee
END:VEVENT
BEGIN:VEVENT
DTSTAMP:20260420T024353Z
UID:3a29b603-e040-415a-95ff-c0ce50570165
DTSTART:20260521T190000
DTEND:20260521T200000
DESCRIPTION:
LOCATION:remote - details to follow
SUMMARY:BoE Meeting
END:VEVENT
BEGIN:VEVENT
DTSTAMP:20260420T024353Z
UID:0d37b373-1150-49b2-83b4-2c2311850e68
DTSTART;VALUE=DATE:20260522
DTEND;VALUE=DATE:20260523
DESCRIPTION:
LOCATION:
SUMMARY:PROFESSIONAL LEARNING DAY - EARLY DISMISSAL 
END:VEVENT
BEGIN:VEVENT
DTSTAMP:20260420T024353Z
UID:41e12756-ff80-46b3-b6b6-d5d8a1a60e87
DTSTART;VALUE=DATE:20260525
DTEND;VALUE=DATE:20260526
DESCRIPTION:
LOCATION:
SUMMARY:MEMORIAL DAY - NO SCHOOL
END:VEVENT
BEGIN:VEVENT
DTSTAMP:20260420T024353Z
UID:a4698c19-0ab3-48dc-94f9-2574ed0e7e68
DTSTART:20260526T190000
DTEND:20260526T200000
DESCRIPTION:
LOCATION:remote - details to follow 
SUMMARY:Curriculum/Instruction Subcommittee
END:VEVENT
BEGIN:VEVENT
DTSTAMP:20260420T024353Z
UID:a3d5a9a5-13a8-4915-bc6b-1dff6211f24e
DTSTART:20260527T190000
DTEND:20260527T200000
DESCRIPTION:
LOCATION:remote - details to follow 
SUMMARY:Policy Subcommittee 
END:VEVENT
BEGIN:VEVENT
DTSTAMP:20260420T024353Z
UID:d3b3f96a-cbc7-403e-a3b8-b0fb4d5f778c
DTSTART:20260604T180000
DTEND:20260604T190000
DESCRIPTION:
LOCATION:New Fairfield Community Room
SUMMARY:Special Education Ad Hoc Subcommittee
END:VEVENT
BEGIN:VEVENT
DTSTAMP:20260420T024353Z
UID:d7f6f6e5-85c6-4d63-9f41-6ee56fe7747e
DTSTART:20260604T190000
DTEND:20260604T200000
DESCRIPTION:
LOCATION:NF Community Room 
SUMMARY:BoE Meeting
END:VEVENT
BEGIN:VEVENT
DTSTAMP:20260420T024353Z
UID:f2c22857-3ed0-470e-b2e8-0e0a5e7081db
DTSTART:20260605T180000
DTEND:20260605T190000
DESCRIPTION:
LOCATION:New Fairfield Community Room
SUMMARY:Special Education Ad Hoc Subcommittee
END:VEVENT
BEGIN:VEVENT
DTSTAMP:20260420T024353Z
UID:8480d04b-6cb0-40d3-a9b5-cf59563a03de
DTSTART:20260610T190000
DTEND:20260610T200000
DESCRIPTION:
LOCATION:remote - details to follow 
SUMMARY:Policy Subcommittee 
END:VEVENT
BEGIN:VEVENT
DTSTAMP:20260420T024353Z
UID:5f9b09a9-fe3f-4a71-8ef6-618465665216
DTSTART:20260610T190000
DTEND:20260610T200000
DESCRIPTION:
LOCATION:remote - details to follow 
SUMMARY:Policy Subcommittee 
END:VEVENT
BEGIN:VEVENT
DTSTAMP:20260420T024353Z
UID:2fb2662d-a5d0-41e5-982b-d6e9688462ce
DTSTART:20260611T190000
DTEND:20260611T200000
DESCRIPTION:
LOCATION:NF Community Room 
SUMMARY:BoE Meeting
END:VEVENT
BEGIN:VEVENT
DTSTAMP:20260420T024353Z
UID:bb9541d0-6aba-4eb5-a742-35a29bed4980
DTSTART;VALUE=DATE:20260612
DTEND;VALUE=DATE:20260613
DESCRIPTION:
LOCATION:
SUMMARY:TENTATIVE LAST DAY FOR STUDENTS
END:VEVENT
BEGIN:VEVENT
DTSTAMP:20260420T024353Z
UID:0e05f2c5-7789-4630-b661-7ee59453f1b5
DTSTART:20260820T190000
DTEND:20260820T200000
DESCRIPTION:
LOCATION:NF Community Room 
SUMMARY:BoE Meeting
END:VEVENT
BEGIN:VEVENT
DTSTAMP:20260420T024353Z
UID:cc9f8714-00b5-4de9-8cc4-f3f32a75a2a2
DTSTART:20260917T180000
DTEND:20260917T190000
DESCRIPTION:<a href="https://www.google.com/url?q=https://5il.co/3t097&amp\
 ;sa=D&amp\;source=calendar&amp\;ust=1766604549159815&amp\;usg=AOvVaw31d9BU
 Jpm-o2TUvweqO-hC" target="_blank">https://5il.co/3t097</a>
LOCATION:NF Community Room 
SUMMARY:Business Operations/Resource Management Subcommittee
END:VEVENT
BEGIN:VEVENT
DTSTAMP:20260420T024353Z
UID:1af4e989-f65c-4aa8-b292-826137d95ac2
DTSTART:20260917T190000
DTEND:20260917T200000
DESCRIPTION:
LOCATION:NF Community Room 
SUMMARY:BoE Meeting
END:VEVENT
BEGIN:VEVENT
DTSTAMP:20260420T024353Z
UID:30c2ca37-c8b4-4d38-b85c-0083ac9353ec
DTSTART:20260917T190000
DTEND:20260917T200000
DESCRIPTION:
LOCATION:NF Community Room 
SUMMARY:BoE Meeting
END:VEVENT
BEGIN:VEVENT
DTSTAMP:20260420T024353Z
UID:d76a21db-3a75-4734-8530-7dbdb694c127
DTSTART:20260923T190000
DTEND:20260923T200000
DESCRIPTION:
LOCATION:remote - details to follow 
SUMMARY:Policy Subcommittee 
END:VEVENT
BEGIN:VEVENT
DTSTAMP:20260420T024353Z
UID:1cd39ff7-db5c-4491-baf1-2ac125df1329
DTSTART:20260928T190000
DTEND:20260928T200000
DESCRIPTION:
LOCATION:remote - details to follow 
SUMMARY:Curriculum/Instruction Subcommittee
END:VEVENT
BEGIN:VEVENT
DTSTAMP:20260420T024353Z
UID:d28d9f2c-029f-4e6e-aaa7-845ebc96ff7d
DTSTART:20260930T180000
DTEND:20260930T190000
DESCRIPTION:
LOCATION:New Fairfield Community Room
SUMMARY:Special Education Ad Hoc Subcommittee
END:VEVENT
BEGIN:VEVENT
DTSTAMP:20260420T024353Z
UID:a2d46078-1f26-443a-afee-e741079fc123
DTSTART:20261001T180000
DTEND:20261001T190000
DESCRIPTION:
LOCATION:remote- details to follow
SUMMARY:Special Education Ad Hoc Subcommittee
END:VEVENT
BEGIN:VEVENT
DTSTAMP:20260420T024353Z
UID:2919dfc1-1a86-4c14-9bb3-46ceaf645a94
DTSTART:20261015T180000
DTEND:20261015T190000
DESCRIPTION:<a href="https://www.google.com/url?q=https://5il.co/3t097&amp\
 ;sa=D&amp\;source=calendar&amp\;ust=1766604549159815&amp\;usg=AOvVaw31d9BU
 Jpm-o2TUvweqO-hC" target="_blank">https://5il.co/3t097</a>
LOCATION:NF Community Room 
SUMMARY:Business Operations/Resource Management Subcommittee
END:VEVENT
BEGIN:VEVENT
DTSTAMP:20260420T024353Z
UID:2ae04981-9bf1-485f-bbfd-ab0062adc580
DTSTART:20261015T190000
DTEND:20261015T200000
DESCRIPTION:
LOCATION:NF Community Room 
SUMMARY:BoE Meeting
END:VEVENT
BEGIN:VEVENT
DTSTAMP:20260420T024353Z
UID:7fae5ff9-4743-487c-b78e-388e71457b3a
DTSTART:20261026T190000
DTEND:20261026T200000
DESCRIPTION:
LOCATION:remote - details to follow 
SUMMARY:Curriculum/Instruction Subcommittee
END:VEVENT
BEGIN:VEVENT
DTSTAMP:20260420T024353Z
UID:05661107-98b3-4e24-911f-50810f90ab79
DTSTART:20261028T190000
DTEND:20261028T200000
DESCRIPTION:
LOCATION:remote - details to follow 
SUMMARY:Policy Subcommittee 
END:VEVENT
BEGIN:VEVENT
DTSTAMP:20260420T024353Z
UID:2110bd70-a604-4e53-aec1-6ea17941d94b
DTSTART:20261105T180000
DTEND:20261105T190000
DESCRIPTION:<a href="https://www.google.com/url?q=https://5il.co/3t097&amp\
 ;sa=D&amp\;source=calendar&amp\;ust=1766604969354316&amp\;usg=AOvVaw1xV6Mn
 lcOSZbg5idLR5WjZ" target="_blank">https://5il.co/3t097</a>
LOCATION:NF Community Room 
SUMMARY:Business Operations/Resource Management Subcommittee
END:VEVENT
BEGIN:VEVENT
DTSTAMP:20260420T024353Z
UID:3139253e-6fe4-4447-80e8-6e3ef99aee40
DTSTART:20261105T190000
DTEND:20261105T200000
DESCRIPTION:
LOCATION:NF Community Room 
SUMMARY:BoE Meeting
END:VEVENT
BEGIN:VEVENT
DTSTAMP:20260420T024353Z
UID:dff6d1e3-e2f4-4630-bd97-26b7fcbb6a2f
DTSTART:20261118T190000
DTEND:20261118T200000
DESCRIPTION:
LOCATION:remote - details to follow 
SUMMARY:Policy Subcommittee 
END:VEVENT
BEGIN:VEVENT
DTSTAMP:20260420T024353Z
UID:59c5837a-c26d-4f5b-8ff2-c569e44e6b15
DTSTART:20261123T190000
DTEND:20261123T200000
DESCRIPTION:
LOCATION:remote - details to follow 
SUMMARY:Curriculum/Instruction Subcommittee
END:VEVENT
BEGIN:VEVENT
DTSTAMP:20260420T024353Z
UID:0acec141-9f72-46ec-bc88-21a04f4f5841
DTSTART:20261203T180000
DTEND:20261203T190000
DESCRIPTION:
LOCATION:New Fairfield Community Room
SUMMARY:Special Education Ad Hoc Subcommittee
END:VEVENT
BEGIN:VEVENT
DTSTAMP:20260420T024353Z
UID:35fc11ee-c47d-4071-89ca-c5f861e4b4bd
DTSTART:20261203T190000
DTEND:20261203T200000
DESCRIPTION:
LOCATION:NF Community Room 
SUMMARY:BoE Meeting
END:VEVENT
BEGIN:VEVENT
DTSTAMP:20260420T024353Z
UID:44e3cbc1-47ba-4bae-9125-d7e213520c15
DTSTART:20261204T180000
DTEND:20261204T190000
DESCRIPTION:
LOCATION:New Fairfield Community Room
SUMMARY:Special Education Ad Hoc Subcommittee
END:VEVENT
BEGIN:VEVENT
DTSTAMP:20260420T024353Z
UID:9105bfae-ff24-474c-9034-0eb65e50ff1a
DTSTART:20261209T190000
DTEND:20261209T200000
DESCRIPTION:
LOCATION:remote - details to follow 
SUMMARY:Policy Subcommittee 
END:VEVENT
BEGIN:VEVENT
DTSTAMP:20260420T024353Z
UID:8157cc76-adc3-4c25-b4e2-635f901fccc3
DTSTART:20261217T180000
DTEND:20261217T190000
DESCRIPTION:<a href="https://www.google.com/url?q=https://5il.co/3t097&amp\
 ;sa=D&amp\;source=calendar&amp\;ust=1766604969354316&amp\;usg=AOvVaw1xV6Mn
 lcOSZbg5idLR5WjZ" target="_blank">https://5il.co/3t097</a>
LOCATION:remote details to follow 
SUMMARY:Business Operations/Resource Management Subcommittee
END:VEVENT
BEGIN:VEVENT
DTSTAMP:20260420T024353Z
UID:521df460-e90e-4789-b3c5-ef4b23002d17
DTSTART:20261221T190000
DTEND:20261221T200000
DESCRIPTION:
LOCATION:remote - details to follow 
SUMMARY:Curriculum/Instruction Subcommittee
END:VEVENT
END:VCALENDAR
