BEGIN:VCALENDAR
VERSION:2.0
PRODID:icalendar-ruby
CALSCALE:GREGORIAN
BEGIN:VTIMEZONE
TZID:America/Los_Angeles
BEGIN:DAYLIGHT
DTSTART:20260308T030000
TZOFFSETFROM:-0800
TZOFFSETTO:-0700
RRULE:FREQ=YEARLY;BYDAY=2SU;BYMONTH=3
TZNAME:PDT
END:DAYLIGHT
BEGIN:STANDARD
DTSTART:20261101T010000
TZOFFSETFROM:-0700
TZOFFSETTO:-0800
RRULE:FREQ=YEARLY;BYDAY=1SU;BYMONTH=11
TZNAME:PST
END:STANDARD
END:VTIMEZONE
BEGIN:VEVENT
DTSTAMP:20260419T165409Z
UID:475e466e-7e07-4221-885f-3cfe1faf55fc
DTSTART:20260527T190000
DTEND:20260527T200000
DESCRIPTION:
LOCATION:
SUMMARY:Spring Band Concert
END:VEVENT
BEGIN:VEVENT
DTSTAMP:20260419T165409Z
UID:fc4bf0b0-d5a2-465f-bf29-7c1bc2fa9cfe
DTSTART:20260528T163000
DTEND:20260528T180000
DESCRIPTION:
LOCATION:
SUMMARY:Spring Family Night
END:VEVENT
END:VCALENDAR
