BEGIN:VCALENDAR
VERSION:2.0
PRODID:icalendar-ruby
CALSCALE:GREGORIAN
BEGIN:VTIMEZONE
TZID:America/New_York
BEGIN:DAYLIGHT
DTSTART:20260308T030000
TZOFFSETFROM:-0500
TZOFFSETTO:-0400
RRULE:FREQ=YEARLY;BYDAY=2SU;BYMONTH=3
TZNAME:EDT
END:DAYLIGHT
BEGIN:STANDARD
DTSTART:20261101T010000
TZOFFSETFROM:-0400
TZOFFSETTO:-0500
RRULE:FREQ=YEARLY;BYDAY=1SU;BYMONTH=11
TZNAME:EST
END:STANDARD
END:VTIMEZONE
BEGIN:VEVENT
DTSTAMP:20260422T102252Z
UID:518ed5f2-d943-4f59-94c5-26c743b297bb
DTSTART;VALUE=DATE:20260422
DTEND;VALUE=DATE:20260423
DESCRIPTION:
LOCATION:
SUMMARY:HHS No School/Staff Professional Development
END:VEVENT
BEGIN:VEVENT
DTSTAMP:20260422T102252Z
UID:ffafd35a-09e0-4e53-8456-b8c7b065a659
DTSTART:20260521T090000
DTEND:20260521T110000
DESCRIPTION:
LOCATION:
SUMMARY:HHS Awards Assembly & Graduating Students Last Day of School
END:VEVENT
BEGIN:VEVENT
DTSTAMP:20260422T102252Z
UID:28d50b5c-1661-4610-a589-b0c8a0f2a97e
DTSTART:20260526T183000
DTEND:20260526T193000
DESCRIPTION:
LOCATION:1630 Bogie Lake Rd\, White Lake\, MI 48383\, USA
SUMMARY:HHS Graduation Rehearsal @ Lakeland HS Fieldhouse
END:VEVENT
BEGIN:VEVENT
DTSTAMP:20260422T102252Z
UID:44f8e75b-6bf9-4ef8-a1b6-93455a0159e2
DTSTART:20260527T080000
DTEND:20260527T120000
DESCRIPTION:
LOCATION:
SUMMARY:HHS Half Day
END:VEVENT
BEGIN:VEVENT
DTSTAMP:20260422T102252Z
UID:02259e9a-3271-4cae-a273-992fc611971a
DTSTART:20260527T190000
DTEND:20260527T200000
DESCRIPTION:<p>Graduates should arrive by 6:30 pm!</p>
LOCATION:
SUMMARY:HHS Graduation @ Lakeland HS Fieldhouse
END:VEVENT
BEGIN:VEVENT
DTSTAMP:20260422T102252Z
UID:4ad57cdc-a5b3-42a2-bf9f-12c36097849b
DTSTART:20260610T080000
DTEND:20260610T114000
DESCRIPTION:
LOCATION:
SUMMARY:HHS Final Exams: Hours 1\, 2\, & 3
END:VEVENT
BEGIN:VEVENT
DTSTAMP:20260422T102252Z
UID:11a15d38-fc58-46a5-ba99-f48a88da4745
DTSTART:20260611T080000
DTEND:20260611T103000
DESCRIPTION:
LOCATION:
SUMMARY:HHS Final Exams: Hours 4 & 5
END:VEVENT
BEGIN:VEVENT
DTSTAMP:20260422T102252Z
UID:2c062c08-a90f-4450-8d2b-5f8f63774565
DTSTART:20260611T103000
DTEND:20260611T113000
DESCRIPTION:
LOCATION:
SUMMARY:Optional HHS School End of Year Picnic
END:VEVENT
END:VCALENDAR
