BEGIN:VCALENDAR
VERSION:2.0
PRODID:icalendar-ruby
CALSCALE:GREGORIAN
BEGIN:VTIMEZONE
TZID:America/Phoenix
BEGIN:STANDARD
DTSTART:19671029T010000
TZOFFSETFROM:-0600
TZOFFSETTO:-0700
TZNAME:MST
END:STANDARD
END:VTIMEZONE
BEGIN:VEVENT
DTSTAMP:20260425T195514Z
UID:3e5a5ac1-f3c6-482c-811d-b10255406272
DTSTART:20260516T200000
DTEND:20260516T220000
DESCRIPTION:<p>@ Kino Sports Complex</p><p>8PM</p>
LOCATION:2500 E Ajo Way\, Tucson\, AZ 85713\, USA
SUMMARY:Graduation Ceremony
END:VEVENT
END:VCALENDAR
