BEGIN:VCALENDAR
VERSION:2.0
PRODID:icalendar-ruby
CALSCALE:GREGORIAN
BEGIN:VTIMEZONE
TZID:America/Phoenix
BEGIN:STANDARD
DTSTART:19671029T010000
TZOFFSETFROM:-0600
TZOFFSETTO:-0700
TZNAME:MST
END:STANDARD
END:VTIMEZONE
BEGIN:VEVENT
DTSTAMP:20260425T213606Z
UID:f60a12b4-bdb4-48e1-bde8-25b425422e65
DTSTART;VALUE=DATE:20260520
DTEND;VALUE=DATE:20260521
DESCRIPTION:
LOCATION:10701 E Mary Ann Cleveland Way\, Tucson\, AZ 85747\, USA
SUMMARY:VIC HS Graduation
END:VEVENT
BEGIN:VEVENT
DTSTAMP:20260425T213606Z
UID:2608ebb8-7ae8-4e48-a0d0-153ca57cd5f6
DTSTART;VALUE=DATE:20260521
DTEND;VALUE=DATE:20260522
DESCRIPTION:
LOCATION:
SUMMARY:VBL Last Day of 2025-2026 School Year
END:VEVENT
BEGIN:VEVENT
DTSTAMP:20260425T213606Z
UID:5f2bf153-40e8-46ac-b31b-a8b5192893e8
DTSTART;VALUE=DATE:20260522
DTEND;VALUE=DATE:20260523
DESCRIPTION:
LOCATION:
SUMMARY:Vail Virtual Half Day Dismissal @ 12:50 p.m. 
END:VEVENT
BEGIN:VEVENT
DTSTAMP:20260425T213606Z
UID:5efa28d0-acc3-44d9-bdf7-64a646b7ab16
DTSTART;VALUE=DATE:20260522
DTEND;VALUE=DATE:20260523
DESCRIPTION:
LOCATION:
SUMMARY:Vail Virtual Last Day of 2025-2026 School  Year
END:VEVENT
BEGIN:VEVENT
DTSTAMP:20260425T213606Z
UID:99419445-78f3-4106-8ef2-9b8cd2b842ca
DTSTART;VALUE=DATE:20260720
DTEND;VALUE=DATE:20260721
DESCRIPTION:
LOCATION:
SUMMARY:First Day of 2026-2027 School Year (VBL & Vail Virtual)
END:VEVENT
BEGIN:VEVENT
DTSTAMP:20260425T213606Z
UID:01c601de-ecca-4209-8c80-77ec52414f35
DTSTART;VALUE=DATE:20260727
DTEND;VALUE=DATE:20260728
DESCRIPTION:
LOCATION:
SUMMARY:First Day of 2026-2027 School Year - VIC HS ONLY
END:VEVENT
END:VCALENDAR
