BEGIN:VCALENDAR
VERSION:2.0
PRODID:icalendar-ruby
CALSCALE:GREGORIAN
BEGIN:VTIMEZONE
TZID:America/Phoenix
BEGIN:STANDARD
DTSTART:19671029T010000
TZOFFSETFROM:-0600
TZOFFSETTO:-0700
TZNAME:MST
END:STANDARD
END:VTIMEZONE
BEGIN:VEVENT
DTSTAMP:20260421T220026Z
UID:5a0aec21-40d1-48f6-bd1b-97a299d1f471
DTSTART;VALUE=DATE:20260522
DTEND;VALUE=DATE:20260523
DESCRIPTION:
LOCATION:
SUMMARY:Last Day of 2025-2026 School Year
END:VEVENT
BEGIN:VEVENT
DTSTAMP:20260421T220026Z
UID:3fcb8872-e9a6-4025-b37d-69f922bf7696
DTSTART;VALUE=DATE:20260525
DTEND;VALUE=DATE:20260718
DESCRIPTION:
LOCATION:
SUMMARY:No School - Summer Break
END:VEVENT
BEGIN:VEVENT
DTSTAMP:20260421T220026Z
UID:ba2469ad-af86-411b-8667-4ca44dddd01e
DTSTART;VALUE=DATE:20260720
DTEND;VALUE=DATE:20260721
DESCRIPTION:
LOCATION:
SUMMARY:First Day of 2026-2027 School Year
END:VEVENT
END:VCALENDAR
