BEGIN:VCALENDAR
VERSION:2.0
PRODID:icalendar-ruby
CALSCALE:GREGORIAN
BEGIN:VTIMEZONE
TZID:America/Phoenix
BEGIN:STANDARD
DTSTART:19671029T010000
TZOFFSETFROM:-0600
TZOFFSETTO:-0700
TZNAME:MST
END:STANDARD
END:VTIMEZONE
BEGIN:VEVENT
DTSTAMP:20260423T160255Z
UID:edae7f93-9a80-4b9f-9809-d51e6b632d9a
DTSTART:20260423T183000
DTEND:20260423T200000
DESCRIPTION:Register Here!<br><a href="https://vailschooldistrict.arux.app/
 course/14/digital-citizenship-26/digital-citizenship-parent-night">https:/
 /vailschooldistrict.arux.app/course/14/digital-citizenship-26/digital-citi
 zenship-parent-night</a>
LOCATION:Esmond Station K-8 School\, 9400 S Atterbury Wash Way\, Tucson\, A
 Z 85747\, USA
SUMMARY:Digital Citizenship | Parent Night
END:VEVENT
BEGIN:VEVENT
DTSTAMP:20260423T160255Z
UID:8e9a0c70-3a00-48f4-9bbf-186c20221417
DTSTART;VALUE=DATE:20260427
DTEND;VALUE=DATE:20260502
DESCRIPTION:
LOCATION:
SUMMARY:Parent/Teacher Conferences
END:VEVENT
BEGIN:VEVENT
DTSTAMP:20260423T160255Z
UID:ff8a5cb2-4d12-46f3-bf10-27dfbeed73df
DTSTART;VALUE=DATE:20260501
DTEND;VALUE=DATE:20260502
DESCRIPTION:<a href="https://vailschooldistrict.arux.app/">https://vailscho
 oldistrict.arux.app/</a>
LOCATION:
SUMMARY:2026/27 School Year Registration Opens
END:VEVENT
BEGIN:VEVENT
DTSTAMP:20260423T160255Z
UID:7b6e1249-839d-4230-bd7a-a5b13ff57894
DTSTART;VALUE=DATE:20260504
DTEND;VALUE=DATE:20260509
DESCRIPTION:
LOCATION:
SUMMARY:Parent/Teacher Conferences
END:VEVENT
BEGIN:VEVENT
DTSTAMP:20260423T160255Z
UID:b97dd084-8247-47ee-96fa-004f2d93ea1f
DTSTART;VALUE=DATE:20260522
DTEND;VALUE=DATE:20260523
DESCRIPTION:
LOCATION:
SUMMARY:Half Day / Last Day of School | May 22 
END:VEVENT
BEGIN:VEVENT
DTSTAMP:20260423T160255Z
UID:25c4d836-1c23-4697-b663-dc8575409f7e
DTSTART;VALUE=DATE:20260525
DTEND;VALUE=DATE:20260530
DESCRIPTION:
LOCATION:
SUMMARY:Programs Closed | May 25 – 29
END:VEVENT
BEGIN:VEVENT
DTSTAMP:20260423T160255Z
UID:fa5645bb-2989-4415-b16a-dc6fe6be9c03
DTSTART;VALUE=DATE:20260601
DTEND;VALUE=DATE:20260606
DESCRIPTION:
LOCATION:
SUMMARY:Summer Break Camp | 10 Locations
END:VEVENT
BEGIN:VEVENT
DTSTAMP:20260423T160255Z
UID:7e4fb8c8-d2c6-4c6f-928e-d2fa544f4138
DTSTART;VALUE=DATE:20260608
DTEND;VALUE=DATE:20260613
DESCRIPTION:
LOCATION:
SUMMARY:Summer Break Camp | 10 Locations
END:VEVENT
BEGIN:VEVENT
DTSTAMP:20260423T160255Z
UID:122d9c7a-55f4-49fd-b5f5-97c221994042
DTSTART;VALUE=DATE:20260615
DTEND;VALUE=DATE:20260620
DESCRIPTION:
LOCATION:
SUMMARY:Summer Break Camp | 10 Locations
END:VEVENT
BEGIN:VEVENT
DTSTAMP:20260423T160255Z
UID:cfdef0f0-5432-4c9e-9cb4-7b32d38319fd
DTSTART;VALUE=DATE:20260622
DTEND;VALUE=DATE:20260627
DESCRIPTION:
LOCATION:
SUMMARY:Summer Break Camp | 10 Locations
END:VEVENT
BEGIN:VEVENT
DTSTAMP:20260423T160255Z
UID:e32fa513-0728-44d2-8af3-66a89a6831f4
DTSTART;VALUE=DATE:20260629
DTEND;VALUE=DATE:20260703
DESCRIPTION:
LOCATION:
SUMMARY:Summer Break Camp | 10 Locations
END:VEVENT
BEGIN:VEVENT
DTSTAMP:20260423T160255Z
UID:ada86409-a54a-4fa3-98c0-3072c5ddb894
DTSTART;VALUE=DATE:20260703
DTEND;VALUE=DATE:20260704
DESCRIPTION:
LOCATION:
SUMMARY:Programs Closed | July 3
END:VEVENT
BEGIN:VEVENT
DTSTAMP:20260423T160255Z
UID:1ae7cc3e-53da-4d45-944e-e334c7afbcaa
DTSTART;VALUE=DATE:20260706
DTEND;VALUE=DATE:20260711
DESCRIPTION:
LOCATION:
SUMMARY:Summer Break Camp | 10 Locations
END:VEVENT
BEGIN:VEVENT
DTSTAMP:20260423T160255Z
UID:f02f19b9-8991-47cd-b581-971ec326ce08
DTSTART;VALUE=DATE:20260713
DTEND;VALUE=DATE:20260718
DESCRIPTION:
LOCATION:
SUMMARY:Programs Closed | July 13 – 17
END:VEVENT
BEGIN:VEVENT
DTSTAMP:20260423T160255Z
UID:39de656d-c72a-434a-96d9-49e02dc2a4fb
DTSTART;VALUE=DATE:20260720
DTEND;VALUE=DATE:20260721
DESCRIPTION:
LOCATION:
SUMMARY:First Day of School | July 20
END:VEVENT
BEGIN:VEVENT
DTSTAMP:20260423T160255Z
UID:e1d39193-642e-483f-91c3-59bbfbe51fbc
DTSTART;VALUE=DATE:20260803
DTEND;VALUE=DATE:20260804
DESCRIPTION:
LOCATION:
SUMMARY:Programs Closed | Aug. 3
END:VEVENT
BEGIN:VEVENT
DTSTAMP:20260423T160255Z
UID:d9e4c45f-eb8d-47be-bc39-1bcb4317d45d
DTSTART:20260826T173000
DTEND:20260826T183000
DESCRIPTION:
LOCATION:
SUMMARY:Half Day | Aug. 26
END:VEVENT
BEGIN:VEVENT
DTSTAMP:20260423T160255Z
UID:a1a5d663-8f27-4e53-a08e-f1b60ed86b70
DTSTART;VALUE=DATE:20260907
DTEND;VALUE=DATE:20260908
DESCRIPTION:
LOCATION:
SUMMARY:Programs Closed | Sept. 7
END:VEVENT
BEGIN:VEVENT
DTSTAMP:20260423T160255Z
UID:abdbe753-44a6-48f6-997e-10df3b784b8d
DTSTART;VALUE=DATE:20260917
DTEND;VALUE=DATE:20260919
DESCRIPTION:
LOCATION:
SUMMARY:Half Days | Sept. 17 & 18
END:VEVENT
BEGIN:VEVENT
DTSTAMP:20260423T160255Z
UID:a3c6a37e-7fc7-4d7b-b8c8-86e71a655daa
DTSTART;VALUE=DATE:20260928
DTEND;VALUE=DATE:20260929
DESCRIPTION:
LOCATION:
SUMMARY:Programs Closed | Sept. 28
END:VEVENT
BEGIN:VEVENT
DTSTAMP:20260423T160255Z
UID:f6bfc303-44eb-4316-97fb-541d2920b062
DTSTART;VALUE=DATE:20260929
DTEND;VALUE=DATE:20261003
DESCRIPTION:
LOCATION:
SUMMARY:Fall Break Camps | 10 Locations
END:VEVENT
BEGIN:VEVENT
DTSTAMP:20260423T160255Z
UID:a57d8b03-5aeb-4a20-92bb-fa2629c03e22
DTSTART;VALUE=DATE:20261005
DTEND;VALUE=DATE:20261010
DESCRIPTION:
LOCATION:
SUMMARY:Fall Break Camps | 10 Locations
END:VEVENT
BEGIN:VEVENT
DTSTAMP:20260423T160255Z
UID:0c8dc982-5efa-43d0-b2c5-06c643997142
DTSTART;VALUE=DATE:20261012
DTEND;VALUE=DATE:20261017
DESCRIPTION:
LOCATION:
SUMMARY:Fall Break Camps | 10 Locations
END:VEVENT
BEGIN:VEVENT
DTSTAMP:20260423T160255Z
UID:3bcfaa9c-6b96-4455-bb13-264d268e2f23
DTSTART;VALUE=DATE:20261028
DTEND;VALUE=DATE:20261029
DESCRIPTION:
LOCATION:
SUMMARY:Half Day | Oct. 28
END:VEVENT
BEGIN:VEVENT
DTSTAMP:20260423T160255Z
UID:cf09f1ce-ace6-48bb-aaba-db4f663fde83
DTSTART;VALUE=DATE:20261111
DTEND;VALUE=DATE:20261112
DESCRIPTION:
LOCATION:
SUMMARY:Programs Closed | Nov. 11
END:VEVENT
BEGIN:VEVENT
DTSTAMP:20260423T160255Z
UID:f387741b-cbb3-491a-a3b3-26341d35872c
DTSTART;VALUE=DATE:20261118
DTEND;VALUE=DATE:20261119
DESCRIPTION:
LOCATION:
SUMMARY:Half Day | Nov. 18
END:VEVENT
BEGIN:VEVENT
DTSTAMP:20260423T160255Z
UID:238fa28a-53c0-45ce-88bc-be0f84bc8b04
DTSTART;VALUE=DATE:20261125
DTEND;VALUE=DATE:20261128
DESCRIPTION:
LOCATION:
SUMMARY:Programs Closed | Nov. 25 – 27
END:VEVENT
BEGIN:VEVENT
DTSTAMP:20260423T160255Z
UID:48f6a7fb-4705-4a0b-ac30-e138583c6ce0
DTSTART;VALUE=DATE:20261218
DTEND;VALUE=DATE:20261219
DESCRIPTION:
LOCATION:
SUMMARY:Half Day | Dec. 18
END:VEVENT
BEGIN:VEVENT
DTSTAMP:20260423T160255Z
UID:80eeed10-9656-42f7-aa78-b3d1ebbcb12e
DTSTART;VALUE=DATE:20261221
DTEND;VALUE=DATE:20261226
DESCRIPTION:
LOCATION:
SUMMARY:Programs Closed | Winter Break
END:VEVENT
BEGIN:VEVENT
DTSTAMP:20260423T160255Z
UID:c06c2248-2c1f-4594-9985-f74eb24accd1
DTSTART;VALUE=DATE:20261228
DTEND;VALUE=DATE:20270102
DESCRIPTION:
LOCATION:
SUMMARY:Programs Closed | Winter Break
END:VEVENT
BEGIN:VEVENT
DTSTAMP:20260423T160255Z
UID:c0117f2e-4bc7-48c1-b02c-e2873fd89ca1
DTSTART;VALUE=DATE:20270118
DTEND;VALUE=DATE:20270119
DESCRIPTION:
LOCATION:
SUMMARY:Programs Closed | Jan. 18
END:VEVENT
BEGIN:VEVENT
DTSTAMP:20260423T160255Z
UID:e9c80073-0f08-4c28-962e-030a1d3431ae
DTSTART;VALUE=DATE:20270127
DTEND;VALUE=DATE:20270128
DESCRIPTION:
LOCATION:
SUMMARY:Half Day | Jan. 27
END:VEVENT
BEGIN:VEVENT
DTSTAMP:20260423T160255Z
UID:378bbc85-a9ec-4497-bb3a-52f5aff77997
DTSTART;VALUE=DATE:20270211
DTEND;VALUE=DATE:20270213
DESCRIPTION:
LOCATION:
SUMMARY:Half Days | Feb. 11 & 12
END:VEVENT
BEGIN:VEVENT
DTSTAMP:20260423T160255Z
UID:8f094bb6-4102-4cc2-91af-c72dc5318829
DTSTART;VALUE=DATE:20270219
DTEND;VALUE=DATE:20270220
DESCRIPTION:
LOCATION:
SUMMARY:Programs Closed | Feb. 19
END:VEVENT
BEGIN:VEVENT
DTSTAMP:20260423T160255Z
UID:c9ecddaf-fe97-4a2e-abae-4f7164821fa7
DTSTART;VALUE=DATE:20270225
DTEND;VALUE=DATE:20270227
DESCRIPTION:
LOCATION:
SUMMARY:Programs Closed | Feb. 25 & 26
END:VEVENT
BEGIN:VEVENT
DTSTAMP:20260423T160255Z
UID:812d109e-483e-4ef5-a927-ef30ecd7065e
DTSTART;VALUE=DATE:20270315
DTEND;VALUE=DATE:20270316
DESCRIPTION:
LOCATION:
SUMMARY:Programs Closed | March 15
END:VEVENT
BEGIN:VEVENT
DTSTAMP:20260423T160255Z
UID:d18d36f6-47a8-4d10-943e-17bfe1715f4a
DTSTART;VALUE=DATE:20270316
DTEND;VALUE=DATE:20270320
DESCRIPTION:
LOCATION:
SUMMARY:Spring Break Camp | 10 Locations
END:VEVENT
BEGIN:VEVENT
DTSTAMP:20260423T160255Z
UID:a58584cf-c06c-4ee6-92a7-03db2db06002
DTSTART;VALUE=DATE:20270322
DTEND;VALUE=DATE:20270326
DESCRIPTION:
LOCATION:
SUMMARY:Spring Break Camp | 10 Locations
END:VEVENT
BEGIN:VEVENT
DTSTAMP:20260423T160255Z
UID:0cfa99d9-11c0-4ec6-85e6-fcaa066e3cf0
DTSTART;VALUE=DATE:20270326
DTEND;VALUE=DATE:20270327
DESCRIPTION:
LOCATION:
SUMMARY:Programs Closed | March 26
END:VEVENT
BEGIN:VEVENT
DTSTAMP:20260423T160255Z
UID:1e9267a9-8dfd-4036-986a-2f7ea628eed2
DTSTART;VALUE=DATE:20270527
DTEND;VALUE=DATE:20270528
DESCRIPTION:
LOCATION:
SUMMARY:Half Day / Last Day of School | May 27
END:VEVENT
BEGIN:VEVENT
DTSTAMP:20260423T160255Z
UID:dea2bc2c-2d7d-4279-8b4a-63743e5c2bec
DTSTART;VALUE=DATE:20270528
DTEND;VALUE=DATE:20270529
DESCRIPTION:
LOCATION:
SUMMARY:Programs Closed | May 28
END:VEVENT
BEGIN:VEVENT
DTSTAMP:20260423T160255Z
UID:53f27def-6551-403d-841a-57b48838a5b4
DTSTART;VALUE=DATE:20270531
DTEND;VALUE=DATE:20270605
DESCRIPTION:
LOCATION:
SUMMARY:Programs Closed | May 31 – June 4
END:VEVENT
BEGIN:VEVENT
DTSTAMP:20260423T160255Z
UID:93c2fae1-01ec-4205-9f93-f52299e94f03
DTSTART;VALUE=DATE:20270607
DTEND;VALUE=DATE:20270612
DESCRIPTION:
LOCATION:
SUMMARY:Summer Break Camp | 10 Locations
END:VEVENT
BEGIN:VEVENT
DTSTAMP:20260423T160255Z
UID:669c89d5-b6de-4da0-8d50-55e7f1515556
DTSTART;VALUE=DATE:20270614
DTEND;VALUE=DATE:20270619
DESCRIPTION:
LOCATION:
SUMMARY:Summer Break Camp | 10 Locations
END:VEVENT
BEGIN:VEVENT
DTSTAMP:20260423T160255Z
UID:a33c1338-bacc-4551-9be5-fcf616b09731
DTSTART;VALUE=DATE:20270621
DTEND;VALUE=DATE:20270626
DESCRIPTION:
LOCATION:
SUMMARY:Summer Break Camp | 10 Locations
END:VEVENT
BEGIN:VEVENT
DTSTAMP:20260423T160255Z
UID:42fd5b6c-11ae-4d42-8885-f926f19bbd72
DTSTART;VALUE=DATE:20270628
DTEND;VALUE=DATE:20270703
DESCRIPTION:
LOCATION:
SUMMARY:Summer Break Camp | 10 Locations
END:VEVENT
END:VCALENDAR
