BEGIN:VCALENDAR
VERSION:2.0
PRODID:icalendar-ruby
CALSCALE:GREGORIAN
BEGIN:VTIMEZONE
TZID:America/Phoenix
BEGIN:STANDARD
DTSTART:19671029T010000
TZOFFSETFROM:-0600
TZOFFSETTO:-0700
TZNAME:MST
END:STANDARD
END:VTIMEZONE
BEGIN:VEVENT
DTSTAMP:20260424T164441Z
UID:b5040167-a528-4638-b8a3-de3e7718cd85
DTSTART;VALUE=DATE:20260424
DTEND;VALUE=DATE:20260502
DESCRIPTION:
LOCATION:
SUMMARY:PTSA Book Fair! 4/24-5/1
END:VEVENT
BEGIN:VEVENT
DTSTAMP:20260424T164441Z
UID:7b06779f-62c8-434c-91f8-b24f598705b3
DTSTART:20260424T170000
DTEND:20260424T190000
DESCRIPTION:
LOCATION:
SUMMARY:Family Sports Night!
END:VEVENT
BEGIN:VEVENT
DTSTAMP:20260424T164441Z
UID:16c723db-d34b-42fb-ba29-aa543d435982
DTSTART:20260427T141500
DTEND:20260427T151500
DESCRIPTION:
LOCATION:
SUMMARY:Drama Club-Room 302
END:VEVENT
BEGIN:VEVENT
DTSTAMP:20260424T164441Z
UID:cb9226b7-a5e6-4d49-9e3e-b9b4d5285440
DTSTART:20260427T143000
DTEND:20260427T153000
DESCRIPTION:
LOCATION:
SUMMARY:Choir- DWE
END:VEVENT
BEGIN:VEVENT
DTSTAMP:20260424T164441Z
UID:c1e5f8dc-b45b-4669-98c6-f824c990253a
DTSTART:20260428T141500
DTEND:20260428T151500
DESCRIPTION:
LOCATION:
SUMMARY:2nd Grade Study Shack- Room 408
END:VEVENT
BEGIN:VEVENT
DTSTAMP:20260424T164441Z
UID:96d64a1f-e45f-4164-935f-bcdcf8cccb4f
DTSTART:20260428T141500
DTEND:20260428T151500
DESCRIPTION:
LOCATION:
SUMMARY:3rd Grade Study Shack-Room 402
END:VEVENT
BEGIN:VEVENT
DTSTAMP:20260424T164441Z
UID:6e037a64-8b45-4c01-9b5a-d68947e29fc5
DTSTART:20260428T141500
DTEND:20260428T151500
DESCRIPTION:
LOCATION:
SUMMARY:Explorer's Club (Group B)- Room 409
END:VEVENT
BEGIN:VEVENT
DTSTAMP:20260424T164441Z
UID:a3dd3c79-27b9-4b80-b629-194cdc52168d
DTSTART:20260428T141500
DTEND:20260428T151500
DESCRIPTION:
LOCATION:
SUMMARY:Hoop Heroes (1st-5th Grade)- Room 406
END:VEVENT
BEGIN:VEVENT
DTSTAMP:20260424T164441Z
UID:6c526673-00e9-4fef-aaa7-aab91d2b8e8e
DTSTART:20260428T141500
DTEND:20260428T151500
DESCRIPTION:
LOCATION:
SUMMARY:Spanish Club- Room 506
END:VEVENT
BEGIN:VEVENT
DTSTAMP:20260424T164441Z
UID:cb365c83-3fef-424d-b979-dd7dee35cbf1
DTSTART:20260429T141500
DTEND:20260429T151500
DESCRIPTION:
LOCATION:
SUMMARY:Band 2 Practice- Music Room
END:VEVENT
BEGIN:VEVENT
DTSTAMP:20260424T164441Z
UID:7edf66da-eac8-405d-9ef3-d71cf0f5d068
DTSTART:20260429T141500
DTEND:20260429T151500
DESCRIPTION:
LOCATION:
SUMMARY:Hoop Heroes (4th-5th grade)-Room 406 
END:VEVENT
BEGIN:VEVENT
DTSTAMP:20260424T164441Z
UID:59e6023f-6bfc-4361-b626-a2df1b651cf4
DTSTART:20260429T141500
DTEND:20260429T151500
DESCRIPTION:
LOCATION:
SUMMARY:Kindness Club-Room 306
END:VEVENT
BEGIN:VEVENT
DTSTAMP:20260424T164441Z
UID:3187409c-f077-42f1-a21e-ee2cfd1181cd
DTSTART:20260501T141500
DTEND:20260501T151500
DESCRIPTION:
LOCATION:
SUMMARY:NEHS- Room 306
END:VEVENT
BEGIN:VEVENT
DTSTAMP:20260424T164441Z
UID:7461a6d2-d73d-46a5-a8f2-86ff9bb5dd14
DTSTART:20260503T140000
DTEND:20260503T150000
DESCRIPTION:
LOCATION:
SUMMARY:Music Recital-Music Room/MPR
END:VEVENT
BEGIN:VEVENT
DTSTAMP:20260424T164441Z
UID:917f063f-9218-4803-81c9-d1cb784e2605
DTSTART:20260503T170000
DTEND:20260503T180000
DESCRIPTION:
LOCATION:
SUMMARY:Music Recital-Music Room/MPR
END:VEVENT
BEGIN:VEVENT
DTSTAMP:20260424T164441Z
UID:4de9f08a-a911-4ad3-847a-a537d59211fc
DTSTART;VALUE=DATE:20260504
DTEND;VALUE=DATE:20260509
DESCRIPTION:
LOCATION:
SUMMARY:Staff Appreciation Week! 5/4-5/8
END:VEVENT
BEGIN:VEVENT
DTSTAMP:20260424T164441Z
UID:26a30733-2e6f-4126-82ac-2d6ca44669fd
DTSTART:20260504T141500
DTEND:20260504T151500
DESCRIPTION:
LOCATION:
SUMMARY:Drama Club-Room 302
END:VEVENT
BEGIN:VEVENT
DTSTAMP:20260424T164441Z
UID:6171c61e-d76e-4bc4-9f0b-d1aedaa52a0b
DTSTART:20260504T143000
DTEND:20260504T153000
DESCRIPTION:
LOCATION:
SUMMARY:Choir- DWE
END:VEVENT
BEGIN:VEVENT
DTSTAMP:20260424T164441Z
UID:38eb5df0-b234-4f52-9459-69429820e164
DTSTART:20260505T141500
DTEND:20260505T151500
DESCRIPTION:
LOCATION:
SUMMARY:Explorer's Club (Group A)- Room 409
END:VEVENT
BEGIN:VEVENT
DTSTAMP:20260424T164441Z
UID:c220b3d2-403d-457a-8a94-ed389c0260e1
DTSTART:20260505T141500
DTEND:20260505T151500
DESCRIPTION:
LOCATION:
SUMMARY:Hoop Heroes (1st-5th Grade)- Room 406
END:VEVENT
BEGIN:VEVENT
DTSTAMP:20260424T164441Z
UID:8d8fb764-a42e-409b-8b21-774def3a4a20
DTSTART:20260505T141500
DTEND:20260505T151500
DESCRIPTION:
LOCATION:
SUMMARY:Spanish Club- Room 506
END:VEVENT
BEGIN:VEVENT
DTSTAMP:20260424T164441Z
UID:53b76c66-03cf-4566-8cc0-d234fc560ae5
DTSTART:20260506T141500
DTEND:20260506T151500
DESCRIPTION:
LOCATION:
SUMMARY:Board Game Club-Room 403
END:VEVENT
BEGIN:VEVENT
DTSTAMP:20260424T164441Z
UID:683db664-3549-4fd9-941c-81595179bf57
DTSTART:20260506T141500
DTEND:20260506T151500
DESCRIPTION:
LOCATION:
SUMMARY:Hoop Heroes (4th-5th grade)-Room 406 
END:VEVENT
BEGIN:VEVENT
DTSTAMP:20260424T164441Z
UID:5ad2a83f-191b-4afa-a540-70565d3729d0
DTSTART:20260506T141500
DTEND:20260506T151500
DESCRIPTION:
LOCATION:
SUMMARY: Readers & Eaters- Room 408
END:VEVENT
BEGIN:VEVENT
DTSTAMP:20260424T164441Z
UID:98f0521b-d5de-44ec-bd87-5edf2a7279eb
DTSTART:20260508T141500
DTEND:20260508T151500
DESCRIPTION:
LOCATION:
SUMMARY:Student Leadership- Room 407
END:VEVENT
BEGIN:VEVENT
DTSTAMP:20260424T164441Z
UID:2e0590f6-2c56-4d85-94bc-58ab665f6f23
DTSTART:20260512T141500
DTEND:20260512T151500
DESCRIPTION:
LOCATION:
SUMMARY:Explorer's Club (Group A&B)- Room 409
END:VEVENT
BEGIN:VEVENT
DTSTAMP:20260424T164441Z
UID:3b0ee07e-9a9c-4086-b5cb-aec9d04a30b4
DTSTART:20260512T141500
DTEND:20260512T151500
DESCRIPTION:
LOCATION:
SUMMARY:Hoop Heroes (1st-5th Grade)- Room 406
END:VEVENT
BEGIN:VEVENT
DTSTAMP:20260424T164441Z
UID:f2010626-9237-4858-9811-de4613669ce8
DTSTART:20260513T141500
DTEND:20260513T151500
DESCRIPTION:
LOCATION:
SUMMARY:Hoop Heroes (4th-5th grade)-Room 406 
END:VEVENT
BEGIN:VEVENT
DTSTAMP:20260424T164441Z
UID:983e0038-90fe-4eec-b929-fa60f20b30cb
DTSTART:20260513T141500
DTEND:20260513T153000
DESCRIPTION:
LOCATION:
SUMMARY:PTSA Meeting- Library
END:VEVENT
BEGIN:VEVENT
DTSTAMP:20260424T164441Z
UID:33686ba4-864d-4561-87fc-89710d81a244
DTSTART;VALUE=DATE:20260521
DTEND;VALUE=DATE:20260522
DESCRIPTION:
LOCATION:
SUMMARY:Last Blast!
END:VEVENT
BEGIN:VEVENT
DTSTAMP:20260424T164441Z
UID:27a6d530-48a4-43f8-b287-b23b0659855a
DTSTART;VALUE=DATE:20260522
DTEND;VALUE=DATE:20260523
DESCRIPTION:
LOCATION:
SUMMARY:Last Day of School\; 1/2 day for students
END:VEVENT
END:VCALENDAR
