BEGIN:VCALENDAR
VERSION:2.0
PRODID:icalendar-ruby
CALSCALE:GREGORIAN
BEGIN:VTIMEZONE
TZID:America/Chicago
BEGIN:DAYLIGHT
DTSTART:20260308T030000
TZOFFSETFROM:-0600
TZOFFSETTO:-0500
RRULE:FREQ=YEARLY;BYDAY=2SU;BYMONTH=3
TZNAME:CDT
END:DAYLIGHT
BEGIN:STANDARD
DTSTART:20261101T010000
TZOFFSETFROM:-0500
TZOFFSETTO:-0600
RRULE:FREQ=YEARLY;BYDAY=1SU;BYMONTH=11
TZNAME:CST
END:STANDARD
END:VTIMEZONE
BEGIN:VEVENT
DTSTAMP:20260421T100951Z
UID:ece1e576-3c84-4321-a89d-a25f1c88918b
DTSTART:20260421T163000
DTEND:20260421T173000
DESCRIPTION:
LOCATION:
SUMMARY:BB at Dover
END:VEVENT
BEGIN:VEVENT
DTSTAMP:20260421T100951Z
UID:5159858b-da3c-40d9-8bbc-66fb1eb9afcb
DTSTART:20260421T163000
DTEND:20260421T173000
DESCRIPTION:
LOCATION:
SUMMARY:SB at Elkins
END:VEVENT
BEGIN:VEVENT
DTSTAMP:20260421T100951Z
UID:9b3b626f-4c8a-43d9-910e-67925ac33750
DTSTART:20260423T163000
DTEND:20260423T173000
DESCRIPTION:
LOCATION:
SUMMARY:SB/BB vs Cedarville
END:VEVENT
BEGIN:VEVENT
DTSTAMP:20260421T100951Z
UID:9c7cfdc5-fb7f-485c-8c5e-128bedf706b7
DTSTART:20260424T163000
DTEND:20260424T173000
DESCRIPTION:
LOCATION:
SUMMARY:BB vs Scranton
END:VEVENT
BEGIN:VEVENT
DTSTAMP:20260421T100951Z
UID:fd4e5414-5d95-4a5a-9842-34e9d1b22faf
DTSTART;VALUE=DATE:20260427
DTEND;VALUE=DATE:20260428
DESCRIPTION:
LOCATION:
SUMMARY:SB/BB Districts
END:VEVENT
BEGIN:VEVENT
DTSTAMP:20260421T100951Z
UID:08feef58-76b1-4ce7-90ef-7067a1f010fd
DTSTART;VALUE=DATE:20260507
DTEND;VALUE=DATE:20260508
DESCRIPTION:
LOCATION:
SUMMARY:SB/BB Regionals
END:VEVENT
BEGIN:VEVENT
DTSTAMP:20260421T100951Z
UID:66a2f4a0-3bb8-41af-9a88-eac076f1795c
DTSTART;VALUE=DATE:20260514
DTEND;VALUE=DATE:20260515
DESCRIPTION:
LOCATION:
SUMMARY:SB/BB State
END:VEVENT
END:VCALENDAR
