BEGIN:VCALENDAR
VERSION:2.0
PRODID:icalendar-ruby
CALSCALE:GREGORIAN
BEGIN:VTIMEZONE
TZID:America/Phoenix
BEGIN:STANDARD
DTSTART:19671029T010000
TZOFFSETFROM:-0600
TZOFFSETTO:-0700
TZNAME:MST
END:STANDARD
END:VTIMEZONE
BEGIN:VEVENT
DTSTAMP:20260422T223359Z
UID:6b6e58e0-0598-4e60-b1e0-c3004612caf9
DTSTART:20260424T130000
DTEND:20260424T140000
DESCRIPTION:
LOCATION:
SUMMARY:3rd Gr. ELA Family Event
END:VEVENT
BEGIN:VEVENT
DTSTAMP:20260422T223359Z
UID:edcc716f-3f16-4465-9978-0537b7215ae5
DTSTART:20260430T134500
DTEND:20260430T143000
DESCRIPTION:
LOCATION:MPR
SUMMARY:Band and Orchestra Assembly 3-6 Gr
END:VEVENT
BEGIN:VEVENT
DTSTAMP:20260422T223359Z
UID:b636c419-6f59-40d4-a7b8-77294427de38
DTSTART;VALUE=DATE:20260501
DTEND;VALUE=DATE:20260502
DESCRIPTION:
LOCATION:
SUMMARY:School Principals Day
END:VEVENT
BEGIN:VEVENT
DTSTAMP:20260422T223359Z
UID:d1549e60-3709-4504-abe6-c0c5c8e21b40
DTSTART:20260501T130000
DTEND:20260501T140000
DESCRIPTION:
LOCATION:
SUMMARY:5th Gr Pajama Read-In
END:VEVENT
BEGIN:VEVENT
DTSTAMP:20260422T223359Z
UID:b0d7b60d-d1b6-4682-826b-b6eecb300f12
DTSTART;VALUE=DATE:20260504
DTEND;VALUE=DATE:20260509
DESCRIPTION:
LOCATION:
SUMMARY:Teacher Appreciation Week
END:VEVENT
BEGIN:VEVENT
DTSTAMP:20260422T223359Z
UID:a4a437e2-fb09-4e80-8d77-afda5e465339
DTSTART:20260504T183000
DTEND:20260504T190000
DESCRIPTION:
LOCATION:MPR
SUMMARY:Orchestra Concert 4-6 Gr
END:VEVENT
BEGIN:VEVENT
DTSTAMP:20260422T223359Z
UID:109911d6-210b-4fab-9915-397775a69a40
DTSTART;VALUE=DATE:20260506
DTEND;VALUE=DATE:20260507
DESCRIPTION:
LOCATION:
SUMMARY:School Nurse Day
END:VEVENT
BEGIN:VEVENT
DTSTAMP:20260422T223359Z
UID:ef125b97-0203-46f2-b3f6-be9282af285f
DTSTART:20260514T093000
DTEND:20260514T123000
DESCRIPTION:
LOCATION:
SUMMARY:6th grade Step-up Taylor
END:VEVENT
BEGIN:VEVENT
DTSTAMP:20260422T223359Z
UID:e86c9667-7c6e-49cf-8afe-a2f12b7afc00
DTSTART:20260514T151500
DTEND:20260514T160000
DESCRIPTION:
LOCATION:
SUMMARY:PTO Meeting
END:VEVENT
BEGIN:VEVENT
DTSTAMP:20260422T223359Z
UID:b1a20e65-8219-405e-8e0e-32827be80eb6
DTSTART:20260518T091500
DTEND:20260518T104500
DESCRIPTION:
LOCATION:
SUMMARY:Brimhall Pool Day K-3
END:VEVENT
BEGIN:VEVENT
DTSTAMP:20260422T223359Z
UID:00b4744c-e1b7-4ca1-a548-58319d2063bd
DTSTART:20260518T110000
DTEND:20260518T130000
DESCRIPTION:
LOCATION:
SUMMARY:Brimhall Pool Day 4-6
END:VEVENT
BEGIN:VEVENT
DTSTAMP:20260422T223359Z
UID:578e158d-fad8-4c35-9178-c5bee8b928c8
DTSTART:20260520T093000
DTEND:20260520T103000
DESCRIPTION:
LOCATION:
SUMMARY:6th gr vs staff Basketball Game
END:VEVENT
BEGIN:VEVENT
DTSTAMP:20260422T223359Z
UID:0ada4809-cf6c-4ccf-8a7b-31bcb8578269
DTSTART;VALUE=DATE:20260521
DTEND;VALUE=DATE:20260522
DESCRIPTION:
LOCATION:
SUMMARY:Last Day of School - End of 4th Quarter - Early Release
END:VEVENT
END:VCALENDAR
