BEGIN:VCALENDAR
VERSION:2.0
PRODID:icalendar-ruby
CALSCALE:GREGORIAN
BEGIN:VTIMEZONE
TZID:America/Phoenix
BEGIN:STANDARD
DTSTART:19671029T010000
TZOFFSETFROM:-0600
TZOFFSETTO:-0700
TZNAME:MST
END:STANDARD
END:VTIMEZONE
BEGIN:VEVENT
DTSTAMP:20260422T224552Z
UID:533c7996-b644-400d-8b06-6c93e353033b
DTSTART:20260422T173000
DTEND:20260422T180000
DESCRIPTION:
LOCATION:
SUMMARY:Orchestra Concert in MPR
END:VEVENT
BEGIN:VEVENT
DTSTAMP:20260422T224552Z
UID:f0b85716-426c-4126-ada4-b84ac9a3accd
DTSTART:20260423T080000
DTEND:20260423T083000
DESCRIPTION:
LOCATION:
SUMMARY:Flag Raising Ceremony
END:VEVENT
BEGIN:VEVENT
DTSTAMP:20260422T224552Z
UID:01ef2bba-2163-4c95-bb61-6b60c0c504e3
DTSTART:20260430T080000
DTEND:20260430T090000
DESCRIPTION:
LOCATION:
SUMMARY:SSEP Mission 21 Patch Reveal Ceremony
END:VEVENT
BEGIN:VEVENT
DTSTAMP:20260422T224552Z
UID:ce0e9eca-57c0-41be-bd15-b86bbefa5005
DTSTART:20260505T173000
DTEND:20260505T183000
DESCRIPTION:Added 6/2/25 Ve
LOCATION:
SUMMARY:Band Concert 
END:VEVENT
BEGIN:VEVENT
DTSTAMP:20260422T224552Z
UID:46083a8c-5338-4888-94d1-c5738b9dfde1
DTSTART:20260507T084000
DTEND:20260507T091000
DESCRIPTION:
LOCATION:
SUMMARY:RMHS Grad Walk at Salk
END:VEVENT
BEGIN:VEVENT
DTSTAMP:20260422T224552Z
UID:1d1c7227-28d7-4328-b3a5-b4725fbbcc65
DTSTART;VALUE=DATE:20260518
DTEND;VALUE=DATE:20260519
DESCRIPTION:
LOCATION:
SUMMARY:Spirit Day - Crazy Everything Day
END:VEVENT
BEGIN:VEVENT
DTSTAMP:20260422T224552Z
UID:0b596413-be07-431e-a571-0851012c821e
DTSTART:20260519T124500
DTEND:20260519T134500
DESCRIPTION:
LOCATION:
SUMMARY:6th Grade Promotion
END:VEVENT
BEGIN:VEVENT
DTSTAMP:20260422T224552Z
UID:042d9ed2-af7a-4d15-999a-763815b3ba39
DTSTART:20260521T113000
DTEND:20260521T120000
DESCRIPTION:
LOCATION:
SUMMARY:Last day of School - 12:00 release
END:VEVENT
END:VCALENDAR
