BEGIN:VCALENDAR
VERSION:2.0
PRODID:icalendar-ruby
CALSCALE:GREGORIAN
BEGIN:VTIMEZONE
TZID:America/Phoenix
BEGIN:STANDARD
DTSTART:19671029T010000
TZOFFSETFROM:-0600
TZOFFSETTO:-0700
TZNAME:MST
END:STANDARD
END:VTIMEZONE
BEGIN:VEVENT
DTSTAMP:20260419T125456Z
UID:5289c732-2885-4fca-ba6a-043ab2b1e956
DTSTART:20260421T093000
DTEND:20260421T133000
DESCRIPTION:
LOCATION:
SUMMARY:Rise/Soar & Preschool Field Trip to Phx Zoo
END:VEVENT
BEGIN:VEVENT
DTSTAMP:20260419T125456Z
UID:bda604ec-8e5e-46f0-977f-5d2d94f2ad34
DTSTART;VALUE=DATE:20260422
DTEND;VALUE=DATE:20260425
DESCRIPTION:
LOCATION:
SUMMARY:Science Camp
END:VEVENT
BEGIN:VEVENT
DTSTAMP:20260419T125456Z
UID:bc434e7e-311d-4fa0-b171-4afb38f992e9
DTSTART:20260423T104500
DTEND:20260423T133000
DESCRIPTION:
LOCATION:
SUMMARY:2nd Gr. Field Trip to Valley Youth Theatre
END:VEVENT
BEGIN:VEVENT
DTSTAMP:20260419T125456Z
UID:7f8e280f-e711-478e-95a9-39e11e432d1f
DTSTART:20260423T150000
DTEND:20260423T200000
DESCRIPTION:<a href="https://www.google.com/url?q=https://drive.google.com/
 file/d/1dNBOMRSFI91mTkoAin1O1g9VTolCsfGb/view?usp%3Dsharing&amp\;sa=D&amp\
 ;source=calendar&amp\;ust=1776965937762904&amp\;usg=AOvVaw0CwWT3UA7xGwKabk
 JusA1p" target="_blank">Bruster&#39\;s Ice Cream Flyer</a>
LOCATION:50 E Warner Rd\, Chandler\, AZ 85225\, USA
SUMMARY:PTO Family Night Out - Bruster's Ice Cream
END:VEVENT
BEGIN:VEVENT
DTSTAMP:20260419T125456Z
UID:0c27859d-59dd-4933-825b-ec812503431a
DTSTART:20260424T131500
DTEND:20260424T140000
DESCRIPTION:
LOCATION:Media Center
SUMMARY:Rm  5 Poetry Fair
END:VEVENT
BEGIN:VEVENT
DTSTAMP:20260419T125456Z
UID:cc81597e-ac7b-4f3d-b863-c9f50140f2b8
DTSTART:20260428T141500
DTEND:20260428T150000
DESCRIPTION:
LOCATION:Media Ctr
SUMMARY:Student Council Mtg - All Members
END:VEVENT
BEGIN:VEVENT
DTSTAMP:20260419T125456Z
UID:268446ff-39d5-44d8-acdd-08f0ab4793c5
DTSTART;VALUE=DATE:20260501
DTEND;VALUE=DATE:20260502
DESCRIPTION:
LOCATION:
SUMMARY:Countdown to Summer:  School Spirit Day - wear blue\, yellow or a C
 rismon shirt
END:VEVENT
BEGIN:VEVENT
DTSTAMP:20260419T125456Z
UID:e89c30c2-535c-4217-a21f-61aa972d0c87
DTSTART:20260501T140000
DTEND:20260501T160000
DESCRIPTION:
LOCATION:
SUMMARY:Student Council Movie Day
END:VEVENT
BEGIN:VEVENT
DTSTAMP:20260419T125456Z
UID:33deb185-e07b-4185-bfeb-4c09c41e2211
DTSTART;VALUE=DATE:20260504
DTEND;VALUE=DATE:20260505
DESCRIPTION:
LOCATION:
SUMMARY:Countdown to Summer:  Star Wars Day - May the Fourth Be With You (n
 o face masks or weapons)
END:VEVENT
BEGIN:VEVENT
DTSTAMP:20260419T125456Z
UID:3aa4106f-4f1b-4898-a923-344b4fd8f77a
DTSTART:20260504T180000
DTEND:20260504T190000
DESCRIPTION:
LOCATION:Multipurpose Room
SUMMARY:Orchestra Concert (call time 5:30pm)
END:VEVENT
BEGIN:VEVENT
DTSTAMP:20260419T125456Z
UID:f29cafe1-75dd-41d5-b2c7-1054392f49e7
DTSTART;VALUE=DATE:20260505
DTEND;VALUE=DATE:20260506
DESCRIPTION:
LOCATION:
SUMMARY:Countdown to Summer:  Cinco De Mayo - Wear Green\, Red\, or somethi
 ng Cinco De May related
END:VEVENT
BEGIN:VEVENT
DTSTAMP:20260419T125456Z
UID:0712235c-991a-4307-83ef-9d8f04ad4226
DTSTART:20260505T140000
DTEND:20260505T160000
DESCRIPTION:
LOCATION:
SUMMARY:Talent Show Auditions
END:VEVENT
BEGIN:VEVENT
DTSTAMP:20260419T125456Z
UID:a55b343d-b285-4e64-983a-1400ae59df62
DTSTART:20260505T163000
DTEND:20260505T180000
DESCRIPTION:
LOCATION:
SUMMARY:Kinder Roundup 
END:VEVENT
BEGIN:VEVENT
DTSTAMP:20260419T125456Z
UID:4aa8b0ee-fa65-4ee6-b130-a2343187de39
DTSTART:20260505T173000
DTEND:20260505T183000
DESCRIPTION:
LOCATION:Music Room
SUMMARY:PTO Meeting 
END:VEVENT
BEGIN:VEVENT
DTSTAMP:20260419T125456Z
UID:298bb864-9974-4569-b27d-ae9c36c09941
DTSTART;VALUE=DATE:20260506
DTEND;VALUE=DATE:20260507
DESCRIPTION:
LOCATION:
SUMMARY:Countdown to Summer:  College Day - Wear your favorite college shir
 t
END:VEVENT
BEGIN:VEVENT
DTSTAMP:20260419T125456Z
UID:e72b3400-ea85-406d-9e1b-ef070731c220
DTSTART;VALUE=DATE:20260507
DTEND;VALUE=DATE:20260508
DESCRIPTION:
LOCATION:
SUMMARY:Countdown to Summer:  It's a Wild\, Wild World -Wear  your favorite
  animal print
END:VEVENT
BEGIN:VEVENT
DTSTAMP:20260419T125456Z
UID:46049871-bf5a-4501-aff2-57b21295e212
DTSTART:20260507T140000
DTEND:20260507T160000
DESCRIPTION:
LOCATION:
SUMMARY:Talent Show Auditions
END:VEVENT
BEGIN:VEVENT
DTSTAMP:20260419T125456Z
UID:43ca9b3e-a8c0-45ed-aa63-52bb3863387b
DTSTART;VALUE=DATE:20260508
DTEND;VALUE=DATE:20260509
DESCRIPTION:
LOCATION:
SUMMARY:Countdown to Summer:  School Spirit Day - wear blue\, yellow or a C
 rismon shirt
END:VEVENT
BEGIN:VEVENT
DTSTAMP:20260419T125456Z
UID:03fef6b0-9ec2-408c-a5ac-c17cd6e6e51e
DTSTART;VALUE=DATE:20260511
DTEND;VALUE=DATE:20260512
DESCRIPTION:
LOCATION:
SUMMARY:Countdown to Summer:  Neon Day - Wear your brightest neon colors
END:VEVENT
BEGIN:VEVENT
DTSTAMP:20260419T125456Z
UID:3289507d-53bf-4bdc-8f8c-87b68f9a7bc8
DTSTART:20260511T180000
DTEND:20260511T190000
DESCRIPTION:
LOCATION:Multipurpose Room
SUMMARY:Band Concert (call time 5:30pm)
END:VEVENT
BEGIN:VEVENT
DTSTAMP:20260419T125456Z
UID:fb8057fd-79f0-4bbe-9b66-9768dfb1e9cb
DTSTART;VALUE=DATE:20260512
DTEND;VALUE=DATE:20260513
DESCRIPTION:
LOCATION:
SUMMARY:Countdown to Summer:  Nerd Day - Find your inner nerd and let it sh
 ine!
END:VEVENT
BEGIN:VEVENT
DTSTAMP:20260419T125456Z
UID:9606c29f-9489-45ea-ab64-4727c1f9e87b
DTSTART:20260512T140000
DTEND:20260512T160000
DESCRIPTION:
LOCATION:
SUMMARY:Talent Show Dress Rehearsals
END:VEVENT
BEGIN:VEVENT
DTSTAMP:20260419T125456Z
UID:485ae7d9-b549-48c3-a634-777303d71ea8
DTSTART:20260512T141500
DTEND:20260512T150000
DESCRIPTION:
LOCATION:Rm 25
SUMMARY:Student Council Mtg - All Members
END:VEVENT
BEGIN:VEVENT
DTSTAMP:20260419T125456Z
UID:ed0ae04f-254a-4877-bf96-fa7eea75428b
DTSTART;VALUE=DATE:20260513
DTEND;VALUE=DATE:20260514
DESCRIPTION:
LOCATION:
SUMMARY:Countdown to Summer:  College Day - Wear your favorite college shir
 t
END:VEVENT
BEGIN:VEVENT
DTSTAMP:20260419T125456Z
UID:08dc0e64-5903-4d43-bc34-983201260ce1
DTSTART:20260513T080000
DTEND:20260513T084500
DESCRIPTION:
LOCATION:Multipurpose Room
SUMMARY:POG Assemblies - Primary (Invitation Only)
END:VEVENT
BEGIN:VEVENT
DTSTAMP:20260419T125456Z
UID:e81da92f-1552-4b28-8d6c-48b5769521fd
DTSTART:20260513T090000
DTEND:20260513T094500
DESCRIPTION:
LOCATION:Multipurpose Room
SUMMARY:POG Assemblies - Intermediate (Invitation Only)
END:VEVENT
BEGIN:VEVENT
DTSTAMP:20260419T125456Z
UID:db4c3e2d-8382-4e74-967f-594779bfedb3
DTSTART;VALUE=DATE:20260514
DTEND;VALUE=DATE:20260515
DESCRIPTION:
LOCATION:
SUMMARY:Countdown to Summer:  Superhero Day - Wear your favorite superhero 
 t-shirt/dress like your favorite superhero (no face masks or weapons)
END:VEVENT
BEGIN:VEVENT
DTSTAMP:20260419T125456Z
UID:fe0146d5-1c8d-44b1-b6b0-cd5f0b83e012
DTSTART:20260514T180000
DTEND:20260514T190000
DESCRIPTION:
LOCATION:Multipurpose Room
SUMMARY:Talent Show (call time for performers is 5:30pm)
END:VEVENT
BEGIN:VEVENT
DTSTAMP:20260419T125456Z
UID:69787f40-d475-4df3-a692-31400a7acf65
DTSTART;VALUE=DATE:20260515
DTEND;VALUE=DATE:20260516
DESCRIPTION:
LOCATION:
SUMMARY:Countdown to Summer:  School Spirit Day - wear blue\, yellow or a C
 rismon shirt
END:VEVENT
BEGIN:VEVENT
DTSTAMP:20260419T125456Z
UID:8414ac5c-d77a-43bb-ab7f-533371baea41
DTSTART:20260515T160000
DTEND:20260515T200000
DESCRIPTION:
LOCATION:Baseline & McClintock 1805 E. Baseline Road Tempe 85282
SUMMARY:Peter Piper Pizza - Early Yearbook Handout
END:VEVENT
BEGIN:VEVENT
DTSTAMP:20260419T125456Z
UID:7de0e9ce-7c44-45d0-8057-4b3293612e21
DTSTART;VALUE=DATE:20260518
DTEND;VALUE=DATE:20260519
DESCRIPTION:
LOCATION:
SUMMARY:Countdown to Summer:  Favorite Holiday - wear something to represen
 t your favorite holiday
END:VEVENT
BEGIN:VEVENT
DTSTAMP:20260419T125456Z
UID:4aae038b-9a43-4eb0-b4c8-26dca14c4d62
DTSTART;VALUE=DATE:20260519
DTEND;VALUE=DATE:20260520
DESCRIPTION:
LOCATION:
SUMMARY:Countdown to Summer:  Foam Day - wear appropriate clothing
END:VEVENT
BEGIN:VEVENT
DTSTAMP:20260419T125456Z
UID:6dd9dda3-a985-4700-8036-e9b28a1a875e
DTSTART;VALUE=DATE:20260520
DTEND;VALUE=DATE:20260521
DESCRIPTION:
LOCATION:
SUMMARY:Countdown to Summer:  College Day - Wear your favorite college shir
 t
END:VEVENT
BEGIN:VEVENT
DTSTAMP:20260419T125456Z
UID:2b4d66b0-ac5b-4db8-88b3-cc79985a3442
DTSTART:20260520T080000
DTEND:20260520T093000
DESCRIPTION:
LOCATION:Multipurpose room
SUMMARY:Kinder Promotion Assembly 
END:VEVENT
BEGIN:VEVENT
DTSTAMP:20260419T125456Z
UID:28bc19c6-de4b-4788-a42f-0a094dd79d8c
DTSTART;VALUE=DATE:20260521
DTEND;VALUE=DATE:20260522
DESCRIPTION:
LOCATION:
SUMMARY:Countdown to Summer:  Tropical Thursday - wear your favorite Hawaii
 an/Beach attire (must be school appropriate)
END:VEVENT
BEGIN:VEVENT
DTSTAMP:20260419T125456Z
UID:f5c83886-8902-43ed-b336-3296349f2494
DTSTART;VALUE=DATE:20260521
DTEND;VALUE=DATE:20260522
DESCRIPTION:
LOCATION:
SUMMARY:Last Day of School - Early Release @ 12:00 noon
END:VEVENT
BEGIN:VEVENT
DTSTAMP:20260419T125456Z
UID:6316c507-c710-4fae-afad-440e20f93e1a
DTSTART:20260910T160000
DTEND:20260910T200000
DESCRIPTION:
LOCATION:
SUMMARY:Peter Piper Pizza Family Night Welcome Back
END:VEVENT
BEGIN:VEVENT
DTSTAMP:20260419T125456Z
UID:603ec509-ad13-4c5e-9456-d4285d9d7f57
DTSTART:20270521T160000
DTEND:20270521T200000
DESCRIPTION:
LOCATION:
SUMMARY:Peter Piper Pizza Family Night Out
END:VEVENT
END:VCALENDAR
