BEGIN:VCALENDAR
VERSION:2.0
PRODID:icalendar-ruby
CALSCALE:GREGORIAN
BEGIN:VTIMEZONE
TZID:America/New_York
BEGIN:DAYLIGHT
DTSTART:20260308T030000
TZOFFSETFROM:-0500
TZOFFSETTO:-0400
RRULE:FREQ=YEARLY;BYDAY=2SU;BYMONTH=3
TZNAME:EDT
END:DAYLIGHT
BEGIN:STANDARD
DTSTART:20261101T010000
TZOFFSETFROM:-0400
TZOFFSETTO:-0500
RRULE:FREQ=YEARLY;BYDAY=1SU;BYMONTH=11
TZNAME:EST
END:STANDARD
END:VTIMEZONE
BEGIN:VEVENT
DTSTAMP:20260422T183237Z
UID:daf94259-cb60-4876-ac04-52a8e1e122fe
DTSTART:20260422T180000
DTEND:20260422T200000
DESCRIPTION:Permits need to be submitted
LOCATION:
SUMMARY:PTA International Night Event
END:VEVENT
BEGIN:VEVENT
DTSTAMP:20260422T183237Z
UID:9b78ea96-5aa3-4508-afa1-d88d66e1a090
DTSTART:20260522T090000
DTEND:20260522T100000
DESCRIPTION:
LOCATION:Auditorium
SUMMARY:Kindergarten Orientation
END:VEVENT
BEGIN:VEVENT
DTSTAMP:20260422T183237Z
UID:7933ded6-921e-484e-8bae-14015c3d8280
DTSTART;VALUE=DATE:20260525
DTEND;VALUE=DATE:20260526
DESCRIPTION:
LOCATION:
SUMMARY:School & Offices Closed: Memorial Day
END:VEVENT
BEGIN:VEVENT
DTSTAMP:20260422T183237Z
UID:24e206e4-8be4-4d29-9282-e9f677a55edf
DTSTART:20260528T180000
DTEND:20260528T190000
DESCRIPTION:
LOCATION:Auditorium
SUMMARY:5th Grade Spring Concert
END:VEVENT
BEGIN:VEVENT
DTSTAMP:20260422T183237Z
UID:5c21489c-9527-4785-bfff-0b7ebda02012
DTSTART:20260615T090000
DTEND:20260615T100000
DESCRIPTION:
LOCATION:Blacktop
SUMMARY:Kindergarten Moving Up Ceremony
END:VEVENT
BEGIN:VEVENT
DTSTAMP:20260422T183237Z
UID:980daafa-41d5-4488-8372-9d80c97bf780
DTSTART:20260616T090000
DTEND:20260616T101500
DESCRIPTION:
LOCATION:Blacktop
SUMMARY:5th Grade Graduation 
END:VEVENT
BEGIN:VEVENT
DTSTAMP:20260422T183237Z
UID:671d0360-456a-41fc-950a-ef816da70b1c
DTSTART;VALUE=DATE:20260619
DTEND;VALUE=DATE:20260620
DESCRIPTION:
LOCATION:
SUMMARY:Juneteenth - School & Offices Closed
END:VEVENT
BEGIN:VEVENT
DTSTAMP:20260422T183237Z
UID:46588cde-a4cc-4754-800c-adbde613d2c9
DTSTART;VALUE=DATE:20260624
DTEND;VALUE=DATE:20260625
DESCRIPTION:<u></u>K &amp\; 1st: 10:10am<br><u></u>2nd - 5th: 10:20am
LOCATION:
SUMMARY:Early Dismissal 10:20am
END:VEVENT
BEGIN:VEVENT
DTSTAMP:20260422T183237Z
UID:1d7177ec-d5f8-4647-9615-fc40f8ed5d74
DTSTART;VALUE=DATE:20260625
DTEND;VALUE=DATE:20260626
DESCRIPTION:<u></u>K &amp\; 1st: 10:10am<br><u></u>2nd - 5th: 10:20am
LOCATION:
SUMMARY:Early Dismissal 10:20am
END:VEVENT
BEGIN:VEVENT
DTSTAMP:20260422T183237Z
UID:2490b350-a63d-41c4-8b9b-98b5848fd44d
DTSTART;VALUE=DATE:20260626
DTEND;VALUE=DATE:20260627
DESCRIPTION:<u></u>K &amp\; 1st: 10:10am<br><u></u>2nd - 5th: 10:20am
LOCATION:
SUMMARY:Early Dismissal 10:20am
END:VEVENT
END:VCALENDAR
