BEGIN:VCALENDAR
VERSION:2.0
PRODID:icalendar-ruby
CALSCALE:GREGORIAN
BEGIN:VTIMEZONE
TZID:America/New_York
BEGIN:DAYLIGHT
DTSTART:20260308T030000
TZOFFSETFROM:-0500
TZOFFSETTO:-0400
RRULE:FREQ=YEARLY;BYDAY=2SU;BYMONTH=3
TZNAME:EDT
END:DAYLIGHT
BEGIN:STANDARD
DTSTART:20261101T010000
TZOFFSETFROM:-0400
TZOFFSETTO:-0500
RRULE:FREQ=YEARLY;BYDAY=1SU;BYMONTH=11
TZNAME:EST
END:STANDARD
END:VTIMEZONE
BEGIN:VEVENT
DTSTAMP:20260425T163621Z
UID:d68ca914-3c27-4424-94b5-bfcca562b541
DTSTART:20260425T180000
DTEND:20260425T220000
DESCRIPTION:<p>For Junior and Seniors</p>
LOCATION:3854 Corbin Branch Rd\, Bridgeport\, WV 26330\, USA
SUMMARY:GHS Prom
END:VEVENT
BEGIN:VEVENT
DTSTAMP:20260425T163621Z
UID:0a03c228-ab3d-457b-b538-dad343768a08
DTSTART:20260425T233000
DTEND:20260426T040000
DESCRIPTION:<p>For Junior and Seniors</p>
LOCATION:2399 Meadowbrook Mall Rd Unit 100\, Bridgeport\, WV 26330\, USA
SUMMARY:AfterProm
END:VEVENT
BEGIN:VEVENT
DTSTAMP:20260425T163621Z
UID:e535ff8e-425e-4a9b-b24a-68a9fee5c20e
DTSTART;VALUE=DATE:20260429
DTEND;VALUE=DATE:20260430
DESCRIPTION:
LOCATION:
SUMMARY:Welding Competition
END:VEVENT
BEGIN:VEVENT
DTSTAMP:20260425T163621Z
UID:f1103c25-36f7-4a38-8914-10233d454084
DTSTART;VALUE=DATE:20260430
DTEND;VALUE=DATE:20260510
DESCRIPTION:
LOCATION:Oklahoma\, USA
SUMMARY:FFA - Oklahoma National Land Judging
END:VEVENT
BEGIN:VEVENT
DTSTAMP:20260425T163621Z
UID:4775135b-76c3-410f-bdb0-65036bbd817d
DTSTART:20260503T150000
DTEND:20260503T170000
DESCRIPTION:
LOCATION:
SUMMARY:Spring Choral Concert
END:VEVENT
BEGIN:VEVENT
DTSTAMP:20260425T163621Z
UID:ff18df05-4b96-4778-959d-fb26201cd1aa
DTSTART;VALUE=DATE:20260508
DTEND;VALUE=DATE:20260509
DESCRIPTION:
LOCATION:4800 Kennywood Blvd\, West Mifflin\, PA 15122\, USA
SUMMARY:Senior Trip 
END:VEVENT
BEGIN:VEVENT
DTSTAMP:20260425T163621Z
UID:9f4bb8bd-56cf-4f29-a622-c8d4d82e24a8
DTSTART:20260509T090000
DTEND:20260509T150000
DESCRIPTION:
LOCATION:
SUMMARY:GHS Band Spring Craft Show
END:VEVENT
BEGIN:VEVENT
DTSTAMP:20260425T163621Z
UID:8e412c35-8703-4991-86fd-44cdecc404fc
DTSTART:20260512T080000
DTEND:20260512T090000
DESCRIPTION:
LOCATION:
SUMMARY:Election Day - No School
END:VEVENT
BEGIN:VEVENT
DTSTAMP:20260425T163621Z
UID:1ae0468c-23b7-4802-9356-08df2b610d21
DTSTART;VALUE=DATE:20260514
DTEND;VALUE=DATE:20260515
DESCRIPTION:
LOCATION:Taylor County Elementary Schools
SUMMARY:Hispanic Honor Society 
END:VEVENT
BEGIN:VEVENT
DTSTAMP:20260425T163621Z
UID:280a34da-b528-4cca-8fd1-a3ca60e2b0b4
DTSTART:20260517T140000
DTEND:20260517T170000
DESCRIPTION:
LOCATION:
SUMMARY:Rotary Honor Grad Banquet
END:VEVENT
BEGIN:VEVENT
DTSTAMP:20260425T163621Z
UID:4a6dc352-eef0-48c8-a736-29f45fcfd613
DTSTART:20260518T090000
DTEND:20260518T110000
DESCRIPTION:
LOCATION:
SUMMARY:Senior Awards Assembly
END:VEVENT
BEGIN:VEVENT
DTSTAMP:20260425T163621Z
UID:af468430-bf37-410c-a879-838f7e624a41
DTSTART;VALUE=DATE:20260519
DTEND;VALUE=DATE:20260520
DESCRIPTION:
LOCATION:
SUMMARY:Last Day for Seniors before exams
END:VEVENT
BEGIN:VEVENT
DTSTAMP:20260425T163621Z
UID:02db9613-4829-414a-92fc-61e8c691098d
DTSTART;VALUE=DATE:20260520
DTEND;VALUE=DATE:20260521
DESCRIPTION:<p>4/5\, 6\, 7\, and 8</p>
LOCATION:
SUMMARY:Senior Exams
END:VEVENT
BEGIN:VEVENT
DTSTAMP:20260425T163621Z
UID:1cec71be-8cc2-48f0-bac6-688eeef7002a
DTSTART;VALUE=DATE:20260521
DTEND;VALUE=DATE:20260522
DESCRIPTION:<p>1\, 2\, 3</p>
LOCATION:
SUMMARY:Senior Exams
END:VEVENT
BEGIN:VEVENT
DTSTAMP:20260425T163621Z
UID:32353dd9-5f45-4391-9626-c54c4a7078f7
DTSTART;VALUE=DATE:20260525
DTEND;VALUE=DATE:20260526
DESCRIPTION:
LOCATION:
SUMMARY:Memorial Day - No School
END:VEVENT
BEGIN:VEVENT
DTSTAMP:20260425T163621Z
UID:84dac845-8da0-4e78-bcad-af6dea82b4bc
DTSTART:20260526T190000
DTEND:20260526T203000
DESCRIPTION:
LOCATION:
SUMMARY:Senior Sermon
END:VEVENT
BEGIN:VEVENT
DTSTAMP:20260425T163621Z
UID:75adbf3d-63f9-4f92-97de-2b48fe6972fb
DTSTART;VALUE=DATE:20260527
DTEND;VALUE=DATE:20260528
DESCRIPTION:
LOCATION:350 W Station Square Dr\, Pittsburgh\, PA 15219\, USA
SUMMARY:Spanish Class Dinner Cruise
END:VEVENT
BEGIN:VEVENT
DTSTAMP:20260425T163621Z
UID:19986e10-fa7a-4150-b334-14644fee7736
DTSTART;VALUE=DATE:20260528
DTEND;VALUE=DATE:20260529
DESCRIPTION:
LOCATION:
SUMMARY:Senior Breakfast\, Class Picture\, Graduation practice\, and School
  parades
END:VEVENT
BEGIN:VEVENT
DTSTAMP:20260425T163621Z
UID:7cd72001-131c-4d55-b8b4-eeacb76cafe0
DTSTART:20260529T090000
DTEND:20260529T140000
DESCRIPTION:
LOCATION:
SUMMARY:Graduation Practice
END:VEVENT
BEGIN:VEVENT
DTSTAMP:20260425T163621Z
UID:b96dcc78-dad7-43ad-9a20-802ebfa29465
DTSTART:20260529T190000
DTEND:20260529T210000
DESCRIPTION:
LOCATION:
SUMMARY:Graduation
END:VEVENT
BEGIN:VEVENT
DTSTAMP:20260425T163621Z
UID:c8aafd62-9686-466d-a39e-12b34a7a030b
DTSTART;VALUE=DATE:20260601
DTEND;VALUE=DATE:20260602
DESCRIPTION:<p>Periods 1\, 2\, 7</p>
LOCATION:
SUMMARY:Final Exams 
END:VEVENT
BEGIN:VEVENT
DTSTAMP:20260425T163621Z
UID:e1606767-ecbb-4db9-8b97-1603277a5181
DTSTART;VALUE=DATE:20260602
DTEND;VALUE=DATE:20260603
DESCRIPTION:<p>Periods 3\, 4/5\, 6\, and Make-up</p>
LOCATION:
SUMMARY:Final Exams
END:VEVENT
BEGIN:VEVENT
DTSTAMP:20260425T163621Z
UID:779e67bb-530a-4a97-a509-4d7fe67e239f
DTSTART;VALUE=DATE:20260603
DTEND;VALUE=DATE:20260604
DESCRIPTION:
LOCATION:
SUMMARY:Projected Last Day of School 
END:VEVENT
BEGIN:VEVENT
DTSTAMP:20260425T163621Z
UID:2dc02838-ce61-41d3-a41d-549fc15b1f3f
DTSTART;VALUE=DATE:20260604
DTEND;VALUE=DATE:20260605
DESCRIPTION:
LOCATION:
SUMMARY:Professional Learning and Faculty Senate - No Students
END:VEVENT
BEGIN:VEVENT
DTSTAMP:20260425T163621Z
UID:c1ac700a-f7e1-441e-af30-07f41724f2ba
DTSTART;VALUE=DATE:20260605
DTEND;VALUE=DATE:20260606
DESCRIPTION:
LOCATION:
SUMMARY:Teacher Closing Day - No Students 
END:VEVENT
END:VCALENDAR
