BEGIN:VCALENDAR
VERSION:2.0
PRODID:icalendar-ruby
CALSCALE:GREGORIAN
BEGIN:VTIMEZONE
TZID:America/New_York
BEGIN:DAYLIGHT
DTSTART:20260308T030000
TZOFFSETFROM:-0500
TZOFFSETTO:-0400
RRULE:FREQ=YEARLY;BYDAY=2SU;BYMONTH=3
TZNAME:EDT
END:DAYLIGHT
BEGIN:STANDARD
DTSTART:20261101T010000
TZOFFSETFROM:-0400
TZOFFSETTO:-0500
RRULE:FREQ=YEARLY;BYDAY=1SU;BYMONTH=11
TZNAME:EST
END:STANDARD
END:VTIMEZONE
BEGIN:VEVENT
DTSTAMP:20260423T144810Z
UID:b0599843-69d1-4e25-84f3-b5857a00aafb
DTSTART;VALUE=DATE:20260423
DTEND;VALUE=DATE:20260424
DESCRIPTION:High School All-Star Band (select members of the HS Band)\, at 
 Western Michigan University\, All Day (evening concert).
LOCATION:Western Michigan University\, 1903 W Michigan Ave\, Kalamazoo\, MI
  49008\, USA
SUMMARY:High School All-Star Band
END:VEVENT
BEGIN:VEVENT
DTSTAMP:20260423T144810Z
UID:57661cc7-5983-49f5-8f71-10e449d702cf
DTSTART;VALUE=DATE:20260424
DTEND;VALUE=DATE:20260425
DESCRIPTION:Middle School Solo and Ensemble (MS Band)\, Apply by 30-JAN\, a
 t Southwestern Michigan College\, Time TBA
LOCATION:Southwestern Michigan College\, 58900 Cherry Grove Rd\, Dowagiac\,
  MI 49047\, USA
SUMMARY:Middle School Solo and Ensemble
END:VEVENT
BEGIN:VEVENT
DTSTAMP:20260423T144810Z
UID:2f1c3d86-e4eb-45ff-b884-bdc173752284
DTSTART;VALUE=DATE:20260424
DTEND;VALUE=DATE:20260425
DESCRIPTION:Facility Use\, National Honor Society\, Induction Ceremony\, In
 duction of New Members\, High School Gym\, 6:00pm to 8:30pm\, Ms. Harbaugh
  and Ms. Dickerson.
LOCATION:Gobles Public Schools\, 409 N State St\, Gobles\, MI 49055\, USA
SUMMARY:National Honor Society
END:VEVENT
BEGIN:VEVENT
DTSTAMP:20260423T144810Z
UID:f2876d91-8f60-4e36-afec-2c5ea530eb73
DTSTART:20260424T105000
DTEND:20260424T112000
DESCRIPTION:NHS Full Membership Meetings\, During High School Lunch\, 10:50
 am to 11:20am\, in Ms. Harbaugh&#39\;s room.
LOCATION:Gobles Public Schools\, 409 N State St\, Gobles\, MI 49055\, USA
SUMMARY:NHS Membership Meeting
END:VEVENT
BEGIN:VEVENT
DTSTAMP:20260423T144810Z
UID:171ba111-adf4-43fc-9f0f-a264d1569a03
DTSTART;VALUE=DATE:20260425
DTEND;VALUE=DATE:20260426
DESCRIPTION:Middle School Solo and Ensemble (MS Band)\, Apply by 30-JAN\, a
 t Southwestern Michigan College\, Time TBA
LOCATION:Southwestern Michigan College\, 58900 Cherry Grove Rd\, Dowagiac\,
  MI 49047\, USA
SUMMARY:Middle School Solo and Ensemble
END:VEVENT
BEGIN:VEVENT
DTSTAMP:20260423T144810Z
UID:81d2614d-75a3-4da8-910c-a1d01d6a8b03
DTSTART;VALUE=DATE:20260427
DTEND;VALUE=DATE:20260428
DESCRIPTION:<b><u>Core Value Lesson:</u></b><br>This Weeks Lesson - Respons
 ibility<br><p>Ownership and accountability\, understanding positive and ne
 gative consequences of one’s choices.<br></p>
LOCATION:Gobles Public Schools\, 409 N State St\, Gobles\, MI 49055\, USA
SUMMARY:Weekly Core Value Lesson
END:VEVENT
BEGIN:VEVENT
DTSTAMP:20260423T144810Z
UID:36260060-a659-43bd-ae9b-667257789340
DTSTART;VALUE=DATE:20260501
DTEND;VALUE=DATE:20260502
DESCRIPTION:See Ms. Peterson for details.
LOCATION:Gobles Public Schools\, 409 N State St\, Gobles\, MI 49055\, USA
SUMMARY:Community Service Day
END:VEVENT
BEGIN:VEVENT
DTSTAMP:20260423T144810Z
UID:ffebf94d-34be-4e21-9cd6-de7c8703efe5
DTSTART;VALUE=DATE:20260504
DTEND;VALUE=DATE:20260505
DESCRIPTION:<b><u>Core Value Lesson:</u></b><br>This Weeks Lesson - Pride &
 amp\; Tradition<br><p>The Tiger Way\, pride in Gobles.<br></p>
LOCATION:Gobles Public Schools\, 409 N State St\, Gobles\, MI 49055\, USA
SUMMARY:Weekly Core Value Lesson
END:VEVENT
BEGIN:VEVENT
DTSTAMP:20260423T144810Z
UID:71d08bb5-14e5-42e5-b678-fba062c5b232
DTSTART:20260507T105000
DTEND:20260507T112000
DESCRIPTION:NHS Full Membership Meetings\, During High School Lunch\, 10:50
 am to 11:20am\, in Ms. Harbaugh&#39\;s room.
LOCATION:Gobles Public Schools\, 409 N State St\, Gobles\, MI 49055\, USA
SUMMARY:NHS Membership Meeting
END:VEVENT
BEGIN:VEVENT
DTSTAMP:20260423T144810Z
UID:566e0a8f-458e-427d-ae59-7ff40c7741bc
DTSTART;VALUE=DATE:20260508
DTEND;VALUE=DATE:20260509
DESCRIPTION:<u></u><u></u><u></u><u></u><u></u>Half-Day of School.  Elemen
 tary begins at 8:30am\, dismissing students at 12:00pm.  Middle/High Scho
 ol begins at 7:30am\, dismissing students at 11:00am.  No Student Lunch S
 ervices.  Teachers and staff dismissed for afternoon.<u></u><u></u><u></u
 ><u></u><u></u>
LOCATION:Gobles Public Schools\, 409 N State St\, Gobles\, MI 49055\, USA
SUMMARY:Half-Day of School
END:VEVENT
BEGIN:VEVENT
DTSTAMP:20260423T144810Z
UID:163bf88e-2b42-44d9-9ff2-db88162b993e
DTSTART;VALUE=DATE:20260511
DTEND;VALUE=DATE:20260512
DESCRIPTION:<b><u>Core Value Lesson:</u></b><br>This Weeks Lesson - Pride &
 amp\; Tradition<br><p>The Tiger Way\, pride in Gobles.<br></p>
LOCATION:Gobles Public Schools\, 409 N State St\, Gobles\, MI 49055\, USA
SUMMARY:Weekly Core Value Lesson
END:VEVENT
BEGIN:VEVENT
DTSTAMP:20260423T144810Z
UID:239dd101-f66b-4b16-922e-49ac93cde280
DTSTART:20260511T180000
DTEND:20260511T210000
DESCRIPTION:In-Person\, Middle/High School Library\, Regular Board Meeting\
 , Open to Public
LOCATION:Gobles Public Schools\, 409 N State St\, Gobles\, MI 49055\, USA
SUMMARY:Board of Education Meeting
END:VEVENT
BEGIN:VEVENT
DTSTAMP:20260423T144810Z
UID:89b9c1ac-c355-442c-a0ea-e88bbaed35ec
DTSTART;VALUE=DATE:20260512
DTEND;VALUE=DATE:20260513
DESCRIPTION:Senior Citizen &amp\; Veteran Day Meals\, Veterans and Senior C
 itizens Lunch\, Middle/High School Cafeteria\, 12:30pm\, Menu: Baked Ham\,
  Macaroni and Cheese\, Green Beans\, and Specialty Cookie.
LOCATION:Gobles Public Schools\, 409 N State St\, Gobles\, MI 49055\, USA
SUMMARY:Senior Citizen & Veteran Day Meals
END:VEVENT
BEGIN:VEVENT
DTSTAMP:20260423T144810Z
UID:687c618a-76e3-4fc0-a7c7-f2779411e811
DTSTART;VALUE=DATE:20260513
DTEND;VALUE=DATE:20260514
DESCRIPTION:Choir - Spring Choir Concert\, 6th\, 7th/8th\, HS Concert\, HS 
 Varsity\, Call Time 4:30pm\, Location: Journey Family Church\, Ms. DeVall.
LOCATION:Gobles Public Schools\, 409 N State St\, Gobles\, MI 49055\, USA
SUMMARY:Choir - Spring Choir Concert
END:VEVENT
BEGIN:VEVENT
DTSTAMP:20260423T144810Z
UID:9803053e-81b6-49ac-9846-3e6a5aa8743b
DTSTART;VALUE=DATE:20260513
DTEND;VALUE=DATE:20260514
DESCRIPTION:Seniors will begin their exams in the afternoon during regularl
 y scheduled class hours.  Exams for 5th\, 6th\, and 7th hour.
LOCATION:
SUMMARY:Senior Exams
END:VEVENT
BEGIN:VEVENT
DTSTAMP:20260423T144810Z
UID:db449fba-7a3f-4067-b660-3c9c60ec5607
DTSTART;VALUE=DATE:20260513
DTEND;VALUE=DATE:20260514
DESCRIPTION:Spring Concert (6th grade Band\, MS Band\, HS Band)\, at Gobles
  - Middle School Gym (or Journey Church\, depending on construction schedu
 le)\, Call Time 6:00pm\, Concert Start Time 7:00pm.
LOCATION:Gobles Public Schools\, 409 N State St\, Gobles\, MI 49055\, USA
SUMMARY:Spring Concert
END:VEVENT
BEGIN:VEVENT
DTSTAMP:20260423T144810Z
UID:51d96b93-8bdb-42ca-8ad4-e0d2185f56d9
DTSTART;VALUE=DATE:20260514
DTEND;VALUE=DATE:20260515
DESCRIPTION:Senior Class and NHS Pictures\, 3:30pm\, in the High School gym
 \, Cap and Gown required.
LOCATION:Gobles Public Schools\, 409 N State St\, Gobles\, MI 49055\, USA
SUMMARY:Senior Class and NHS Pictures
END:VEVENT
BEGIN:VEVENT
DTSTAMP:20260423T144810Z
UID:57139b6b-ac49-4002-9055-f063e6325ae6
DTSTART;VALUE=DATE:20260514
DTEND;VALUE=DATE:20260515
DESCRIPTION:Seniors must close out all accounts (pay fines if necessary)\, 
 turn in Chromebooks\, turn in textbooks and all school materials\, clean o
 ut lockers\, and have all assignments and assessments completed and turned
  in by no later than 11:30am.  Failure to do so may prevent the Senior fro
 m participating in graduation.
LOCATION:Gobles Public Schools\, 409 N State St\, Gobles\, MI 49055\, USA
SUMMARY:Senior Close Out
END:VEVENT
BEGIN:VEVENT
DTSTAMP:20260423T144810Z
UID:e7c64fbf-fdd7-4a21-ba40-7e8a8cdfcf7f
DTSTART;VALUE=DATE:20260514
DTEND;VALUE=DATE:20260515
DESCRIPTION:Seniors will finish their exams in the morning during regularly
  scheduled class hours.  Exams for 1st\, 2nd\, 3rd\, and 4th hour.  Senior
 s are to leave school grounds by 11:30am
LOCATION:
SUMMARY:Senior Exams
END:VEVENT
BEGIN:VEVENT
DTSTAMP:20260423T144810Z
UID:4c69a96f-0358-406f-8e54-d73871ae19ff
DTSTART;VALUE=DATE:20260514
DTEND;VALUE=DATE:20260515
DESCRIPTION:Seniors must leave school grounds by 11:30am
LOCATION:
SUMMARY:Seniors Last Day
END:VEVENT
BEGIN:VEVENT
DTSTAMP:20260423T144810Z
UID:4c39c82c-0fd4-4823-8d30-30c1700eaa8a
DTSTART;VALUE=DATE:20260517
DTEND;VALUE=DATE:20260518
DESCRIPTION:Combined Grad Bash &amp\; Senior Trip\, Sunday May-17 (2:00pm) 
 through Monday May-18 (8:00am)\, Megan Ivester.
LOCATION:
SUMMARY:Combined Grad Bash & Senior Trip
END:VEVENT
BEGIN:VEVENT
DTSTAMP:20260423T144810Z
UID:f5931477-873c-408f-9334-023515a47610
DTSTART;VALUE=DATE:20260518
DTEND;VALUE=DATE:20260519
DESCRIPTION:Combined Grad Bash &amp\; Senior Trip\, Sunday May-17 (2:00pm) 
 through Monday May-18 (8:00am)\, Megan Ivester.
LOCATION:
SUMMARY:Combined Grad Bash & Senior Trip
END:VEVENT
BEGIN:VEVENT
DTSTAMP:20260423T144810Z
UID:57142f24-45a7-4ffd-8aa2-7ee9db66ebfe
DTSTART;VALUE=DATE:20260518
DTEND;VALUE=DATE:20260519
DESCRIPTION:<b><u>Core Value Lesson:</u></b><br>This Weeks Lesson - Pride &
 amp\; Tradition<br><p>The Tiger Way\, pride in Gobles.<br></p>
LOCATION:Gobles Public Schools\, 409 N State St\, Gobles\, MI 49055\, USA
SUMMARY:Weekly Core Value Lesson
END:VEVENT
BEGIN:VEVENT
DTSTAMP:20260423T144810Z
UID:8f49de1e-9102-4a80-9ff4-d367d1730272
DTSTART;VALUE=DATE:20260519
DTEND;VALUE=DATE:20260520
DESCRIPTION:Middle School Awards Night\, Grades 6-8\, Middle School Gym\, C
 eremony begins at 7:00pm\, Arrive No Later Than 6:30pm.
LOCATION:Gobles Public Schools\, 409 N State St\, Gobles\, MI 49055\, USA
SUMMARY:Middle School Awards Night
END:VEVENT
BEGIN:VEVENT
DTSTAMP:20260423T144810Z
UID:a66d929b-f7be-4543-9973-cc447b51e06b
DTSTART;VALUE=DATE:20260520
DTEND;VALUE=DATE:20260521
DESCRIPTION:High School Awards Night\, Grades 9-11\, High School Gym\, Cere
 mony begins at 7:00pm\, Arrive No Later Than 6:30pm.
LOCATION:Gobles Public Schools\, 409 N State St\, Gobles\, MI 49055\, USA
SUMMARY:High School Awards Night
END:VEVENT
BEGIN:VEVENT
DTSTAMP:20260423T144810Z
UID:3535f261-cee8-4238-b0dc-1eadad1e74bd
DTSTART;VALUE=DATE:20260525
DTEND;VALUE=DATE:20260526
DESCRIPTION:Memorial Day Parade (MS Band and HS Band)\, at Gobles\, Call Ti
 me 8:00am\, Parade Starts at 9:00am
LOCATION:Gobles Public Schools\, 409 N State St\, Gobles\, MI 49055\, USA
SUMMARY:Memorial Day Parade
END:VEVENT
BEGIN:VEVENT
DTSTAMP:20260423T144810Z
UID:55ea9d7f-a9cd-4d07-82fc-ea9ed0f95db8
DTSTART;VALUE=DATE:20260525
DTEND;VALUE=DATE:20260526
DESCRIPTION:No School for students.  No School for teachers and staff.  Me
 morial Day.
LOCATION:Gobles Public Schools\, 409 N State St\, Gobles\, MI 49055\, USA
SUMMARY:NO SCHOOL
END:VEVENT
BEGIN:VEVENT
DTSTAMP:20260423T144810Z
UID:f755692e-2225-41b5-9730-75bd291aad0d
DTSTART;VALUE=DATE:20260526
DTEND;VALUE=DATE:20260527
DESCRIPTION:Senior Awards Night\, High School Gym\, Ceremony begins at 7:00
 pm\, Arrive No Later Than 6:30pm.
LOCATION:Gobles Public Schools\, 409 N State St\, Gobles\, MI 49055\, USA
SUMMARY:Senior Awards Night
END:VEVENT
BEGIN:VEVENT
DTSTAMP:20260423T144810Z
UID:6f485252-037d-4452-85c7-4e74a05175ad
DTSTART;VALUE=DATE:20260526
DTEND;VALUE=DATE:20260527
DESCRIPTION:Senior Celebration Breakfast\, in Middle/High School cafeteria\
 , 9:00am (Seniors only).
LOCATION:Gobles Public Schools\, 409 N State St\, Gobles\, MI 49055\, USA
SUMMARY:Senior Celebration Breakfast
END:VEVENT
BEGIN:VEVENT
DTSTAMP:20260423T144810Z
UID:46f73fb5-22d0-4f2c-87af-613e0d0f2e04
DTSTART;VALUE=DATE:20260526
DTEND;VALUE=DATE:20260527
DESCRIPTION:Senior Parade\, 10:30am\, parade through student body\, wear yo
 ur cap and gown for this event.  Meet outside of the front entrance of the
  High School at 10:30am.  Parade through both Secondary and Elementary bui
 ldings.
LOCATION:Gobles Public Schools\, 409 N State St\, Gobles\, MI 49055\, USA
SUMMARY:Senior Parade
END:VEVENT
BEGIN:VEVENT
DTSTAMP:20260423T144810Z
UID:3930180d-fbe7-4f65-b925-a7e263cda3af
DTSTART;VALUE=DATE:20260526
DTEND;VALUE=DATE:20260527
DESCRIPTION:Seniors practice for commencement.  Practice will start immedia
 tely after the parade.  Practice will take place on the Football Field.  P
 ractice for Commencement is required if you are planning to be in the cere
 mony.  Immediately following there will be a short voluntary practice for 
 Baccalaureate.
LOCATION:Gobles Public Schools\, 409 N State St\, Gobles\, MI 49055\, USA
SUMMARY:Senior Practice For Commencement
END:VEVENT
BEGIN:VEVENT
DTSTAMP:20260423T144810Z
UID:50f1485c-c561-421c-bc1f-cd5b8c8f226b
DTSTART;VALUE=DATE:20260527
DTEND;VALUE=DATE:20260528
DESCRIPTION:Baccalaureate\, Middle School Gym\, Ceremony begins at 7:00pm\,
  Arrive No Later Than 6:30pm.  Participation is voluntary.
LOCATION:Gobles Public Schools\, 409 N State St\, Gobles\, MI 49055\, USA
SUMMARY:Baccalaureate
END:VEVENT
BEGIN:VEVENT
DTSTAMP:20260423T144810Z
UID:79e8fd5c-ec5c-4a62-9eb9-2ad2d6203b53
DTSTART;VALUE=DATE:20260527
DTEND;VALUE=DATE:20260528
DESCRIPTION:Choir - Baccalaureate (HS Final Exam - 1/2)\, HS Concert Choir\
 , Varsity Choir\, Call Time 6:30pm\, Location: Middle School Gym\, Ms. DeV
 all.
LOCATION:Gobles Public Schools\, 409 N State St\, Gobles\, MI 49055\, USA
SUMMARY:Choir - Baccalaureate (HS Final Exam - 1/2)
END:VEVENT
BEGIN:VEVENT
DTSTAMP:20260423T144810Z
UID:b13b8ecd-8b26-4897-b247-bfe4bcffa153
DTSTART;VALUE=DATE:20260528
DTEND;VALUE=DATE:20260529
DESCRIPTION:Choir - Graduation (HS Final Exam - 1/2)\, 6th\, 7th/8th\, HS C
 oncert Choir\, Varsity Choir\, Call Time 6:30pm\, Location: Middle School 
 Gym\, Ms. DeVall.
LOCATION:Gobles Public Schools\, 409 N State St\, Gobles\, MI 49055\, USA
SUMMARY:Choir - Graduation (HS Final Exam - 1/2)
END:VEVENT
BEGIN:VEVENT
DTSTAMP:20260423T144810Z
UID:788cd333-469e-484a-bd63-962df4dc3736
DTSTART;VALUE=DATE:20260528
DTEND;VALUE=DATE:20260529
DESCRIPTION:Commencement\, Football Field and Track\, Ceremony begins at 7:
 00pm\, Arrive No Later Than 6:00pm.
LOCATION:Gobles Public Schools\, 409 N State St\, Gobles\, MI 49055\, USA
SUMMARY:Commencement
END:VEVENT
BEGIN:VEVENT
DTSTAMP:20260423T144810Z
UID:69587ce7-adcd-4c02-9527-6b7d67f91b3d
DTSTART;VALUE=DATE:20260528
DTEND;VALUE=DATE:20260529
DESCRIPTION:Graduation (MS Band and HS Band)\, at Gobles - Football Field a
 nd Track\, Call Time 5:30pm.
LOCATION:Gobles Public Schools\, 409 N State St\, Gobles\, MI 49055\, USA
SUMMARY:Graduation
END:VEVENT
BEGIN:VEVENT
DTSTAMP:20260423T144810Z
UID:ff1c98de-34fd-40c4-bd8c-93b10b5dc322
DTSTART;VALUE=DATE:20260529
DTEND;VALUE=DATE:20260530
DESCRIPTION:Half-Day of School. Elementary begins at 8:30am\, dismissing st
 udents at 12:00pm. Middle/High School begins at 7:30am\, dismissing studen
 ts at 11:00am. No Student Lunch Services.  Teacher workday in afternoon.
   <br><br><u>Middle/High School Schedule:</u><br>1st Hour\, 7:30am to 8:
 00am<br>2nd Hour\, 8:05am to 8:30am<br>3rd Hour\, 8:35am to 9:00am<br><br>
 7th Hour Exam\, 9:10am to 11:00am.
LOCATION:Gobles Public Schools\, 409 N State St\, Gobles\, MI 49055\, USA
SUMMARY:Half-Day of School\, Middle/High School 2nd Semester Exams
END:VEVENT
BEGIN:VEVENT
DTSTAMP:20260423T144810Z
UID:da13ba17-7eed-4079-b277-f0a74b3253ba
DTSTART;VALUE=DATE:20260601
DTEND;VALUE=DATE:20260602
DESCRIPTION:Half-Day of School. Elementary begins at 8:30am\, dismissing st
 udents at 12:00pm. Middle/High School begins at 7:30am\, dismissing studen
 ts at 11:00am. No Student Lunch Services.  Teacher workday in afternoon.
   <br><br><u>Middle/High School Schedule:</u><br>1st Hour Exam\, 7:30am 
 to 9:10am<br><br>3rd Hour Exam\, 9:20am to 11:00am
LOCATION:Gobles Public Schools\, 409 N State St\, Gobles\, MI 49055\, USA
SUMMARY:Half-Day of School\, Middle/High School 2nd Semester Exams
END:VEVENT
BEGIN:VEVENT
DTSTAMP:20260423T144810Z
UID:cac259b0-26a6-4b16-9754-f4e71d93f371
DTSTART;VALUE=DATE:20260602
DTEND;VALUE=DATE:20260603
DESCRIPTION:Half-Day of School. Elementary begins at 8:30am\, dismissing st
 udents at 12:00pm. Middle/High School begins at 7:30am\, dismissing studen
 ts at 11:00am. No Student Lunch Services.  Teacher workday in afternoon.
   <br><br><u>Middle/High School Schedule:</u><br>2nd Hour Exam\, 7:30am 
 to 9:10am<br><br>4th Hour Exam\, 9:20am to 11:00am
LOCATION:Gobles Public Schools\, 409 N State St\, Gobles\, MI 49055\, USA
SUMMARY:Half-Day of School\, Middle/High School 2nd Semester Exams
END:VEVENT
BEGIN:VEVENT
DTSTAMP:20260423T144810Z
UID:f1541b51-3acc-4e51-aff3-f260fb7bfd9e
DTSTART;VALUE=DATE:20260603
DTEND;VALUE=DATE:20260604
DESCRIPTION:End Of 2nd Semester
LOCATION:Gobles Public Schools\, 409 N State St\, Gobles\, MI 49055\, USA
SUMMARY:End Of 2nd Semester
END:VEVENT
BEGIN:VEVENT
DTSTAMP:20260423T144810Z
UID:a3dfe6d5-654f-4614-96aa-6e60d2122f6e
DTSTART;VALUE=DATE:20260603
DTEND;VALUE=DATE:20260604
DESCRIPTION:End Of 4th Marking Period
LOCATION:Gobles Public Schools\, 409 N State St\, Gobles\, MI 49055\, USA
SUMMARY:End Of 4th Marking Period
END:VEVENT
BEGIN:VEVENT
DTSTAMP:20260423T144810Z
UID:08c42f12-32a8-43a4-b4e6-660e525b1525
DTSTART;VALUE=DATE:20260603
DTEND;VALUE=DATE:20260604
DESCRIPTION:Half-Day of School. Elementary begins at 8:30am\, dismissing st
 udents at 12:00pm. Middle/High School begins at 7:30am\, dismissing studen
 ts at 11:00am. No Student Lunch Services.  Teacher workday in afternoon.
   <br><br><u>Middle/High School Schedule:</u><br>5th Hour Exam\, 7:30am 
 to 9:10am<br><br>6th Hour Exam\, 9:20am to 11:00am
LOCATION:Gobles Public Schools\, 409 N State St\, Gobles\, MI 49055\, USA
SUMMARY:Half-Day of School\, Middle/High School 2nd Semester Exams
END:VEVENT
BEGIN:VEVENT
DTSTAMP:20260423T144810Z
UID:a573faa9-a330-499a-b415-cc22a2ddb577
DTSTART:20260608T180000
DTEND:20260608T210000
DESCRIPTION:In-Person\, Middle/High School Library\, Regular Board Meeting\
 , Open to Public
LOCATION:Gobles Public Schools\, 409 N State St\, Gobles\, MI 49055\, USA
SUMMARY:Board of Education Meeting
END:VEVENT
BEGIN:VEVENT
DTSTAMP:20260423T144810Z
UID:a5e60cde-0fab-4eef-be83-dcc93f78f4a8
DTSTART:20260713T180000
DTEND:20260713T210000
DESCRIPTION:In-Person\, Middle/High School Library\, Regular Board Meeting\
 , Open to Public
LOCATION:Gobles Public Schools\, 409 N State St\, Gobles\, MI 49055\, USA
SUMMARY:Board of Education Meeting
END:VEVENT
BEGIN:VEVENT
DTSTAMP:20260423T144810Z
UID:7c01e680-47a9-43d6-b46c-f1ff4c22bd65
DTSTART;VALUE=DATE:20270413
DTEND;VALUE=DATE:20270414
DESCRIPTION:11th grade: SAT testing (students dismissed after testing.  Se
 nior no school)\, 7:30am to 12:30pm.
LOCATION:Gobles Public Schools\, 409 N State St\, Gobles\, MI 49055\, USA
SUMMARY:State Testing - SAT
END:VEVENT
BEGIN:VEVENT
DTSTAMP:20260423T144810Z
UID:b5af6204-b6f2-4eae-a2bb-16465d1b73fb
DTSTART;VALUE=DATE:20270414
DTEND;VALUE=DATE:20270415
DESCRIPTION:11th grade: WIN Career Readiness (students dismissed after test
 ing)\, 7:30am to 11:45am.
LOCATION:Gobles Public Schools\, 409 N State St\, Gobles\, MI 49055\, USA
SUMMARY:State Testing - WIN
END:VEVENT
BEGIN:VEVENT
DTSTAMP:20260423T144810Z
UID:b3a24dbc-5165-44ec-9e10-d31537416678
DTSTART;VALUE=DATE:20270415
DTEND;VALUE=DATE:20270416
DESCRIPTION:11th grade: M-STEP Social Studies &amp\; Science\, 7:30am to 10
 :50am.
LOCATION:Gobles Public Schools\, 409 N State St\, Gobles\, MI 49055\, USA
SUMMARY:State Testing - M-STEP
END:VEVENT
BEGIN:VEVENT
DTSTAMP:20260423T144810Z
UID:6f3abfd0-cbc6-40b1-80d8-0348f244a1ed
DTSTART;VALUE=DATE:20270416
DTEND;VALUE=DATE:20270417
DESCRIPTION:8th &amp\; 9th grade: PSAT 8/9\, 7:30am to 10:50am.
LOCATION:Gobles Public Schools\, 409 N State St\, Gobles\, MI 49055\, USA
SUMMARY:State Testing - PSAT
END:VEVENT
BEGIN:VEVENT
DTSTAMP:20260423T144810Z
UID:aec5698d-9a67-44c7-b745-66e07693ebc3
DTSTART;VALUE=DATE:20270420
DTEND;VALUE=DATE:20270421
DESCRIPTION:10th grade: PSAT\, 7:30am to 10:50am
LOCATION:Gobles Public Schools\, 409 N State St\, Gobles\, MI 49055\, USA
SUMMARY:State Testing - PSAT
END:VEVENT
BEGIN:VEVENT
DTSTAMP:20260423T144810Z
UID:4c93a575-61b8-4624-a557-0f813bee6c7d
DTSTART;VALUE=DATE:20270427
DTEND;VALUE=DATE:20270428
DESCRIPTION:8th grade: M-STEP Social Studies &amp\; Science\, 7:30am to 10:
 50am.\n6th grade: M-STEP Math\, 12:00pm to 2:30pm.
LOCATION:Gobles Public Schools\, 409 N State St\, Gobles\, MI 49055\, USA
SUMMARY:State Testing - M-STEP
END:VEVENT
BEGIN:VEVENT
DTSTAMP:20260423T144810Z
UID:5a36fd95-9986-4afe-b2c4-83e6e31882a2
DTSTART;VALUE=DATE:20270428
DTEND;VALUE=DATE:20270429
DESCRIPTION:6th grade: M-STEP ELA\, 7:30am to 10:50am.\n7th grade: M-STEP M
 ath\, 12:00pm to 2:30pm.
LOCATION:Gobles Public Schools\, 409 N State St\, Gobles\, MI 49055\, USA
SUMMARY:State Testing - M-STEP
END:VEVENT
BEGIN:VEVENT
DTSTAMP:20260423T144810Z
UID:8437c70a-bbb0-4113-b754-50bbb4e51d70
DTSTART;VALUE=DATE:20270429
DTEND;VALUE=DATE:20270430
DESCRIPTION:7th grade: M-STEP ELA\, 7:30am to 10:50am.\nM-STEP make-up test
 ing\, 12:00pm to 2:30pm.
LOCATION:Gobles Public Schools\, 409 N State St\, Gobles\, MI 49055\, USA
SUMMARY:State Testing - M-STEP
END:VEVENT
BEGIN:VEVENT
DTSTAMP:20260423T144810Z
UID:ff33031f-aa3e-42cb-b617-75f7b9109c4f
DTSTART;VALUE=DATE:20270504
DTEND;VALUE=DATE:20270505
DESCRIPTION:M-STEP make-up testing\, 7:30am to 10:50am.
LOCATION:Gobles Public Schools\, 409 N State St\, Gobles\, MI 49055\, USA
SUMMARY:State Testing - M-STEP
END:VEVENT
END:VCALENDAR
