BEGIN:VCALENDAR
VERSION:2.0
PRODID:icalendar-ruby
CALSCALE:GREGORIAN
BEGIN:VTIMEZONE
TZID:America/New_York
BEGIN:DAYLIGHT
DTSTART:20260308T030000
TZOFFSETFROM:-0500
TZOFFSETTO:-0400
RRULE:FREQ=YEARLY;BYDAY=2SU;BYMONTH=3
TZNAME:EDT
END:DAYLIGHT
BEGIN:STANDARD
DTSTART:20261101T010000
TZOFFSETFROM:-0400
TZOFFSETTO:-0500
RRULE:FREQ=YEARLY;BYDAY=1SU;BYMONTH=11
TZNAME:EST
END:STANDARD
END:VTIMEZONE
BEGIN:VEVENT
DTSTAMP:20260425T163632Z
UID:2ec9a8e3-a975-4a97-819d-2f7cdb059177
DTSTART:20260427T143000
DTEND:20260427T154500
DESCRIPTION:
LOCATION:
SUMMARY:LMR 5K
END:VEVENT
BEGIN:VEVENT
DTSTAMP:20260425T163632Z
UID:9d01170c-e60f-4e15-b20f-469ad115c39d
DTSTART:20260427T143000
DTEND:20260427T154500
DESCRIPTION:
LOCATION:
SUMMARY:LMR Practice
END:VEVENT
BEGIN:VEVENT
DTSTAMP:20260425T163632Z
UID:41222879-cd0c-41d2-8144-92968cbd5722
DTSTART:20260430T090000
DTEND:20260430T103000
DESCRIPTION:
LOCATION:
SUMMARY:Lodge Day #4
END:VEVENT
BEGIN:VEVENT
DTSTAMP:20260425T163632Z
UID:b4b8fd8a-0f22-49f3-bab1-1e36bc341152
DTSTART;VALUE=DATE:20260501
DTEND;VALUE=DATE:20260502
DESCRIPTION:
LOCATION:
SUMMARY:Fourth Grade Jamestown Visit 
END:VEVENT
BEGIN:VEVENT
DTSTAMP:20260425T163632Z
UID:c9655af8-a63e-45eb-8962-1eb8f68a6862
DTSTART:20260501T090000
DTEND:20260501T093000
DESCRIPTION:
LOCATION:
SUMMARY:Volunteer Breakfast
END:VEVENT
BEGIN:VEVENT
DTSTAMP:20260425T163632Z
UID:b56dfe55-47d6-46e3-a08d-322818f2e646
DTSTART:20260501T100000
DTEND:20260501T110000
DESCRIPTION:
LOCATION:
SUMMARY:Little Feet Meet (Raindate)
END:VEVENT
BEGIN:VEVENT
DTSTAMP:20260425T163632Z
UID:e8dc62c3-58cc-4b66-bfd8-66a76aaa3075
DTSTART:20260501T110000
DTEND:20260501T130000
DESCRIPTION:
LOCATION:Room 106
SUMMARY:PTA Provided Lunch
END:VEVENT
BEGIN:VEVENT
DTSTAMP:20260425T163632Z
UID:d9b6ebaa-c1ff-495e-b1e2-6e6bddb40544
DTSTART;VALUE=DATE:20260525
DTEND;VALUE=DATE:20260526
DESCRIPTION:
LOCATION:
SUMMARY:Memorial Day - All Schools / Offices Closed
END:VEVENT
BEGIN:VEVENT
DTSTAMP:20260425T163632Z
UID:7b41e9b4-af46-476c-a9d1-5a24802eb400
DTSTART:20260526T083000
DTEND:20260526T100000
DESCRIPTION:
LOCATION:
SUMMARY:Grade 5 Graduation Ceremony
END:VEVENT
BEGIN:VEVENT
DTSTAMP:20260425T163632Z
UID:1f6ac3e5-ce0b-41a3-9d15-a8b95933bfee
DTSTART;VALUE=DATE:20260527
DTEND;VALUE=DATE:20260528
DESCRIPTION:
LOCATION:
SUMMARY:K-2 Field Day 
END:VEVENT
BEGIN:VEVENT
DTSTAMP:20260425T163632Z
UID:96863ba4-daf6-48d8-b4f4-2b2fe81e6349
DTSTART;VALUE=DATE:20260528
DTEND;VALUE=DATE:20260529
DESCRIPTION:
LOCATION:
SUMMARY:3-5 Field Day 
END:VEVENT
BEGIN:VEVENT
DTSTAMP:20260425T163632Z
UID:ec220995-0c8c-40fb-8e16-52f3fec58c47
DTSTART;VALUE=DATE:20260529
DTEND;VALUE=DATE:20260530
DESCRIPTION:Elementary at 12:30 p.m.\nHigh School and Middle School at 1:30
  p.m.
LOCATION:
SUMMARY:Last Day of School for Students (Early Dismissal)
END:VEVENT
END:VCALENDAR
