BEGIN:VCALENDAR
VERSION:2.0
PRODID:icalendar-ruby
CALSCALE:GREGORIAN
BEGIN:VTIMEZONE
TZID:America/New_York
BEGIN:DAYLIGHT
DTSTART:20260308T030000
TZOFFSETFROM:-0500
TZOFFSETTO:-0400
RRULE:FREQ=YEARLY;BYDAY=2SU;BYMONTH=3
TZNAME:EDT
END:DAYLIGHT
BEGIN:STANDARD
DTSTART:20261101T010000
TZOFFSETFROM:-0400
TZOFFSETTO:-0500
RRULE:FREQ=YEARLY;BYDAY=1SU;BYMONTH=11
TZNAME:EST
END:STANDARD
END:VTIMEZONE
BEGIN:VEVENT
DTSTAMP:20260426T031202Z
UID:519273b9-8f21-4239-96a0-50fa9aceb7fe
DTSTART;VALUE=DATE:20260422
DTEND;VALUE=DATE:20260427
DESCRIPTION:
LOCATION:
SUMMARY:BES Spring Book Fair
END:VEVENT
BEGIN:VEVENT
DTSTAMP:20260426T031202Z
UID:4fed93d3-33fb-42c9-ab27-8114acc93908
DTSTART:20260511T093000
DTEND:20260511T103000
DESCRIPTION:
LOCATION:
SUMMARY:Reading Therapy Dog Visits
END:VEVENT
BEGIN:VEVENT
DTSTAMP:20260426T031202Z
UID:daf1756b-43e3-4f08-914d-fdd70584e28e
DTSTART;VALUE=DATE:20260525
DTEND;VALUE=DATE:20260526
DESCRIPTION:
LOCATION:
SUMMARY:All Schools/Offices Closed
END:VEVENT
BEGIN:VEVENT
DTSTAMP:20260426T031202Z
UID:343695eb-ba9b-4571-940d-59fd53173b8d
DTSTART;VALUE=DATE:20260527
DTEND;VALUE=DATE:20260528
DESCRIPTION:
LOCATION:
SUMMARY:BES FIELD DAY!
END:VEVENT
BEGIN:VEVENT
DTSTAMP:20260426T031202Z
UID:43aacd15-9862-4efe-b6a9-ec0e969ad1cc
DTSTART;VALUE=DATE:20260529
DTEND;VALUE=DATE:20260530
DESCRIPTION:
LOCATION:
SUMMARY:Last Day for Students! (Early Dismissal)
END:VEVENT
BEGIN:VEVENT
DTSTAMP:20260426T031202Z
UID:f3f7e9bd-5e44-4fda-b398-d615a49c061d
DTSTART;VALUE=DATE:20260601
DTEND;VALUE=DATE:20260602
DESCRIPTION:
LOCATION:
SUMMARY:Teacher Workday!
END:VEVENT
BEGIN:VEVENT
DTSTAMP:20260426T031202Z
UID:455bde0c-6867-46e8-91b0-1966abcf445f
DTSTART;VALUE=DATE:20260618
DTEND;VALUE=DATE:20260619
DESCRIPTION:
LOCATION:
SUMMARY:All Schools/Offices Closed
END:VEVENT
BEGIN:VEVENT
DTSTAMP:20260426T031202Z
UID:eda343b1-9d84-42dc-9194-fd5c157efdb0
DTSTART;VALUE=DATE:20260702
DTEND;VALUE=DATE:20260703
DESCRIPTION:
LOCATION:
SUMMARY:All Schools/Offices Closed
END:VEVENT
END:VCALENDAR
