BEGIN:VCALENDAR
VERSION:2.0
PRODID:icalendar-ruby
CALSCALE:GREGORIAN
BEGIN:VTIMEZONE
TZID:America/New_York
BEGIN:DAYLIGHT
DTSTART:20260308T030000
TZOFFSETFROM:-0500
TZOFFSETTO:-0400
RRULE:FREQ=YEARLY;BYDAY=2SU;BYMONTH=3
TZNAME:EDT
END:DAYLIGHT
BEGIN:STANDARD
DTSTART:20261101T010000
TZOFFSETFROM:-0400
TZOFFSETTO:-0500
RRULE:FREQ=YEARLY;BYDAY=1SU;BYMONTH=11
TZNAME:EST
END:STANDARD
END:VTIMEZONE
BEGIN:VEVENT
DTSTAMP:20260420T155148Z
UID:51e19993-caa1-4479-97b2-1e895bde5234
DTSTART;VALUE=DATE:20260428
DTEND;VALUE=DATE:20260429
DESCRIPTION:
LOCATION:
SUMMARY:MP4 Interim
END:VEVENT
BEGIN:VEVENT
DTSTAMP:20260420T155148Z
UID:59c21d49-6cab-48ba-97ba-e8ee0dc4fe36
DTSTART;VALUE=DATE:20260504
DTEND;VALUE=DATE:20260509
DESCRIPTION:
LOCATION:
SUMMARY:Teacher Appreciation Week
END:VEVENT
BEGIN:VEVENT
DTSTAMP:20260420T155148Z
UID:1c969ca3-fe2f-4cde-9cf2-2c4ba00b5dd7
DTSTART;VALUE=DATE:20260505
DTEND;VALUE=DATE:20260506
DESCRIPTION:
LOCATION:
SUMMARY:Reading SOL (6th - 8th Grade)
END:VEVENT
BEGIN:VEVENT
DTSTAMP:20260420T155148Z
UID:a47e4573-3e6e-46e4-a912-9bbc615ff1d6
DTSTART;VALUE=DATE:20260508
DTEND;VALUE=DATE:20260509
DESCRIPTION:
LOCATION:
SUMMARY:Civics SOL - Test (Async day for students not in Civics)
END:VEVENT
BEGIN:VEVENT
DTSTAMP:20260420T155148Z
UID:dd54ddc6-238f-4b0f-948d-aeb03169e623
DTSTART:20260508T190000
DTEND:20260508T210000
DESCRIPTION:
LOCATION:
SUMMARY:8th grade Formal
END:VEVENT
BEGIN:VEVENT
DTSTAMP:20260420T155148Z
UID:d2e1d377-5f66-4159-a6da-167f4b1f5feb
DTSTART;VALUE=DATE:20260512
DTEND;VALUE=DATE:20260513
DESCRIPTION:
LOCATION:
SUMMARY:Math SOL (6th - 8th Grade)
END:VEVENT
BEGIN:VEVENT
DTSTAMP:20260420T155148Z
UID:5039bacf-a4ee-491a-9a97-cd9961b8624e
DTSTART;VALUE=DATE:20260515
DTEND;VALUE=DATE:20260516
DESCRIPTION:<p dir="ltr">Asynchronous day for 6th grade</p>
LOCATION:
SUMMARY:Physical Science & Earth Science SOL (Async for 6th Grade))
END:VEVENT
BEGIN:VEVENT
DTSTAMP:20260420T155148Z
UID:8f806019-ef76-4943-be00-1a7696e77678
DTSTART:20260520T090000
DTEND:20260520T110000
DESCRIPTION:
LOCATION:
SUMMARY:Reading & Civics Expedited Retakes & Makeups
END:VEVENT
BEGIN:VEVENT
DTSTAMP:20260420T155148Z
UID:c1906358-c0bf-4675-bf6d-407fa4512ada
DTSTART:20260521T090000
DTEND:20260521T110000
DESCRIPTION:
LOCATION:
SUMMARY:Math Expedited Retakes & Makeups 
END:VEVENT
BEGIN:VEVENT
DTSTAMP:20260420T155148Z
UID:ae31e1a7-454d-44a2-bea2-f14298858530
DTSTART:20260522T090000
DTEND:20260522T110000
DESCRIPTION:
LOCATION:
SUMMARY:Science Expedited Retakes & Makeups 
END:VEVENT
BEGIN:VEVENT
DTSTAMP:20260420T155148Z
UID:4ca7648e-e051-43ab-9de8-19247e289214
DTSTART;VALUE=DATE:20260525
DTEND;VALUE=DATE:20260526
DESCRIPTION:
LOCATION:
SUMMARY:Memorial Day: All Schools/Offices Closed
END:VEVENT
BEGIN:VEVENT
DTSTAMP:20260420T155148Z
UID:8f1ad691-0e49-49e0-b6dc-0ae5f3272e63
DTSTART:20260526T100000
DTEND:20260526T110000
DESCRIPTION:
LOCATION:
SUMMARY:8th grade Moving On Ceremony
END:VEVENT
BEGIN:VEVENT
DTSTAMP:20260420T155148Z
UID:4c816b74-cc11-4008-837b-babc1d0d106e
DTSTART:20260527T100000
DTEND:20260527T110000
DESCRIPTION:
LOCATION:
SUMMARY:6th & 7th grade Award Ceremony
END:VEVENT
BEGIN:VEVENT
DTSTAMP:20260420T155148Z
UID:c6a9b32c-2106-42d3-a5db-d8999c4b672f
DTSTART;VALUE=DATE:20260529
DTEND;VALUE=DATE:20260530
DESCRIPTION:
LOCATION:
SUMMARY:Last Day of School!
END:VEVENT
END:VCALENDAR
