BEGIN:VCALENDAR
VERSION:2.0
PRODID:icalendar-ruby
CALSCALE:GREGORIAN
BEGIN:VTIMEZONE
TZID:America/Chicago
BEGIN:DAYLIGHT
DTSTART:20260308T030000
TZOFFSETFROM:-0600
TZOFFSETTO:-0500
RRULE:FREQ=YEARLY;BYDAY=2SU;BYMONTH=3
TZNAME:CDT
END:DAYLIGHT
BEGIN:STANDARD
DTSTART:20261101T010000
TZOFFSETFROM:-0500
TZOFFSETTO:-0600
RRULE:FREQ=YEARLY;BYDAY=1SU;BYMONTH=11
TZNAME:CST
END:STANDARD
END:VTIMEZONE
BEGIN:VEVENT
DTSTAMP:20260424T165308Z
UID:0c6ee54d-3cc0-43f6-8f99-a1392a1b81b8
DTSTART;VALUE=DATE:20260428
DTEND;VALUE=DATE:20260502
DESCRIPTION:
LOCATION:
SUMMARY:ATLAS Summative Testing 
END:VEVENT
BEGIN:VEVENT
DTSTAMP:20260424T165308Z
UID:55534ba2-7f50-4023-9d14-7ca9f7dd9ec5
DTSTART;VALUE=DATE:20260428
DTEND;VALUE=DATE:20260502
DESCRIPTION:
LOCATION:
SUMMARY:ATLAS Summative 
END:VEVENT
BEGIN:VEVENT
DTSTAMP:20260424T165308Z
UID:42750887-b11c-4997-94a6-48cbb534599d
DTSTART;VALUE=DATE:20260504
DTEND;VALUE=DATE:20260516
DESCRIPTION:
LOCATION:
SUMMARY:IXL/STAR/iREADY EOY
END:VEVENT
BEGIN:VEVENT
DTSTAMP:20260424T165308Z
UID:ef291723-3ad0-464e-9aba-813fcc510a07
DTSTART;VALUE=DATE:20260511
DTEND;VALUE=DATE:20260512
DESCRIPTION:
LOCATION:
SUMMARY:Report Card Documentation Due
END:VEVENT
BEGIN:VEVENT
DTSTAMP:20260424T165308Z
UID:93bb020d-01b0-42c3-9b1e-431019b35b1b
DTSTART:20260512T153000
DTEND:20260512T160000
DESCRIPTION:
LOCATION:
SUMMARY:Faculty Meeting 
END:VEVENT
BEGIN:VEVENT
DTSTAMP:20260424T165308Z
UID:f978b132-9a93-40cc-8347-8bc09d99daaf
DTSTART;VALUE=DATE:20260515
DTEND;VALUE=DATE:20260516
DESCRIPTION:
LOCATION:
SUMMARY:Early Dismissal 1:00
END:VEVENT
BEGIN:VEVENT
DTSTAMP:20260424T165308Z
UID:58a29937-e82f-4be4-9f78-614250b8ac72
DTSTART;VALUE=DATE:20260515
DTEND;VALUE=DATE:20260516
DESCRIPTION:
LOCATION:
SUMMARY:Early Dismissal (1:00 pm)- Last day for students
END:VEVENT
BEGIN:VEVENT
DTSTAMP:20260424T165308Z
UID:a4f7e232-54e7-4eee-b37d-897dc5b1340a
DTSTART;VALUE=DATE:20260515
DTEND;VALUE=DATE:20260516
DESCRIPTION:
LOCATION:
SUMMARY:Fourth Quarter Ends
END:VEVENT
BEGIN:VEVENT
DTSTAMP:20260424T165308Z
UID:79455c1d-7449-488f-b859-f2cd8ddcd410
DTSTART;VALUE=DATE:20260518
DTEND;VALUE=DATE:20260519
DESCRIPTION:<p style="text-align: center"><strong>Junior Bomber Theatre Cam
 p for Rising 3rd-8th graders</strong></p><p>This week-long&nbsp\;camp&nbsp
 \;will immerse little bombers in the world of&nbsp\;theatre\, allowing the
 m to explore aspects of performance and design under the guidance of high 
 school&nbsp\;theatre&nbsp\;students. The week will culminate in a performa
 nce for families. Go to&nbsp\;<a target="_blank" rel="noopener noreferrer 
 nofollow" href="http://mhhsbombertheatre.ludus.com">mhhsbombertheatre.ludu
 s.com</a>&nbsp\;to register and pay. Questions? Contact&nbsp\;<a target="_
 blank" rel="noopener noreferrer nofollow" href="mailto:mwise@mhbombers.com
 " relative-link="">Matthew Wise.</a></p><ul><li><p><strong>Cost</strong>: 
 $75</p></li><li><p><strong>Grades</strong>: Incoming 3rd-8th</p></li><li><
 p><strong>Location</strong>: MHHS Dunbar Auditorium</p></li><li><p><strong
 >When</strong>: May 18-22\; Monday - Thursday from 8:00 AM to 12:00 PM\; F
 riday from 1:00 pm to 6:00 pm</p></li></ul>
LOCATION:
SUMMARY:Junior Bomber Theatre Camp for Rising 3rd-8th graders
END:VEVENT
BEGIN:VEVENT
DTSTAMP:20260424T165308Z
UID:bd3d649e-5745-4c04-bb25-348bb4c0d7eb
DTSTART:20260518T073000
DTEND:20260521T153000
DESCRIPTION:
LOCATION:
SUMMARY:Teacher Independent Contract Day (CT FLEX) (no students)
END:VEVENT
BEGIN:VEVENT
DTSTAMP:20260424T165308Z
UID:7cacd17f-1031-4a92-befd-6e4e7a4b6527
DTSTART;VALUE=DATE:20260519
DTEND;VALUE=DATE:20260520
DESCRIPTION:<p style="text-align: center"><strong>Junior Bomber Theatre Cam
 p for Rising 3rd-8th graders</strong></p><p>This week-long&nbsp\;camp&nbsp
 \;will immerse little bombers in the world of&nbsp\;theatre\, allowing the
 m to explore aspects of performance and design under the guidance of high 
 school&nbsp\;theatre&nbsp\;students. The week will culminate in a performa
 nce for families. Go to&nbsp\;<a target="_blank" rel="noopener noreferrer 
 nofollow" href="http://mhhsbombertheatre.ludus.com">mhhsbombertheatre.ludu
 s.com</a>&nbsp\;to register and pay. Questions? Contact&nbsp\;<a target="_
 blank" rel="noopener noreferrer nofollow" href="mailto:mwise@mhbombers.com
 " relative-link="">Matthew Wise.</a></p><ul><li><p><strong>Cost</strong>: 
 $75</p></li><li><p><strong>Grades</strong>: Incoming 3rd-8th</p></li><li><
 p><strong>Location</strong>: MHHS Dunbar Auditorium</p></li><li><p><strong
 >When</strong>: May 18-22\; Monday - Thursday from 8:00 AM to 12:00 PM\; F
 riday from 1:00 pm to 6:00 pm</p></li></ul>
LOCATION:
SUMMARY:Junior Bomber Theatre Camp for Rising 3rd-8th graders
END:VEVENT
BEGIN:VEVENT
DTSTAMP:20260424T165308Z
UID:47bf0475-0194-4ba4-a151-6e01a78df59e
DTSTART;VALUE=DATE:20260520
DTEND;VALUE=DATE:20260521
DESCRIPTION:<p style="text-align: center"><strong>Junior Bomber Theatre Cam
 p for Rising 3rd-8th graders</strong></p><p>This week-long&nbsp\;camp&nbsp
 \;will immerse little bombers in the world of&nbsp\;theatre\, allowing the
 m to explore aspects of performance and design under the guidance of high 
 school&nbsp\;theatre&nbsp\;students. The week will culminate in a performa
 nce for families. Go to&nbsp\;<a target="_blank" rel="noopener noreferrer 
 nofollow" href="http://mhhsbombertheatre.ludus.com">mhhsbombertheatre.ludu
 s.com</a>&nbsp\;to register and pay. Questions? Contact&nbsp\;<a target="_
 blank" rel="noopener noreferrer nofollow" href="mailto:mwise@mhbombers.com
 " relative-link="">Matthew Wise.</a></p><ul><li><p><strong>Cost</strong>: 
 $75</p></li><li><p><strong>Grades</strong>: Incoming 3rd-8th</p></li><li><
 p><strong>Location</strong>: MHHS Dunbar Auditorium</p></li><li><p><strong
 >When</strong>: May 18-22\; Monday - Thursday from 8:00 AM to 12:00 PM\; F
 riday from 1:00 pm to 6:00 pm</p></li></ul>
LOCATION:
SUMMARY:Junior Bomber Theatre Camp for Rising 3rd-8th graders
END:VEVENT
BEGIN:VEVENT
DTSTAMP:20260424T165308Z
UID:a64ce5ec-974f-41ec-b4c4-fd79d8140c3a
DTSTART;VALUE=DATE:20260521
DTEND;VALUE=DATE:20260522
DESCRIPTION:<p style="text-align: center"><strong>Junior Bomber Theatre Cam
 p for Rising 3rd-8th graders</strong></p><p>This week-long&nbsp\;camp&nbsp
 \;will immerse little bombers in the world of&nbsp\;theatre\, allowing the
 m to explore aspects of performance and design under the guidance of high 
 school&nbsp\;theatre&nbsp\;students. The week will culminate in a performa
 nce for families. Go to&nbsp\;<a target="_blank" rel="noopener noreferrer 
 nofollow" href="http://mhhsbombertheatre.ludus.com">mhhsbombertheatre.ludu
 s.com</a>&nbsp\;to register and pay. Questions? Contact&nbsp\;<a target="_
 blank" rel="noopener noreferrer nofollow" href="mailto:mwise@mhbombers.com
 " relative-link="">Matthew Wise.</a></p><ul><li><p><strong>Cost</strong>: 
 $75</p></li><li><p><strong>Grades</strong>: Incoming 3rd-8th</p></li><li><
 p><strong>Location</strong>: MHHS Dunbar Auditorium</p></li><li><p><strong
 >When</strong>: May 18-22\; Monday - Thursday from 8:00 AM to 12:00 PM\; F
 riday from 1:00 pm to 6:00 pm</p></li></ul>
LOCATION:
SUMMARY:Junior Bomber Theatre Camp for Rising 3rd-8th graders
END:VEVENT
BEGIN:VEVENT
DTSTAMP:20260424T165308Z
UID:7a149bf3-3775-4314-8f9b-77a813ffcbd8
DTSTART:20260521T180000
DTEND:20260521T200000
DESCRIPTION:<p>Meeting will be held in the District Administration Building
  - Board Room<br>2465 Rodeo Drive\, Mountain Home AR 72653</p><p>Meeting w
 ill begin at 6:00 pm</p>
LOCATION:2465 Rodeo Dr\, Mountain Home\, AR 72653\, USA
SUMMARY:Board of Education Regular Meeting
END:VEVENT
BEGIN:VEVENT
DTSTAMP:20260424T165308Z
UID:f6e9ab7f-26fa-4c5f-92e4-0a6ebb116cde
DTSTART;VALUE=DATE:20260522
DTEND;VALUE=DATE:20260523
DESCRIPTION:<p style="text-align: center"><strong>Junior Bomber Theatre Cam
 p for Rising 3rd-8th graders</strong></p><p>This week-long&nbsp\;camp&nbsp
 \;will immerse little bombers in the world of&nbsp\;theatre\, allowing the
 m to explore aspects of performance and design under the guidance of high 
 school&nbsp\;theatre&nbsp\;students. The week will culminate in a performa
 nce for families. Go to&nbsp\;<a target="_blank" rel="noopener noreferrer 
 nofollow" href="http://mhhsbombertheatre.ludus.com">mhhsbombertheatre.ludu
 s.com</a>&nbsp\;to register and pay. Questions? Contact&nbsp\;<a target="_
 blank" rel="noopener noreferrer nofollow" href="mailto:mwise@mhbombers.com
 " relative-link="">Matthew Wise.</a></p><ul><li><p><strong>Cost</strong>: 
 $75</p></li><li><p><strong>Grades</strong>: Incoming 3rd-8th</p></li><li><
 p><strong>Location</strong>: MHHS Dunbar Auditorium</p></li><li><p><strong
 >When</strong>: May 18-22\; Monday - Thursday from 8:00 AM to 12:00 PM\; F
 riday from 1:00 pm to 6:00 pm</p></li></ul>
LOCATION:
SUMMARY:Junior Bomber Theatre Camp for Rising 3rd-8th graders
END:VEVENT
BEGIN:VEVENT
DTSTAMP:20260424T165308Z
UID:fbe8bdb4-085d-4c7e-91ed-cfd8ea316570
DTSTART:20260618T180000
DTEND:20260618T200000
DESCRIPTION:<p>Meeting will be held in the District Administration Building
  - Board Room<br>2465 Rodeo Drive\, Mountain Home AR 72653</p><p>Meeting w
 ill begin at 6:00 pm</p>
LOCATION:2465 Rodeo Dr\, Mountain Home\, AR 72653\, USA
SUMMARY:Board of Education Regular Meeting
END:VEVENT
BEGIN:VEVENT
DTSTAMP:20260424T165308Z
UID:b736bd62-5355-4e8f-98a7-66c2fb91888b
DTSTART:20260716T180000
DTEND:20260716T200000
DESCRIPTION:<p>Meeting will be held in the District Administration Building
  - Board Room<br>2465 Rodeo Drive\, Mountain Home AR 72653</p><p>Meeting w
 ill begin at 6:00 pm</p>
LOCATION:2465 Rodeo Dr\, Mountain Home\, AR 72653\, USA
SUMMARY:Board of Education Regular Meeting
END:VEVENT
BEGIN:VEVENT
DTSTAMP:20260424T165308Z
UID:d17d1f90-8f3f-4688-801e-4a023b0962af
DTSTART:20260806T180000
DTEND:20260806T200000
DESCRIPTION:<p>Meeting will be held in the District Administration Building
  - Board Room<br>2465 Rodeo Drive\, Mountain Home AR 72653</p><p>Meeting w
 ill begin at 6:00 pm</p>
LOCATION:2465 Rodeo Dr\, Mountain Home\, AR 72653\, USA
SUMMARY:Board of Education Regular Meeting
END:VEVENT
BEGIN:VEVENT
DTSTAMP:20260424T165308Z
UID:d67655db-5381-4d5e-b805-2f4bd3f6e538
DTSTART:20260917T180000
DTEND:20260917T200000
DESCRIPTION:<p>Meeting will be held in the District Administration Building
  - Board Room<br>2465 Rodeo Drive\, Mountain Home AR 72653</p><p>Meeting w
 ill begin at 6:00 pm</p>
LOCATION:2465 Rodeo Dr\, Mountain Home\, AR 72653\, USA
SUMMARY:Board of Education Regular Meeting
END:VEVENT
END:VCALENDAR
