BEGIN:VCALENDAR
VERSION:2.0
PRODID:icalendar-ruby
CALSCALE:GREGORIAN
BEGIN:VTIMEZONE
TZID:America/Chicago
BEGIN:DAYLIGHT
DTSTART:20260308T030000
TZOFFSETFROM:-0600
TZOFFSETTO:-0500
RRULE:FREQ=YEARLY;BYDAY=2SU;BYMONTH=3
TZNAME:CDT
END:DAYLIGHT
BEGIN:STANDARD
DTSTART:20261101T010000
TZOFFSETFROM:-0500
TZOFFSETTO:-0600
RRULE:FREQ=YEARLY;BYDAY=1SU;BYMONTH=11
TZNAME:CST
END:STANDARD
END:VTIMEZONE
BEGIN:VEVENT
DTSTAMP:20260421T143805Z
UID:0ccc3a1b-ba0c-4825-8a26-01051abda18b
DTSTART:20260422T163000
DTEND:20260422T163000
DESCRIPTION:Type: Game  Opponent: Excelsior Springs  
LOCATION:Excelsior Springs Golf Club  
SUMMARY:Baseball: JV  vs. Excelsior Springs (Away)
END:VEVENT
BEGIN:VEVENT
DTSTAMP:20260421T143805Z
UID:ff4674d6-9a24-4884-8480-924512646225
DTSTART:20260423T171500
DTEND:20260423T171500
DESCRIPTION:Type: Game  Opponent: Johnston  Comments: Game is @ NWMSU Bearc
 at Soccer Pitch
LOCATION:Northwest Missouri State University  
SUMMARY:Soccer: Girls JV  vs. Johnston (Home)
END:VEVENT
BEGIN:VEVENT
DTSTAMP:20260421T143805Z
UID:ec4da8d2-bb7b-4453-b259-7987b812970e
DTSTART:20260424T150000
DTEND:20260424T220000
DESCRIPTION:Type: Invitational  Opponent: Excelsior Springs  
LOCATION:Excelsior Springs High School  
SUMMARY:Track: Varsity  vs. Excelsior Springs (Away)
END:VEVENT
BEGIN:VEVENT
DTSTAMP:20260421T143805Z
UID:db2f3252-9b06-4ae2-8089-432de29039bb
DTSTART:20260425T090000
DTEND:20260425T090000
DESCRIPTION:Type: Tournament  Opponent:  St. Joseph Benton">Multiple School
 s  Comments: 9 a.m. Savannah vs. Maryville 11 a.m. Maryville vs. Benton 1 
 p.m. Benton vs. Savannah
LOCATION:Savannah High School  
SUMMARY:Baseball: JV  vs.  St. Joseph Benton">Multiple Schools (Away)
END:VEVENT
BEGIN:VEVENT
DTSTAMP:20260421T143805Z
UID:26358cc5-4a69-4fb5-9be1-231b298c49cb
DTSTART:20260427T163000
DTEND:20260427T163000
DESCRIPTION:Type: Meet  Opponent: CameronChillicothe High SchoolLafayette F
 ighting IrishSavannah'>Multiple Schools  Comments: Throwers Only "Throw Do
 wn"
LOCATION:Maryville High School  HS FB Entire Field
SUMMARY:Track: Varsity  vs. CameronChillicothe High SchoolLafayette Fightin
 g IrishSavannah'>Multiple Schools (Home)
END:VEVENT
BEGIN:VEVENT
DTSTAMP:20260421T143805Z
UID:a45e8d6e-b4f6-4487-a7cc-4fd7fd2f7e3e
DTSTART:20260427T183000
DTEND:20260427T183000
DESCRIPTION:Type: Game  Opponent: Benton  
LOCATION:Hyde Park  
SUMMARY:Baseball: JV  vs. Benton (Away)
END:VEVENT
BEGIN:VEVENT
DTSTAMP:20260421T143805Z
UID:2f65ef76-9391-489a-b044-9f5a112175e3
DTSTART:20260428T183000
DTEND:20260428T183000
DESCRIPTION:Type: Game  Opponent: Excelsior Springs  
LOCATION:Maryville High School  HS FB Entire Field
SUMMARY:Soccer: Girls JV  (Rescheduled from 04-17-26) vs. Excelsior Springs
  (Home)
END:VEVENT
BEGIN:VEVENT
DTSTAMP:20260421T143805Z
UID:e233bc77-cf91-4939-b5d4-ffbfee06b8a2
DTSTART:20260429T183000
DTEND:20260429T183000
DESCRIPTION:Type: Game  Opponent: Savannah  
LOCATION:Savannah High School  
SUMMARY:Baseball: JV  vs. Savannah (Away)
END:VEVENT
BEGIN:VEVENT
DTSTAMP:20260421T143805Z
UID:c027c688-8955-43de-adae-627cbf657794
DTSTART:20260430T160000
DTEND:20260430T160000
DESCRIPTION:Type: Invitational  Opponent: CameronLafayette Fighting IrishSa
 vannahSt. Joseph Benton'>Multiple Schools  Comments: SENIOR NIGHT
LOCATION:Maryville High School  HS FB Entire Field
SUMMARY:Track: Varsity  vs. CameronLafayette Fighting IrishSavannahSt. Jose
 ph Benton'>Multiple Schools (Home)
END:VEVENT
BEGIN:VEVENT
DTSTAMP:20260421T143805Z
UID:0b22a5f7-28dd-4e82-bf66-9f49620146c4
DTSTART:20260430T183000
DTEND:20260430T183000
DESCRIPTION:Type: Game  Opponent: St. Joseph Benton  
LOCATION:St. Joseph Benton High School  
SUMMARY:Baseball: JV  vs. St. Joseph Benton (Away)
END:VEVENT
BEGIN:VEVENT
DTSTAMP:20260421T143805Z
UID:80b36e33-4e63-4719-bea4-4371ef74c27c
DTSTART:20260501T180000
DTEND:20260501T180000
DESCRIPTION:Type: Game  Opponent: Pleasant Hill  
LOCATION:Maryville High School  HS FB Entire Field
SUMMARY:Soccer: Girls JV  vs. Pleasant Hill (Home)
END:VEVENT
BEGIN:VEVENT
DTSTAMP:20260421T143805Z
UID:61cfc44f-ad0f-4848-b0b8-f9e7e28a5634
DTSTART:20260504T140000
DTEND:20260504T140000
DESCRIPTION:Type: MEC Meet  Opponent: CameronChillicothe High SchoolLafayet
 te Fighting IrishSavannahSt. Joe LeblondSt. Joseph Benton'>Multiple School
 s  
LOCATION:Maryville High School  HS FB Entire Field
SUMMARY:Track: Varsity  vs. CameronChillicothe High SchoolLafayette Fightin
 g IrishSavannahSt. Joe LeblondSt. Joseph Benton'>Multiple Schools (Home)
END:VEVENT
BEGIN:VEVENT
DTSTAMP:20260421T143805Z
UID:4f082b4e-da91-49b8-833f-49998f9a37ae
DTSTART:20260505T183000
DTEND:20260505T183000
DESCRIPTION:Type: Game  Opponent: Chillicothe High School  
LOCATION:Shaffer Memorial Park  
SUMMARY:Baseball: JV  vs. Chillicothe High School (Away)
END:VEVENT
BEGIN:VEVENT
DTSTAMP:20260421T143805Z
UID:a89e92c4-ccc4-4ea1-bf32-d6e6b20644dd
DTSTART:20260506T181500
DTEND:20260506T181500
DESCRIPTION:Type: Game  Opponent: Blue Valley  
LOCATION:Blue Valley High School  
SUMMARY:Soccer: Girls JV  vs. Blue Valley (Away)
END:VEVENT
BEGIN:VEVENT
DTSTAMP:20260421T143805Z
UID:6e8b60aa-27e5-4e02-b279-645982b6be90
DTSTART:20260507T180000
DTEND:20260507T180000
DESCRIPTION:Type: Game  Opponent: St. Pius X  
LOCATION:St. Pius X High School  
SUMMARY:Baseball: JV  vs. St. Pius X (Away)
END:VEVENT
BEGIN:VEVENT
DTSTAMP:20260421T143805Z
UID:d6ebe212-ebf4-4e40-80d8-8bbb101f7ed3
DTSTART:20260507T183000
DTEND:20260507T183000
DESCRIPTION:Type: Game  Opponent: Cameron  
LOCATION:Maryville High School  HS FB Entire Field
SUMMARY:Soccer: Girls JV  vs. Cameron (Home)
END:VEVENT
BEGIN:VEVENT
DTSTAMP:20260421T143805Z
UID:072b0a33-8e05-4fbd-85a3-543a3438e143
DTSTART:20260508T190000
DTEND:20260508T190000
DESCRIPTION:Type: Game  Opponent: Plattsburg  
LOCATION:Maryville High School  HS BB/SB Entire Field
SUMMARY:Baseball: JV  vs. Plattsburg (Home)
END:VEVENT
BEGIN:VEVENT
DTSTAMP:20260421T143805Z
UID:8678d102-2ca0-4645-87f3-b73b1f5f0d32
DTSTART:20260509T090000
DTEND:20260509T090000
DESCRIPTION:Type: District Championship  Opponent: TBA  
LOCATION:TBA  
SUMMARY:Track: Varsity  vs. TBA (Away)
END:VEVENT
BEGIN:VEVENT
DTSTAMP:20260421T143805Z
UID:e305ca9d-105c-4e56-bcf0-3f8ed55606fa
DTSTART:20260512T183000
DTEND:20260512T183000
DESCRIPTION:Type: Game  Opponent: Bishop LeBlond  
LOCATION:Maryville High School  HS BB/SB Entire Field
SUMMARY:Baseball: JV  vs. Bishop LeBlond (Home)
END:VEVENT
BEGIN:VEVENT
DTSTAMP:20260421T143805Z
UID:b09660e3-42c5-41a1-a9cf-47a1b6ddcc64
DTSTART:20260512T183000
DTEND:20260512T183000
DESCRIPTION:Type: Game  Opponent: Savannah  
LOCATION:Savannah High School  
SUMMARY:Soccer: Girls JV  vs. Savannah (Away)
END:VEVENT
BEGIN:VEVENT
DTSTAMP:20260421T143805Z
UID:5f2aec0a-1e44-4903-87f0-a05c42dea896
DTSTART:20260514T163000
DTEND:20260514T163000
DESCRIPTION:Type: Game  Opponent: Harrisonville  
LOCATION:Maryville High School  HS FB Entire Field
SUMMARY:Soccer: Girls JV  vs. Harrisonville (Home)
END:VEVENT
BEGIN:VEVENT
DTSTAMP:20260421T143805Z
UID:592a6f1c-3804-46ec-a23f-16e17e2bee21
DTSTART:20260516T100000
DTEND:20260516T100000
DESCRIPTION:Type: Sectionals  Opponent: TBA  
LOCATION:TBA  
SUMMARY:Track: Varsity  vs. TBA (Away)
END:VEVENT
BEGIN:VEVENT
DTSTAMP:20260421T143805Z
UID:1294f8ca-6645-47a6-b0ba-14b7437b55f9
DTSTART:20260522T213000
DTEND:20260522T213000
DESCRIPTION:Type: State Championship  Opponent: Jefferson City  
LOCATION:Jefferson City High School  
SUMMARY:Track: Varsity  vs. Jefferson City (Away)
END:VEVENT
BEGIN:VEVENT
DTSTAMP:20260421T143805Z
UID:d4814f81-fd68-474a-8902-03b5dd9e9fa2
DTSTART:20260523T090000
DTEND:20260523T090000
DESCRIPTION:Type: State Championship  Opponent: Jefferson City  
LOCATION:Jefferson City High School  
SUMMARY:Track: Varsity  vs. Jefferson City (Away)
END:VEVENT
BEGIN:VEVENT
DTSTAMP:20260421T143805Z
UID:89fc4385-87f6-4b50-b9e2-405a4912e6b5
DTSTART:20260625T000000
DTEND:20260625T000000
DESCRIPTION:
LOCATION:
SUMMARY:Dead Period  (Home)
END:VEVENT
BEGIN:VEVENT
DTSTAMP:20260421T143805Z
UID:70069903-8e6f-45a0-934e-0c02ea3a3881
DTSTART:20260626T000000
DTEND:20260626T000000
DESCRIPTION:
LOCATION:
SUMMARY:Dead Period  (Home)
END:VEVENT
BEGIN:VEVENT
DTSTAMP:20260421T143805Z
UID:faaf1dd5-9bc4-4db7-8aef-c9a7aa5bd6e7
DTSTART:20260627T000000
DTEND:20260627T000000
DESCRIPTION:
LOCATION:
SUMMARY:Dead Period  (Home)
END:VEVENT
BEGIN:VEVENT
DTSTAMP:20260421T143805Z
UID:90697742-0029-4813-ae42-de434a0dfa2e
DTSTART:20260628T000000
DTEND:20260628T000000
DESCRIPTION:
LOCATION:
SUMMARY:Dead Period  (Home)
END:VEVENT
BEGIN:VEVENT
DTSTAMP:20260421T143805Z
UID:c3321c99-20a1-4300-9c49-0de884a13d98
DTSTART:20260629T000000
DTEND:20260629T000000
DESCRIPTION:
LOCATION:
SUMMARY:Dead Period  (Home)
END:VEVENT
BEGIN:VEVENT
DTSTAMP:20260421T143805Z
UID:3801ed76-6daf-4390-9713-24b49ff8d88f
DTSTART:20260630T000000
DTEND:20260630T000000
DESCRIPTION:
LOCATION:
SUMMARY:Dead Period  (Home)
END:VEVENT
BEGIN:VEVENT
DTSTAMP:20260421T143805Z
UID:a71b9975-c007-417c-bd0e-19a4822e3d93
DTSTART:20260701T000000
DTEND:20260701T000000
DESCRIPTION:
LOCATION:
SUMMARY:Dead Period  (Home)
END:VEVENT
BEGIN:VEVENT
DTSTAMP:20260421T143805Z
UID:054c6c36-c4be-48dd-8454-1875a9b1e910
DTSTART:20260702T000000
DTEND:20260702T000000
DESCRIPTION:
LOCATION:
SUMMARY:Dead Period  (Home)
END:VEVENT
BEGIN:VEVENT
DTSTAMP:20260421T143805Z
UID:5bf1ec22-b8ff-452b-b91c-b067f0286410
DTSTART:20260703T000000
DTEND:20260703T000000
DESCRIPTION:
LOCATION:
SUMMARY:Dead Period  (Home)
END:VEVENT
BEGIN:VEVENT
DTSTAMP:20260421T143805Z
UID:1a06ca94-c4f2-4a74-83f6-608706540e4c
DTSTART:20260704T000000
DTEND:20260704T000000
DESCRIPTION:
LOCATION:
SUMMARY:Dead Period  (Home)
END:VEVENT
BEGIN:VEVENT
DTSTAMP:20260421T143805Z
UID:ab093c8b-780e-4cbe-a401-60935edbda23
DTSTART:20260705T000000
DTEND:20260705T000000
DESCRIPTION:
LOCATION:
SUMMARY:Dead Period  (Home)
END:VEVENT
BEGIN:VEVENT
DTSTAMP:20260421T143805Z
UID:ad2e804d-b86e-43e9-9244-bc2b2fc1cb19
DTSTART:20260801T000000
DTEND:20260801T000000
DESCRIPTION:
LOCATION:
SUMMARY:Dead Period  (Home)
END:VEVENT
BEGIN:VEVENT
DTSTAMP:20260421T143805Z
UID:db6b4171-a6e4-475e-a129-7971ddc3342d
DTSTART:20260802T000000
DTEND:20260802T000000
DESCRIPTION:
LOCATION:
SUMMARY:Dead Period  (Home)
END:VEVENT
BEGIN:VEVENT
DTSTAMP:20260421T143805Z
UID:ca446e70-db43-4da0-ade0-7bbbae0aaf3e
DTSTART:20260803T000000
DTEND:20260803T000000
DESCRIPTION:
LOCATION:
SUMMARY:Dead Period  (Home)
END:VEVENT
BEGIN:VEVENT
DTSTAMP:20260421T143805Z
UID:f3c55b8a-3201-44cf-89a5-dac70d5a6115
DTSTART:20260804T000000
DTEND:20260804T000000
DESCRIPTION:
LOCATION:
SUMMARY:Dead Period  (Home)
END:VEVENT
BEGIN:VEVENT
DTSTAMP:20260421T143805Z
UID:6c6cb08f-2db0-4a7e-bb15-d38917950930
DTSTART:20260805T000000
DTEND:20260805T000000
DESCRIPTION:
LOCATION:
SUMMARY:Dead Period  (Home)
END:VEVENT
BEGIN:VEVENT
DTSTAMP:20260421T143805Z
UID:bf35eadd-6819-4744-b1e6-8fb4e962dc6a
DTSTART:20260806T000000
DTEND:20260806T000000
DESCRIPTION:
LOCATION:
SUMMARY:Dead Period  (Home)
END:VEVENT
BEGIN:VEVENT
DTSTAMP:20260421T143805Z
UID:80def0a1-a658-48cf-b3b9-33962177766a
DTSTART:20260807T000000
DTEND:20260807T000000
DESCRIPTION:
LOCATION:
SUMMARY:Dead Period  (Home)
END:VEVENT
BEGIN:VEVENT
DTSTAMP:20260421T143805Z
UID:f44d18b7-eb4e-497f-9856-264d7a427776
DTSTART:20260808T000000
DTEND:20260808T000000
DESCRIPTION:
LOCATION:
SUMMARY:Dead Period  (Home)
END:VEVENT
BEGIN:VEVENT
DTSTAMP:20260421T143805Z
UID:a8e75b5a-4bf1-4415-8614-06e12976a8c9
DTSTART:20260809T000000
DTEND:20260809T000000
DESCRIPTION:
LOCATION:
SUMMARY:Dead Period  (Home)
END:VEVENT
BEGIN:VEVENT
DTSTAMP:20260421T143805Z
UID:68b397a2-e935-4bcb-a635-8a4e93909b0e
DTSTART:20260822T090000
DTEND:20260822T090000
DESCRIPTION:Type: Jamboree  
LOCATION:
SUMMARY:Softball: Varsity (Away)
END:VEVENT
BEGIN:VEVENT
DTSTAMP:20260421T143805Z
UID:15e70621-138c-4987-b8ad-b33e366ae45e
DTSTART:20260822T093000
DTEND:20260822T093000
DESCRIPTION:Type: Jamboree  
LOCATION:
SUMMARY:Soccer: Boys Varsity (Away)
END:VEVENT
BEGIN:VEVENT
DTSTAMP:20260421T143805Z
UID:444f20fb-93c0-48e0-9898-1d1bd56aaa06
DTSTART:20260827T163000
DTEND:20260827T163000
DESCRIPTION:Type: Game  Opponent: North Andrew  
LOCATION:North Andrew High School  
SUMMARY:Softball: Varsity  vs. North Andrew (Away)
END:VEVENT
BEGIN:VEVENT
DTSTAMP:20260421T143805Z
UID:d8f08a53-a2e3-4074-bf82-274c6db1ac31
DTSTART:20260829T090000
DTEND:20260829T090000
DESCRIPTION:Type: Tournament  Opponent: Plattsburg  
LOCATION:Maryville High School  
SUMMARY:Softball: Varsity  vs. Plattsburg (Home)
END:VEVENT
BEGIN:VEVENT
DTSTAMP:20260421T143805Z
UID:78bdcf9f-bbdb-42d0-be51-1efb41aac49b
DTSTART:20260901T163000
DTEND:20260901T163000
DESCRIPTION:Type: Game  Opponent: Lathrop  
LOCATION:Lathrop High School  
SUMMARY:Softball: Varsity  vs. Lathrop (Away)
END:VEVENT
BEGIN:VEVENT
DTSTAMP:20260421T143805Z
UID:0ab8b0ce-461a-4e6a-a2ea-7ac95294b7af
DTSTART:20260902T170000
DTEND:20260902T170000
DESCRIPTION:Type: Tournament  Opponent: Lutheran  
LOCATION:Maryville High School  
SUMMARY:Soccer: Boys Varsity  vs. Lutheran (Home)
END:VEVENT
BEGIN:VEVENT
DTSTAMP:20260421T143805Z
UID:7d4e1beb-0d67-4216-a88b-65167155164f
DTSTART:20260903T170000
DTEND:20260903T170000
DESCRIPTION:Type: Game  Opponent: Northeast Nodaway  
LOCATION:Northeast Nodaway High School  
SUMMARY:Softball: Varsity  vs. Northeast Nodaway (Away)
END:VEVENT
BEGIN:VEVENT
DTSTAMP:20260421T143805Z
UID:0315b1a6-ee4d-41fd-ba9e-5314580d4dfc
DTSTART:20260903T190000
DTEND:20260903T190000
DESCRIPTION:Type: Tournament  Opponent: Sacred Heart  
LOCATION:Maryville High School  
SUMMARY:Soccer: Boys Varsity  vs. Sacred Heart (Home)
END:VEVENT
BEGIN:VEVENT
DTSTAMP:20260421T143805Z
UID:02b73e93-5a96-4e53-b014-600b93fb2f23
DTSTART:20260905T140000
DTEND:20260905T140000
DESCRIPTION:Type: Tournament  Opponent:  TBA">Multiple Schools  
LOCATION:
SUMMARY:Soccer: Boys Varsity  vs.  TBA">Multiple Schools (Away)
END:VEVENT
BEGIN:VEVENT
DTSTAMP:20260421T143805Z
UID:81b46020-c79b-4ebe-81f3-29fbebdbafa2
DTSTART:20260907T170000
DTEND:20260907T170000
DESCRIPTION:Type: Game  Opponent: Lawson  
LOCATION:Lawson High School  
SUMMARY:Softball: Varsity  vs. Lawson (Away)
END:VEVENT
BEGIN:VEVENT
DTSTAMP:20260421T143805Z
UID:194c9ab9-18c2-4d68-bcf8-a00d40c19f0d
DTSTART:20260908T153000
DTEND:20260908T210000
DESCRIPTION:Type: Tournament  Opponent:  Excelsior Springs">Multiple School
 s  
LOCATION:
SUMMARY:Soccer: Boys Varsity  vs.  Excelsior Springs">Multiple Schools (Awa
 y)
END:VEVENT
BEGIN:VEVENT
DTSTAMP:20260421T143805Z
UID:93d9f1b3-c27f-4e0c-8a77-89ab88156c86
DTSTART:20260908T170000
DTEND:20260908T170000
DESCRIPTION:Type: Game  Opponent: Cameron  
LOCATION:Cameron High School  
SUMMARY:Softball: Varsity  vs. Cameron (Away)
END:VEVENT
BEGIN:VEVENT
DTSTAMP:20260421T143805Z
UID:2f676800-a602-4782-9e54-f0c01d2accaf
DTSTART:20260910T153000
DTEND:20260910T210000
DESCRIPTION:Type: Tournament  Opponent:  Excelsior Springs">Multiple School
 s  
LOCATION:
SUMMARY:Soccer: Boys Varsity  vs.  Excelsior Springs">Multiple Schools (Awa
 y)
END:VEVENT
BEGIN:VEVENT
DTSTAMP:20260421T143805Z
UID:4ef35181-97e7-4ca4-a7ca-e4485675377a
DTSTART:20260910T163000
DTEND:20260910T163000
DESCRIPTION:Type: Game  Opponent: Lafayette Fighting Irish  
LOCATION:Maryville High School  
SUMMARY:Softball: Varsity  vs. Lafayette Fighting Irish (Home)
END:VEVENT
BEGIN:VEVENT
DTSTAMP:20260421T143805Z
UID:b277d22f-6807-4a03-895c-1792d05c183d
DTSTART:20260912T083000
DTEND:20260912T140000
DESCRIPTION:Type: Tournament  Opponent:  Excelsior Springs">Multiple School
 s  
LOCATION:
SUMMARY:Soccer: Boys Varsity  vs.  Excelsior Springs">Multiple Schools (Awa
 y)
END:VEVENT
BEGIN:VEVENT
DTSTAMP:20260421T143805Z
UID:37533a6a-ab92-45da-b673-dedbe840148b
DTSTART:20260912T090000
DTEND:20260912T090000
DESCRIPTION:Type: Tournament  Opponent: Benton  
LOCATION:
SUMMARY:Softball: Varsity  vs. Benton (Away)
END:VEVENT
BEGIN:VEVENT
DTSTAMP:20260421T143805Z
UID:57284069-7526-4dcd-a8e8-298993dbf386
DTSTART:20260914T170000
DTEND:20260914T170000
DESCRIPTION:Type: Game  Opponent: Jefferson (Conception Junction)  
LOCATION:Maryville High School  
SUMMARY:Softball: Varsity  vs. Jefferson (Conception Junction) (Home)
END:VEVENT
BEGIN:VEVENT
DTSTAMP:20260421T143805Z
UID:911ecb35-2930-4e6d-9fa7-5f4151c73126
DTSTART:20260915T163000
DTEND:20260915T163000
DESCRIPTION:Type: Game  Opponent: Savannah  
LOCATION:Maryville High School  
SUMMARY:Softball: Varsity  vs. Savannah (Home)
END:VEVENT
BEGIN:VEVENT
DTSTAMP:20260421T143805Z
UID:468d1e1b-7bd1-4a51-8981-60973586f4c6
DTSTART:20260915T170000
DTEND:20260915T170000
DESCRIPTION:Type: Match  Opponent: Chillicothe High School  
LOCATION:Maryville High School  
SUMMARY:Soccer: Boys Varsity  vs. Chillicothe High School (Home)
END:VEVENT
BEGIN:VEVENT
DTSTAMP:20260421T143805Z
UID:de197e65-6c2d-405d-b15f-57f52d9a342f
DTSTART:20260916T163000
DTEND:20260916T163000
DESCRIPTION:Type: Meet  Opponent: North Platte  
LOCATION:Camden Point City Park  
SUMMARY:Cross Country: MS  vs. North Platte (Away)
END:VEVENT
BEGIN:VEVENT
DTSTAMP:20260421T143805Z
UID:787196d5-331b-46ec-bdca-741ce063b09e
DTSTART:20260917T163000
DTEND:20260917T163000
DESCRIPTION:Type: Game  Opponent: St. Joseph Benton  
LOCATION:St. Joseph Benton High School  
SUMMARY:Softball: Varsity  vs. St. Joseph Benton (Away)
END:VEVENT
BEGIN:VEVENT
DTSTAMP:20260421T143805Z
UID:9ee6af5d-3557-46a5-8f3d-24aee877d6db
DTSTART:20260919T090000
DTEND:20260919T090000
DESCRIPTION:Type: Tournament  Opponent: Stanberry  
LOCATION:Maryville High School  
SUMMARY:Softball: Varsity  vs. Stanberry (Home)
END:VEVENT
BEGIN:VEVENT
DTSTAMP:20260421T143805Z
UID:df463345-139f-4e1f-87ee-80598bd0ae04
DTSTART:20260922T170000
DTEND:20260922T170000
DESCRIPTION:Type: Game  Opponent: Chillicothe High School  
LOCATION:Chillicothe High School  
SUMMARY:Softball: Varsity  vs. Chillicothe High School (Away)
END:VEVENT
BEGIN:VEVENT
DTSTAMP:20260421T143805Z
UID:3fa3e7da-36e3-4518-badf-c4cac571fe18
DTSTART:20260923T160000
DTEND:20260923T160000
DESCRIPTION:Type: Game  Opponent: Savannah  
LOCATION:Maryville High School  
SUMMARY:Soccer: Boys Varsity  vs. Savannah (Home)
END:VEVENT
BEGIN:VEVENT
DTSTAMP:20260421T143805Z
UID:9f153064-2eeb-4884-a66d-821a6ade4c24
DTSTART:20260923T170000
DTEND:20260923T170000
DESCRIPTION:Type: Game  Opponent: East Buchanan  
LOCATION:Maryville High School  
SUMMARY:Softball: Varsity  vs. East Buchanan (Home)
END:VEVENT
BEGIN:VEVENT
DTSTAMP:20260421T143805Z
UID:4c4e1c7c-bf5d-41f2-810b-ee360730c506
DTSTART:20260924T163000
DTEND:20260924T163000
DESCRIPTION:Type: Game  Opponent: Excelsior Springs  
LOCATION:Maryville High School  
SUMMARY:Softball: Varsity  vs. Excelsior Springs (Home)
END:VEVENT
BEGIN:VEVENT
DTSTAMP:20260421T143805Z
UID:36f64b40-349a-4355-9fb1-5f7810dcbd69
DTSTART:20260924T170000
DTEND:20260924T170000
DESCRIPTION:Type: Game  Opponent: Cameron  
LOCATION:Cameron High School  
SUMMARY:Soccer: Boys Varsity  vs. Cameron (Away)
END:VEVENT
BEGIN:VEVENT
DTSTAMP:20260421T143805Z
UID:8675e453-43b3-4ee1-b1a2-86084387feee
DTSTART:20260928T170000
DTEND:20260928T170000
DESCRIPTION:Type: Game  Opponent: Worth County  
LOCATION:Maryville High School  
SUMMARY:Softball: Varsity  vs. Worth County (Home)
END:VEVENT
BEGIN:VEVENT
DTSTAMP:20260421T143805Z
UID:d075f2ff-e812-4a9d-96e1-977c866b26d9
DTSTART:20260929T170000
DTEND:20260929T170000
DESCRIPTION:Type: Game  Opponent: Bishop LeBlond  
LOCATION:Maryville High School  
SUMMARY:Softball: Varsity  vs. Bishop LeBlond (Home)
END:VEVENT
BEGIN:VEVENT
DTSTAMP:20260421T143805Z
UID:aef8f1f3-327f-4494-b4ce-0d0cfbb57723
DTSTART:20260930T163000
DTEND:20260930T163000
DESCRIPTION:Type: Game  Opponent: St. Joseph Benton  
LOCATION:Maryville High School  
SUMMARY:Softball: Varsity  vs. St. Joseph Benton (Home)
END:VEVENT
BEGIN:VEVENT
DTSTAMP:20260421T143805Z
UID:137d1ff0-2adc-4f20-bee5-eba8d9202063
DTSTART:20261001T170000
DTEND:20261001T170000
DESCRIPTION:Type: Match  Opponent: Bishop LeBlond  
LOCATION:Bishop LeBlond High School  
SUMMARY:Soccer: Boys Varsity  vs. Bishop LeBlond (Away)
END:VEVENT
BEGIN:VEVENT
DTSTAMP:20260421T143805Z
UID:f361c770-32e0-4b28-bda6-f1c007c40216
DTSTART:20261002T160000
DTEND:20261002T160000
DESCRIPTION:Type: Meet  Opponent: Shenandoah  
LOCATION:Shenandoah High School  
SUMMARY:Cross Country: MS  vs. Shenandoah (Away)
END:VEVENT
BEGIN:VEVENT
DTSTAMP:20260421T143805Z
UID:4320e648-4474-44d7-ac4f-4fabca980f73
DTSTART:20261005T170000
DTEND:20261005T170000
DESCRIPTION:Type: Game  Opponent: North Platte  
LOCATION:North Platte High School  
SUMMARY:Softball: Varsity  vs. North Platte (Away)
END:VEVENT
BEGIN:VEVENT
DTSTAMP:20260421T143805Z
UID:fb66d83b-09a6-4cbf-9bcc-00e4c44a3636
DTSTART:20261006T170000
DTEND:20261006T170000
DESCRIPTION:Type: Game  Opponent: St. Joseph Benton  
LOCATION:St. Joseph Benton High School  
SUMMARY:Soccer: Boys Varsity  vs. St. Joseph Benton (Away)
END:VEVENT
BEGIN:VEVENT
DTSTAMP:20260421T143805Z
UID:b877b5f0-06ff-487b-970a-56834849fb9d
DTSTART:20261007T170000
DTEND:20261007T170000
DESCRIPTION:Type: Game  Opponent: Mid-Buchanan High School  
LOCATION:Maryville High School  
SUMMARY:Softball: Varsity  vs. Mid-Buchanan High School (Home)
END:VEVENT
BEGIN:VEVENT
DTSTAMP:20260421T143805Z
UID:114d1d15-1ce1-4b0e-91b8-86df4393db12
DTSTART:20261008T170000
DTEND:20261008T170000
DESCRIPTION:Type: Game  Opponent: Excelsior Springs  
LOCATION:Maryville High School  
SUMMARY:Soccer: Boys Varsity  vs. Excelsior Springs (Home)
END:VEVENT
BEGIN:VEVENT
DTSTAMP:20260421T143805Z
UID:1252d63f-0d2c-4923-9a5f-a3b3aa0ab33d
DTSTART:20261012T163000
DTEND:20261012T163000
DESCRIPTION:Type: Game  Opponent: DeKalb  
LOCATION:DeKalb High School  
SUMMARY:Softball: Varsity  vs. DeKalb (Away)
END:VEVENT
BEGIN:VEVENT
DTSTAMP:20260421T143805Z
UID:b5cbb888-9e11-4388-bea9-3af184355835
DTSTART:20261014T154500
DTEND:20261014T154500
DESCRIPTION:Type: Meet  Opponent: Cameron  
LOCATION:Cameron Golf Course  
SUMMARY:Cross Country: MS  vs. Cameron (Away)
END:VEVENT
BEGIN:VEVENT
DTSTAMP:20260421T143805Z
UID:9628496c-ce54-4a01-babf-144b628cba03
DTSTART:20261014T170000
DTEND:20261014T170000
DESCRIPTION:Type: District Tournament  Opponent: TBA  
LOCATION:
SUMMARY:Softball: Varsity  vs. TBA (Away)
END:VEVENT
BEGIN:VEVENT
DTSTAMP:20260421T143805Z
UID:a53f62fe-6b68-4050-8518-f8cfb68d76b3
DTSTART:20261015T000000
DTEND:20261015T000000
DESCRIPTION:Type: District Tournament  Opponent: TBA  
LOCATION:
SUMMARY:Softball: Varsity  vs. TBA (Away)
END:VEVENT
BEGIN:VEVENT
DTSTAMP:20260421T143805Z
UID:635910a9-be7f-47aa-9c99-defff3898ee4
DTSTART:20261015T170000
DTEND:20261015T170000
DESCRIPTION:Type: Game  Opponent: Savannah  
LOCATION:Savannah High School  
SUMMARY:Soccer: Boys Varsity  vs. Savannah (Away)
END:VEVENT
BEGIN:VEVENT
DTSTAMP:20260421T143805Z
UID:efd359eb-917c-4679-8450-cc4445ecb081
DTSTART:20261016T000000
DTEND:20261016T000000
DESCRIPTION:Type: District Tournament  Opponent: TBA  
LOCATION:
SUMMARY:Softball: Varsity  vs. TBA (Away)
END:VEVENT
BEGIN:VEVENT
DTSTAMP:20260421T143805Z
UID:d29d89ee-8154-49b3-8f90-17a3a1007628
DTSTART:20261016T160000
DTEND:20261016T160000
DESCRIPTION:Type: Meet  Opponent: Mount Ayr Community Schools  
LOCATION:Mount Ayr Country Club  
SUMMARY:Cross Country: MS  vs. Mount Ayr Community Schools (Away)
END:VEVENT
BEGIN:VEVENT
DTSTAMP:20260421T143805Z
UID:f43e0845-84ee-4249-bf2e-b70235731a63
DTSTART:20261017T000000
DTEND:20261017T000000
DESCRIPTION:Type: District Tournament  Opponent: TBA  
LOCATION:
SUMMARY:Softball: Varsity  vs. TBA (Away)
END:VEVENT
BEGIN:VEVENT
DTSTAMP:20260421T143805Z
UID:54f0d253-284e-4a82-8224-5ad05e20d00d
DTSTART:20261021T000000
DTEND:20261021T000000
DESCRIPTION:Type: Quarterfinals  Opponent: TBA  
LOCATION:Maryville High School  
SUMMARY:Softball: Varsity  vs. TBA (Home)
END:VEVENT
BEGIN:VEVENT
DTSTAMP:20260421T143805Z
UID:1aecf85a-2dd2-4391-bcf7-4bf5e2d60282
DTSTART:20261022T170000
DTEND:20261022T170000
DESCRIPTION:Type: Match  Opponent: Lafayette Fighting Irish  
LOCATION:Maryville High School  
SUMMARY:Soccer: Boys Varsity  vs. Lafayette Fighting Irish (Home)
END:VEVENT
BEGIN:VEVENT
DTSTAMP:20260421T143805Z
UID:5af9db21-6f36-4ac1-a1e8-a7c59fbc3668
DTSTART:20261031T140000
DTEND:20261031T140000
DESCRIPTION:Type: District  Opponent: TBA  
LOCATION:Maryville High School  
SUMMARY:Soccer: Boys Varsity  vs. TBA (Home)
END:VEVENT
BEGIN:VEVENT
DTSTAMP:20260421T143805Z
UID:caf11e14-2ed7-49d9-b904-5f060887f508
DTSTART:20261103T180000
DTEND:20261103T180000
DESCRIPTION:Type: District Tournament  Opponent: TBA  
LOCATION:Maryville High School  
SUMMARY:Soccer: Boys Varsity  vs. TBA (Home)
END:VEVENT
BEGIN:VEVENT
DTSTAMP:20260421T143805Z
UID:e6e2115d-ff47-4089-97b0-333d0be21b8c
DTSTART:20261105T180000
DTEND:20261105T180000
DESCRIPTION:Type: District Championship  Opponent: TBA  
LOCATION:Maryville High School  
SUMMARY:Soccer: Boys Varsity  vs. TBA (Home)
END:VEVENT
END:VCALENDAR
