BEGIN:VCALENDAR
VERSION:2.0
PRODID:icalendar-ruby
CALSCALE:GREGORIAN
BEGIN:VTIMEZONE
TZID:America/Chicago
BEGIN:DAYLIGHT
DTSTART:20260308T030000
TZOFFSETFROM:-0600
TZOFFSETTO:-0500
RRULE:FREQ=YEARLY;BYDAY=2SU;BYMONTH=3
TZNAME:CDT
END:DAYLIGHT
BEGIN:STANDARD
DTSTART:20261101T010000
TZOFFSETFROM:-0500
TZOFFSETTO:-0600
RRULE:FREQ=YEARLY;BYDAY=1SU;BYMONTH=11
TZNAME:CST
END:STANDARD
END:VTIMEZONE
BEGIN:VEVENT
DTSTAMP:20260423T181921Z
UID:1c8cc16f-7404-4f81-8285-8217f3cfe39e
DTSTART:20260423T100000
DTEND:20260423T120000
DESCRIPTION:
LOCATION:917 College Ave\, Maryville\, MO 64468\, USA
SUMMARY:Mental Health Speaker: Aly Raisman 
END:VEVENT
BEGIN:VEVENT
DTSTAMP:20260423T181921Z
UID:e2ee55c5-2741-4aec-ab2c-a38e23c02672
DTSTART:20260425T183000
DTEND:20260425T230000
DESCRIPTION:<p>For Junior and Senior Maryville High School Students and the
 ir guests.</p>
LOCATION:105 S Main St\, Maryville\, MO 64468\, USA
SUMMARY:Prom: Midnight in Venice
END:VEVENT
BEGIN:VEVENT
DTSTAMP:20260423T181921Z
UID:d1abbad3-21f3-43bb-b355-142f089e24c9
DTSTART:20260501T090000
DTEND:20260501T110000
DESCRIPTION:
LOCATION:MHS Pac
SUMMARY:Senior Decision Day Assembly and Awards
END:VEVENT
BEGIN:VEVENT
DTSTAMP:20260423T181921Z
UID:f398f79a-0bd0-48b9-8d81-8800709cbf07
DTSTART:20260503T180000
DTEND:20260503T190000
DESCRIPTION:<p>Join us for an interfaith gathering as we celebrate this mil
 estone with the theme: Faith for the Journey Ahead. Hear student speakers\
 , enjoy refreshments\, and celebrate this occasion with our community! </p
 >
LOCATION:Maryville High School PAC
SUMMARY:Maryville High School Baccalaureate
END:VEVENT
BEGIN:VEVENT
DTSTAMP:20260423T181921Z
UID:6fa30e99-daa5-4a81-8594-c82002061ab4
DTSTART:20260510T140000
DTEND:20260510T150000
DESCRIPTION:
LOCATION:800 University Dr\, Maryville\, MO 64468\, USA
SUMMARY:MHS Commencement
END:VEVENT
BEGIN:VEVENT
DTSTAMP:20260423T181921Z
UID:bd55aab6-16bd-4870-a3d3-a765271c4f95
DTSTART:20260514T080000
DTEND:20260514T150000
DESCRIPTION:
LOCATION:
SUMMARY:Last Day of School
END:VEVENT
END:VCALENDAR
