BEGIN:VCALENDAR
VERSION:2.0
PRODID:icalendar-ruby
CALSCALE:GREGORIAN
BEGIN:VTIMEZONE
TZID:America/Chicago
BEGIN:DAYLIGHT
DTSTART:20260308T030000
TZOFFSETFROM:-0600
TZOFFSETTO:-0500
RRULE:FREQ=YEARLY;BYDAY=2SU;BYMONTH=3
TZNAME:CDT
END:DAYLIGHT
BEGIN:STANDARD
DTSTART:20261101T010000
TZOFFSETFROM:-0500
TZOFFSETTO:-0600
RRULE:FREQ=YEARLY;BYDAY=1SU;BYMONTH=11
TZNAME:CST
END:STANDARD
END:VTIMEZONE
BEGIN:VEVENT
DTSTAMP:20260425T203223Z
UID:179b2c42-b4dd-4243-87fb-545a947b2d66
DTSTART:20260425T080000
DTEND:20260425T100000
DESCRIPTION:<a href="https://efes.maryville.k12.mo.us/o/efes/page/speedy-sp
 oofhound-5k">https://efes.maryville.k12.mo.us/o/efes/page/speedy-spoofhoun
 d-5k</a>
LOCATION:Maryville Middle School\, 525 W S Hls Dr\, Maryville\, MO 64468\, 
 USA
SUMMARY:Speedy Spoofhound
END:VEVENT
BEGIN:VEVENT
DTSTAMP:20260425T203223Z
UID:6bbfe2ce-ecd4-4ddf-bcb7-2760779917f7
DTSTART;VALUE=DATE:20260514
DTEND;VALUE=DATE:20260515
DESCRIPTION:
LOCATION:
SUMMARY:4th Quarter Ends
END:VEVENT
BEGIN:VEVENT
DTSTAMP:20260425T203223Z
UID:540a9b24-dd19-44bf-bdc9-bb7c1f7c3adc
DTSTART;VALUE=DATE:20260515
DTEND;VALUE=DATE:20260516
DESCRIPTION:
LOCATION:
SUMMARY:Staff Development - No Classes
END:VEVENT
BEGIN:VEVENT
DTSTAMP:20260425T203223Z
UID:5ab79a70-a97b-4f78-ae5b-a6ab12917176
DTSTART;VALUE=DATE:20260525
DTEND;VALUE=DATE:20260526
DESCRIPTION:
LOCATION:
SUMMARY:Memorial Day - District Closed
END:VEVENT
END:VCALENDAR
