BEGIN:VCALENDAR
VERSION:2.0
PRODID:icalendar-ruby
CALSCALE:GREGORIAN
BEGIN:VTIMEZONE
TZID:America/Chicago
BEGIN:DAYLIGHT
DTSTART:20260308T030000
TZOFFSETFROM:-0600
TZOFFSETTO:-0500
RRULE:FREQ=YEARLY;BYDAY=2SU;BYMONTH=3
TZNAME:CDT
END:DAYLIGHT
BEGIN:STANDARD
DTSTART:20261101T010000
TZOFFSETFROM:-0500
TZOFFSETTO:-0600
RRULE:FREQ=YEARLY;BYDAY=1SU;BYMONTH=11
TZNAME:CST
END:STANDARD
END:VTIMEZONE
BEGIN:VEVENT
DTSTAMP:20260424T070659Z
UID:42370563-19ff-45fb-8a57-2a9bd51849c4
DTSTART:20260425T080000
DTEND:20260425T093000
DESCRIPTION:
LOCATION:
SUMMARY:Speedy Spoofhound 5K and Fun Run
END:VEVENT
BEGIN:VEVENT
DTSTAMP:20260424T070659Z
UID:2fb2d247-5c0c-406a-ab45-8ea3d2874e0b
DTSTART:20260504T080000
DTEND:20260508T150000
DESCRIPTION:
LOCATION:
SUMMARY:Teacher Appreciation Week
END:VEVENT
BEGIN:VEVENT
DTSTAMP:20260424T070659Z
UID:efbdf863-c290-48e4-b90d-65924c59d328
DTSTART;VALUE=DATE:20260506
DTEND;VALUE=DATE:20260507
DESCRIPTION:
LOCATION:
SUMMARY:MECC Field Day
END:VEVENT
BEGIN:VEVENT
DTSTAMP:20260424T070659Z
UID:d0103873-be35-4fa3-8059-0d0714cd371f
DTSTART:20260512T180000
DTEND:20260512T191500
DESCRIPTION:
LOCATION:
SUMMARY:Kindergarten Graduation
END:VEVENT
BEGIN:VEVENT
DTSTAMP:20260424T070659Z
UID:90553d4f-640b-44b0-b2df-d7c30497828b
DTSTART;VALUE=DATE:20260514
DTEND;VALUE=DATE:20260515
DESCRIPTION:
LOCATION:
SUMMARY:End of Quarter
END:VEVENT
BEGIN:VEVENT
DTSTAMP:20260424T070659Z
UID:3b1ae3b1-09b6-4f07-815f-31c12c080823
DTSTART;VALUE=DATE:20260515
DTEND;VALUE=DATE:20260516
DESCRIPTION:
LOCATION:
SUMMARY:No School - Staff Development
END:VEVENT
END:VCALENDAR
