BEGIN:VCALENDAR
VERSION:2.0
PRODID:icalendar-ruby
CALSCALE:GREGORIAN
BEGIN:VTIMEZONE
TZID:America/New_York
BEGIN:DAYLIGHT
DTSTART:20260308T030000
TZOFFSETFROM:-0500
TZOFFSETTO:-0400
RRULE:FREQ=YEARLY;BYDAY=2SU;BYMONTH=3
TZNAME:EDT
END:DAYLIGHT
BEGIN:STANDARD
DTSTART:20261101T010000
TZOFFSETFROM:-0400
TZOFFSETTO:-0500
RRULE:FREQ=YEARLY;BYDAY=1SU;BYMONTH=11
TZNAME:EST
END:STANDARD
END:VTIMEZONE
BEGIN:VEVENT
DTSTAMP:20260423T103355Z
UID:36198c55-e4ba-4685-bbbe-e09e09db7db2
DTSTART;VALUE=DATE:20260424
DTEND;VALUE=DATE:20260425
DESCRIPTION:<p>Junior Interview Project Day</p><p>contact main office for a
 dditional information</p>
LOCATION:4949 PA-151\, Hookstown\, PA 15050\, USA
SUMMARY:Junior Interview Project Day
END:VEVENT
BEGIN:VEVENT
DTSTAMP:20260423T103355Z
UID:b8bde798-bdfd-4aad-bb08-33c955e259d2
DTSTART;VALUE=DATE:20260508
DTEND;VALUE=DATE:20260509
DESCRIPTION:<p>Student Early Dismissal Day</p><p>High School dismissed at 1
 2:00 pm</p>
LOCATION:4949 PA-151\, Hookstown\, PA 15050\, USA
SUMMARY:Student Early Dismissal Day
END:VEVENT
BEGIN:VEVENT
DTSTAMP:20260423T103355Z
UID:9e035c08-a283-421a-853a-84191f3e484d
DTSTART:20260517T080000
DTEND:20260519T090000
DESCRIPTION:<p>PJAS Competition at PSU</p><p>contact main office or Ms. Sto
 nebraker for additional information</p>
LOCATION:201 Old Main\, University Park\, PA 16802\, USA
SUMMARY:PJAS Competition at Penn State University
END:VEVENT
BEGIN:VEVENT
DTSTAMP:20260423T103355Z
UID:982a6799-231e-49de-8111-c76b236e5acc
DTSTART;VALUE=DATE:20260525
DTEND;VALUE=DATE:20260526
DESCRIPTION:<p>Memorial Day\, NO SCHOOL</p>
LOCATION:4949 PA-151\, Hookstown\, PA 15050\, USA
SUMMARY:Memorial Day\, NO SCHOOL
END:VEVENT
END:VCALENDAR
