BEGIN:VCALENDAR
VERSION:2.0
PRODID:icalendar-ruby
CALSCALE:GREGORIAN
BEGIN:VTIMEZONE
TZID:America/New_York
BEGIN:DAYLIGHT
DTSTART:20260308T030000
TZOFFSETFROM:-0500
TZOFFSETTO:-0400
RRULE:FREQ=YEARLY;BYDAY=2SU;BYMONTH=3
TZNAME:EDT
END:DAYLIGHT
BEGIN:STANDARD
DTSTART:20261101T010000
TZOFFSETFROM:-0400
TZOFFSETTO:-0500
RRULE:FREQ=YEARLY;BYDAY=1SU;BYMONTH=11
TZNAME:EST
END:STANDARD
END:VTIMEZONE
BEGIN:VEVENT
DTSTAMP:20260423T103309Z
UID:9b741c08-5624-42b3-a4b5-033c2f950ae1
DTSTART;VALUE=DATE:20260421
DTEND;VALUE=DATE:20260424
DESCRIPTION:<p>PSSA ELA Testing</p><p>contact school guidance counselor for
  additional information</p>
LOCATION:South Side Area School District\, PA\, USA
SUMMARY:PSSA ELA Testing  Grades 6-8
END:VEVENT
BEGIN:VEVENT
DTSTAMP:20260423T103309Z
UID:a2118a2c-ca15-4b82-9375-12447c45204b
DTSTART;VALUE=DATE:20260428
DTEND;VALUE=DATE:20260430
DESCRIPTION:<p>PSSA Math Testing  </p><p>contact school guidance counselor 
 for additional information</p>
LOCATION:South Side Area School District\, PA\, USA
SUMMARY:PSSA Math Testing Grades 6-8
END:VEVENT
BEGIN:VEVENT
DTSTAMP:20260423T103309Z
UID:14ea519e-236e-4595-90df-01180ce1291a
DTSTART;VALUE=DATE:20260430
DTEND;VALUE=DATE:20260501
DESCRIPTION:<p>PSSA Science Testing </p><p>8th Grade ONLY</p><p> contact sc
 hool guidance counselor for additional information</p>
LOCATION:South Side Area School District\, PA\, USA
SUMMARY:PSSA Science Testing (8th Grade ONLY)
END:VEVENT
BEGIN:VEVENT
DTSTAMP:20260423T103309Z
UID:cd4947e5-dc79-47ea-b353-f8d933122123
DTSTART;VALUE=DATE:20260508
DTEND;VALUE=DATE:20260509
DESCRIPTION:<p>Student Early Dismissal Day</p><p>Middle School dismissed at
  12:00 pm</p><p></p>
LOCATION:South Side Area School District\, PA\, USA
SUMMARY:Student Early Dismissal Day
END:VEVENT
BEGIN:VEVENT
DTSTAMP:20260423T103309Z
UID:d013bb72-2211-4001-8651-b5f5f45683ab
DTSTART:20260517T080000
DTEND:20260519T090000
DESCRIPTION:<p>PJAS Competition at PSU</p><p>contact main office or Ms. Sto
 nebraker or additional information</p>
LOCATION:201 Old Main\, University Park\, PA 16802\, USA
SUMMARY:PJAS Competition at Penn State University
END:VEVENT
BEGIN:VEVENT
DTSTAMP:20260423T103309Z
UID:928c44c7-cb6f-4b9b-9d63-b865ba7c0c73
DTSTART;VALUE=DATE:20260519
DTEND;VALUE=DATE:20260520
DESCRIPTION:<p>Middle School Olympics Day</p><p>contact main office for add
 itional information</p>
LOCATION:South Side Area School District\, PA\, USA
SUMMARY:Middle School Olympics Day
END:VEVENT
BEGIN:VEVENT
DTSTAMP:20260423T103309Z
UID:ea8d5016-6311-4fd1-8b12-4194e0d2912c
DTSTART;VALUE=DATE:20260525
DTEND;VALUE=DATE:20260526
DESCRIPTION:<p>Memorial Day\, NO SCHOOL</p>
LOCATION:South Side Area School District\, PA\, USA
SUMMARY:Memorial Day\, NO SCHOOL
END:VEVENT
END:VCALENDAR
