BEGIN:VCALENDAR
VERSION:2.0
PRODID:icalendar-ruby
CALSCALE:GREGORIAN
BEGIN:VTIMEZONE
TZID:America/New_York
BEGIN:DAYLIGHT
DTSTART:20260308T030000
TZOFFSETFROM:-0500
TZOFFSETTO:-0400
RRULE:FREQ=YEARLY;BYDAY=2SU;BYMONTH=3
TZNAME:EDT
END:DAYLIGHT
BEGIN:STANDARD
DTSTART:20261101T010000
TZOFFSETFROM:-0400
TZOFFSETTO:-0500
RRULE:FREQ=YEARLY;BYDAY=1SU;BYMONTH=11
TZNAME:EST
END:STANDARD
END:VTIMEZONE
BEGIN:VEVENT
DTSTAMP:20260423T132511Z
UID:385262cb-b30a-48a4-ba4b-3f6cc14c059e
DTSTART;VALUE=DATE:20260421
DTEND;VALUE=DATE:20260424
DESCRIPTION:<p>PSSA ELA Testing  </p><p>contact school guidance counselor f
 or additional information</p>
LOCATION:South Side Area School District\, PA\, USA
SUMMARY:PSSA ELA Testing  Grades 3-5
END:VEVENT
BEGIN:VEVENT
DTSTAMP:20260423T132511Z
UID:2b495dd0-02c1-4c0d-84be-3cd4da84fa8d
DTSTART;VALUE=DATE:20260428
DTEND;VALUE=DATE:20260430
DESCRIPTION:<p>PSSA Math Testing </p><p>contact school guidance counselor f
 or additional information</p>
LOCATION:South Side Area School District\, PA\, USA
SUMMARY:PSSA Math Testing Grades 3-5
END:VEVENT
BEGIN:VEVENT
DTSTAMP:20260423T132511Z
UID:039d6a8d-7210-48ac-8223-182bdebca593
DTSTART;VALUE=DATE:20260430
DTEND;VALUE=DATE:20260502
DESCRIPTION:<p>PSSA Science Testing  </p><p>5th Grade ONLY </p><p>contact s
 chool guidance counselor for additional information</p>
LOCATION:South Side Area School District\, PA\, USA
SUMMARY:PSSA Science Testing (5th Grade ONLY)
END:VEVENT
BEGIN:VEVENT
DTSTAMP:20260423T132511Z
UID:ef930d1a-67de-4ba3-bcc5-7751e82adf3a
DTSTART;VALUE=DATE:20260505
DTEND;VALUE=DATE:20260506
DESCRIPTION:<p>5th Grade Field Trip</p><p>contact main office for additiona
 l information</p>
LOCATION:South Side Area School District\, PA\, USA
SUMMARY:5th Grade Field Day
END:VEVENT
BEGIN:VEVENT
DTSTAMP:20260423T132511Z
UID:32ae62b7-4e1f-4ccc-bb7d-fa15725cc77f
DTSTART;VALUE=DATE:20260507
DTEND;VALUE=DATE:20260508
DESCRIPTION:<p>4th Grade Field Day</p><p>contact main office for additional
  information</p>
LOCATION:South Side Area School District\, PA\, USA
SUMMARY:4th Grade Field Day
END:VEVENT
BEGIN:VEVENT
DTSTAMP:20260423T132511Z
UID:4f51b024-18b3-483f-a854-653a3b18799a
DTSTART;VALUE=DATE:20260508
DTEND;VALUE=DATE:20260509
DESCRIPTION:<p>Student Early Dismissal Day</p><p>Elementary School dismisse
 d at 12\;30 pm</p>
LOCATION:South Side Area School District\, PA\, USA
SUMMARY:Student Early Dismissal Day
END:VEVENT
BEGIN:VEVENT
DTSTAMP:20260423T132511Z
UID:bf021c01-d9f8-4ecb-885a-d1311c8831dc
DTSTART:20260518T080000
DTEND:20260518T090000
DESCRIPTION:<p>Elementary PTO Walk-A-Thon</p><p>contact PTO or main office 
 for additional information</p>
LOCATION:South Side Area School District\, PA\, USA
SUMMARY:Elementary PTO Walk-A-Thon
END:VEVENT
BEGIN:VEVENT
DTSTAMP:20260423T132511Z
UID:e4bb0360-3d22-4d9f-b722-7a8fa4aec9a0
DTSTART;VALUE=DATE:20260525
DTEND;VALUE=DATE:20260526
DESCRIPTION:<p>Memorial Day\, NO SCHOOL</p>
LOCATION:South Side Area School District\, PA\, USA
SUMMARY:Memorial Day\, NO SCHOOL
END:VEVENT
END:VCALENDAR
