BEGIN:VCALENDAR
VERSION:2.0
PRODID:icalendar-ruby
CALSCALE:GREGORIAN
BEGIN:VTIMEZONE
TZID:America/New_York
BEGIN:DAYLIGHT
DTSTART:20260308T030000
TZOFFSETFROM:-0500
TZOFFSETTO:-0400
RRULE:FREQ=YEARLY;BYDAY=2SU;BYMONTH=3
TZNAME:EDT
END:DAYLIGHT
BEGIN:STANDARD
DTSTART:20261101T010000
TZOFFSETFROM:-0400
TZOFFSETTO:-0500
RRULE:FREQ=YEARLY;BYDAY=1SU;BYMONTH=11
TZNAME:EST
END:STANDARD
END:VTIMEZONE
BEGIN:VEVENT
DTSTAMP:20260425T112156Z
UID:3f9bddc3-22a5-4694-9470-02a3970e76a0
DTSTART;VALUE=DATE:20260430
DTEND;VALUE=DATE:20260501
DESCRIPTION:
LOCATION:
SUMMARY:Spring Musical
END:VEVENT
BEGIN:VEVENT
DTSTAMP:20260425T112156Z
UID:f75da725-df38-4eae-a2b9-251f1943b608
DTSTART;VALUE=DATE:20260501
DTEND;VALUE=DATE:20260502
DESCRIPTION:
LOCATION:
SUMMARY:Spring Musical
END:VEVENT
BEGIN:VEVENT
DTSTAMP:20260425T112156Z
UID:3c6cee6a-0e05-4b9f-a245-4f6aefc35ee9
DTSTART;VALUE=DATE:20260502
DTEND;VALUE=DATE:20260503
DESCRIPTION:
LOCATION:
SUMMARY:Spring Musical
END:VEVENT
BEGIN:VEVENT
DTSTAMP:20260425T112156Z
UID:cc3c8667-4152-46a2-bf61-bb1d61faf8ba
DTSTART:20260506T180000
DTEND:20260506T193000
DESCRIPTION:
LOCATION:
SUMMARY:NHS Induction Ceremony
END:VEVENT
BEGIN:VEVENT
DTSTAMP:20260425T112156Z
UID:3dd87514-be54-4a7c-acd2-083cfe6a5311
DTSTART:20260513T190000
DTEND:20260513T203000
DESCRIPTION:Students are nominated by faculty / staff.  \nAward recipient
 s will be sent an invitation to attend.
LOCATION:
SUMMARY:PHSO Book Awards (see descr)
END:VEVENT
BEGIN:VEVENT
DTSTAMP:20260425T112156Z
UID:eeb81b5c-4d04-466c-b3d1-ebb65b97d9c8
DTSTART:20260519T190000
DTEND:20260519T203000
DESCRIPTION:
LOCATION:
SUMMARY:Spring Band Concert
END:VEVENT
BEGIN:VEVENT
DTSTAMP:20260425T112156Z
UID:6ca3a888-c824-4e11-ab9d-948250512897
DTSTART;VALUE=DATE:20260520
DTEND;VALUE=DATE:20260521
DESCRIPTION:
LOCATION:
SUMMARY:One-hour early release for students 
END:VEVENT
BEGIN:VEVENT
DTSTAMP:20260425T112156Z
UID:57be7e31-f416-41a8-bb45-fe4e4aa94e71
DTSTART:20260520T190000
DTEND:20260520T203000
DESCRIPTION:
LOCATION:
SUMMARY:Spring Chorus Concert
END:VEVENT
BEGIN:VEVENT
DTSTAMP:20260425T112156Z
UID:a5f53b5a-bbaa-4f82-8a91-dc4505ba5336
DTSTART:20260521T140000
DTEND:20260521T160000
DESCRIPTION:
LOCATION:PHS Auditorium
SUMMARY:National Art Honor Society Induction
END:VEVENT
BEGIN:VEVENT
DTSTAMP:20260425T112156Z
UID:2154e08e-d342-46d3-80b2-b8ffaf7e838a
DTSTART;VALUE=DATE:20260522
DTEND;VALUE=DATE:20260523
DESCRIPTION:
LOCATION:
SUMMARY:Junior Prom
END:VEVENT
BEGIN:VEVENT
DTSTAMP:20260425T112156Z
UID:43eea91d-b4e0-46c0-9e8e-f18ee0f67f37
DTSTART;VALUE=DATE:20260525
DTEND;VALUE=DATE:20260526
DESCRIPTION:
LOCATION:
SUMMARY:Memorial Day (No School)
END:VEVENT
BEGIN:VEVENT
DTSTAMP:20260425T112156Z
UID:06a9d97f-0493-4d2b-b4de-3b76fd3f4184
DTSTART;VALUE=DATE:20260602
DTEND;VALUE=DATE:20260603
DESCRIPTION:
LOCATION:
SUMMARY:Senior Prom
END:VEVENT
BEGIN:VEVENT
DTSTAMP:20260425T112156Z
UID:e9142760-419b-4c66-a250-2cd6c23ebee2
DTSTART;VALUE=DATE:20260605
DTEND;VALUE=DATE:20260606
DESCRIPTION:
LOCATION:
SUMMARY:PHS Graduation (6pm)
END:VEVENT
BEGIN:VEVENT
DTSTAMP:20260425T112156Z
UID:74bf7727-98ad-4833-8909-19dd024bc437
DTSTART;VALUE=DATE:20260618
DTEND;VALUE=DATE:20260619
DESCRIPTION:
LOCATION:
SUMMARY:Last Day of School 
END:VEVENT
BEGIN:VEVENT
DTSTAMP:20260425T112156Z
UID:62d6d509-5da3-4d06-b62c-62e67e19a38b
DTSTART;VALUE=DATE:20260619
DTEND;VALUE=DATE:20260620
DESCRIPTION:
LOCATION:
SUMMARY:Juneteenth 
END:VEVENT
BEGIN:VEVENT
DTSTAMP:20260425T112156Z
UID:c4fc400e-4bb4-4df8-88c6-fef5b76338ea
DTSTART;VALUE=DATE:20260622
DTEND;VALUE=DATE:20260623
DESCRIPTION:
LOCATION:
SUMMARY:Q4 Report Cards
END:VEVENT
END:VCALENDAR
