BEGIN:VCALENDAR
VERSION:2.0
PRODID:icalendar-ruby
CALSCALE:GREGORIAN
BEGIN:VTIMEZONE
TZID:America/New_York
BEGIN:DAYLIGHT
DTSTART:20260308T030000
TZOFFSETFROM:-0500
TZOFFSETTO:-0400
RRULE:FREQ=YEARLY;BYDAY=2SU;BYMONTH=3
TZNAME:EDT
END:DAYLIGHT
BEGIN:STANDARD
DTSTART:20261101T010000
TZOFFSETFROM:-0400
TZOFFSETTO:-0500
RRULE:FREQ=YEARLY;BYDAY=1SU;BYMONTH=11
TZNAME:EST
END:STANDARD
END:VTIMEZONE
BEGIN:VEVENT
DTSTAMP:20260425T032624Z
UID:7fa201ee-1952-407d-b84a-b7a44ca5b7da
DTSTART:20260420T080000
DTEND:20260424T090000
DESCRIPTION:
LOCATION:
SUMMARY:Spring Recess 
END:VEVENT
BEGIN:VEVENT
DTSTAMP:20260425T032624Z
UID:230ea021-7177-44c1-907e-6ef201d23dd0
DTSTART:20260429T160000
DTEND:20260429T163000
DESCRIPTION:
LOCATION:
SUMMARY:Grade 3 Enrichment Chorus Concert 
END:VEVENT
END:VCALENDAR
