BEGIN:VCALENDAR
VERSION:2.0
PRODID:icalendar-ruby
CALSCALE:GREGORIAN
BEGIN:VTIMEZONE
TZID:America/Los_Angeles
BEGIN:DAYLIGHT
DTSTART:20260308T030000
TZOFFSETFROM:-0800
TZOFFSETTO:-0700
RRULE:FREQ=YEARLY;BYDAY=2SU;BYMONTH=3
TZNAME:PDT
END:DAYLIGHT
BEGIN:STANDARD
DTSTART:20261101T010000
TZOFFSETFROM:-0700
TZOFFSETTO:-0800
RRULE:FREQ=YEARLY;BYDAY=1SU;BYMONTH=11
TZNAME:PST
END:STANDARD
END:VTIMEZONE
BEGIN:VEVENT
DTSTAMP:20260422T193331Z
UID:11db793b-c61d-4db8-be63-15370f8b878c
DTSTART;VALUE=DATE:20260424
DTEND;VALUE=DATE:20260425
DESCRIPTION:
LOCATION:
SUMMARY:Early Release Friday
END:VEVENT
BEGIN:VEVENT
DTSTAMP:20260422T193331Z
UID:d556f1b2-b278-4e48-97b4-81bc13cf7509
DTSTART;VALUE=DATE:20260501
DTEND;VALUE=DATE:20260502
DESCRIPTION:
LOCATION:
SUMMARY:Early Release Friday
END:VEVENT
BEGIN:VEVENT
DTSTAMP:20260422T193331Z
UID:0e1a8234-ce3d-4d97-a58d-6a9f1aa85f28
DTSTART;VALUE=DATE:20260508
DTEND;VALUE=DATE:20260509
DESCRIPTION:
LOCATION:
SUMMARY:Early Release Friday
END:VEVENT
BEGIN:VEVENT
DTSTAMP:20260422T193331Z
UID:da696b0d-8385-484c-811e-5bdaaaa43824
DTSTART;VALUE=DATE:20260515
DTEND;VALUE=DATE:20260516
DESCRIPTION:
LOCATION:
SUMMARY:Early Release Friday
END:VEVENT
BEGIN:VEVENT
DTSTAMP:20260422T193331Z
UID:913a8125-7797-4b8b-8232-91cbe863f045
DTSTART;VALUE=DATE:20260522
DTEND;VALUE=DATE:20260523
DESCRIPTION:
LOCATION:
SUMMARY:6th Grade Outdoor School On Campus
END:VEVENT
BEGIN:VEVENT
DTSTAMP:20260422T193331Z
UID:400e4733-97d6-4999-af59-aee6f4fafda5
DTSTART;VALUE=DATE:20260522
DTEND;VALUE=DATE:20260523
DESCRIPTION:
LOCATION:
SUMMARY:Early Release Friday
END:VEVENT
BEGIN:VEVENT
DTSTAMP:20260422T193331Z
UID:85c7e71f-16ba-4e22-ba00-b2aad52bd77d
DTSTART;VALUE=DATE:20260525
DTEND;VALUE=DATE:20260526
DESCRIPTION:
LOCATION:
SUMMARY:Memorial Day - NO SCHOOL
END:VEVENT
BEGIN:VEVENT
DTSTAMP:20260422T193331Z
UID:ba83c5aa-dc64-4992-bd2b-69e56f1d1b27
DTSTART;VALUE=DATE:20260526
DTEND;VALUE=DATE:20260530
DESCRIPTION:
LOCATION:
SUMMARY:6th Grade Outdoor School
END:VEVENT
BEGIN:VEVENT
DTSTAMP:20260422T193331Z
UID:b0922299-b2e6-4390-b7a9-dbcabf505323
DTSTART;VALUE=DATE:20260529
DTEND;VALUE=DATE:20260530
DESCRIPTION:
LOCATION:
SUMMARY:Early Release Friday
END:VEVENT
BEGIN:VEVENT
DTSTAMP:20260422T193331Z
UID:23f5ae37-1587-4bb1-a690-4e4c6718ab21
DTSTART:20260602T081500
DTEND:20260602T091500
DESCRIPTION:
LOCATION:
SUMMARY:Second Semester Academic Awards Assembly and Band Concert
END:VEVENT
BEGIN:VEVENT
DTSTAMP:20260422T193331Z
UID:dc9ebc05-401a-473b-9eb1-c2419ce498ab
DTSTART:20260604T190000
DTEND:20260604T200000
DESCRIPTION:
LOCATION:
SUMMARY:8th Grade Recognition at WMHS Gym
END:VEVENT
BEGIN:VEVENT
DTSTAMP:20260422T193331Z
UID:cd4189ce-da96-47e2-b85b-7a4f82d8ba2e
DTSTART;VALUE=DATE:20260605
DTEND;VALUE=DATE:20260606
DESCRIPTION:
LOCATION:
SUMMARY:Early Release Friday
END:VEVENT
BEGIN:VEVENT
DTSTAMP:20260422T193331Z
UID:1ac99217-3a6e-4fbc-9419-85f1853acc30
DTSTART;VALUE=DATE:20260605
DTEND;VALUE=DATE:20260606
DESCRIPTION:
LOCATION:
SUMMARY:End 4th Quarter/2nd Semester
END:VEVENT
BEGIN:VEVENT
DTSTAMP:20260422T193331Z
UID:3fcf40ba-7c55-4c5c-b2f4-7fbaeb36b8c2
DTSTART;VALUE=DATE:20260605
DTEND;VALUE=DATE:20260606
DESCRIPTION:
LOCATION:
SUMMARY:Last Day of School
END:VEVENT
BEGIN:VEVENT
DTSTAMP:20260422T193331Z
UID:84891d7b-ad3d-4161-8344-3ac0d042f505
DTSTART:20261007T070000
DTEND:20261007T120000
DESCRIPTION:
LOCATION:
SUMMARY:WMS Picture Day 
END:VEVENT
BEGIN:VEVENT
DTSTAMP:20260422T193331Z
UID:66a8fb5a-7f1d-4509-8896-ec3fb05cfde8
DTSTART:20261203T070000
DTEND:20261203T120000
DESCRIPTION:
LOCATION:
SUMMARY:WMS Picture Retake Day 
END:VEVENT
END:VCALENDAR
