BEGIN:VCALENDAR
VERSION:2.0
PRODID:icalendar-ruby
CALSCALE:GREGORIAN
BEGIN:VTIMEZONE
TZID:America/Chicago
BEGIN:DAYLIGHT
DTSTART:20260308T030000
TZOFFSETFROM:-0600
TZOFFSETTO:-0500
RRULE:FREQ=YEARLY;BYDAY=2SU;BYMONTH=3
TZNAME:CDT
END:DAYLIGHT
BEGIN:STANDARD
DTSTART:20261101T010000
TZOFFSETFROM:-0500
TZOFFSETTO:-0600
RRULE:FREQ=YEARLY;BYDAY=1SU;BYMONTH=11
TZNAME:CST
END:STANDARD
END:VTIMEZONE
BEGIN:VEVENT
DTSTAMP:20260425T161635Z
UID:359bb4eb-53f9-45df-98e8-e2a73e462e2d
DTSTART:20260427T100000
DTEND:20260427T150000
DESCRIPTION:
LOCATION:TBD
SUMMARY:Track - Inman 
END:VEVENT
BEGIN:VEVENT
DTSTAMP:20260425T161635Z
UID:2883ecae-00d8-4033-a259-4644fcac7773
DTSTART:20260428T100000
DTEND:20260428T113000
DESCRIPTION:
LOCATION:
SUMMARY:Driver's Ed Final (Session 4) - In person at NHS
END:VEVENT
BEGIN:VEVENT
DTSTAMP:20260425T161635Z
UID:e46d53f2-98ee-485e-9cd4-d2d0a598dc59
DTSTART;VALUE=DATE:20260501
DTEND;VALUE=DATE:20260502
DESCRIPTION:
LOCATION:
SUMMARY:Driver's Ed (Session 5) - Deadline for Application
END:VEVENT
BEGIN:VEVENT
DTSTAMP:20260425T161635Z
UID:ae0a4d60-33e9-4969-aae2-b89fc03812c6
DTSTART:20260503T060000
DTEND:20260503T230000
DESCRIPTION:<p>NHS and RVMS band and choir participating</p>
LOCATION:Kansas City\, MO\, USA
SUMMARY:Worlds of Fun Trip 
END:VEVENT
BEGIN:VEVENT
DTSTAMP:20260425T161635Z
UID:e67509e4-7898-4af7-8642-a863c575a119
DTSTART:20260505T150000
DTEND:20260505T200000
DESCRIPTION:
LOCATION:323 W Hillcrest St\, Ellsworth\, WI 54011\, USA
SUMMARY:Track @ Ellsworth
END:VEVENT
BEGIN:VEVENT
DTSTAMP:20260425T161635Z
UID:4d09d23e-142b-42c6-bbbc-333731b52fca
DTSTART:20260506T180000
DTEND:20260506T200000
DESCRIPTION:
LOCATION:305 S Nickerson St A\, Nickerson\, KS 67561\, USA
SUMMARY:USD 309 Mass Band Concert
END:VEVENT
BEGIN:VEVENT
DTSTAMP:20260425T161635Z
UID:88733d3a-ec13-47b4-9686-0c411822a1fe
DTSTART:20260508T190000
DTEND:20260508T210000
DESCRIPTION:
LOCATION:
SUMMARY:End of school dance
END:VEVENT
BEGIN:VEVENT
DTSTAMP:20260425T161635Z
UID:dbee6a0b-eed5-427e-9542-bfdd447fc9f0
DTSTART:20260511T100000
DTEND:20260511T120000
DESCRIPTION:
LOCATION:400 S Jefferson St\, Hillsboro\, KS 67063\, USA
SUMMARY:Track CKL @Hillsboro
END:VEVENT
BEGIN:VEVENT
DTSTAMP:20260425T161635Z
UID:e9932653-7aae-457b-bc33-1667e010253a
DTSTART:20260512T180000
DTEND:20260512T190000
DESCRIPTION:
LOCATION:1616 Wilshire Dr\, Hutchinson\, KS 67501\, USA
SUMMARY:PAWS Meeting
END:VEVENT
BEGIN:VEVENT
DTSTAMP:20260425T161635Z
UID:ccdcf395-039e-4e87-9137-052ee8e928dc
DTSTART:20260513T183000
DTEND:20260513T203000
DESCRIPTION:
LOCATION:305 S Nickerson St A\, Nickerson\, KS 67561\, USA
SUMMARY:USD 309 Mass Choir Concert
END:VEVENT
BEGIN:VEVENT
DTSTAMP:20260425T161635Z
UID:79830b94-5191-43fe-a0f5-56948e036394
DTSTART:20260519T190000
DTEND:20260519T200000
DESCRIPTION:
LOCATION:
SUMMARY:RVMS Promotion at NHS
END:VEVENT
BEGIN:VEVENT
DTSTAMP:20260425T161635Z
UID:1c7ac989-bce4-4d0d-b333-cf2b3453dd06
DTSTART:20260528T100000
DTEND:20260528T113000
DESCRIPTION:
LOCATION:
SUMMARY:Driver's Ed Final (Session 5) - In person at NHS
END:VEVENT
END:VCALENDAR
