BEGIN:VCALENDAR
VERSION:2.0
PRODID:icalendar-ruby
CALSCALE:GREGORIAN
BEGIN:VTIMEZONE
TZID:America/Chicago
BEGIN:DAYLIGHT
DTSTART:20260308T030000
TZOFFSETFROM:-0600
TZOFFSETTO:-0500
RRULE:FREQ=YEARLY;BYDAY=2SU;BYMONTH=3
TZNAME:CDT
END:DAYLIGHT
BEGIN:STANDARD
DTSTART:20261101T010000
TZOFFSETFROM:-0500
TZOFFSETTO:-0600
RRULE:FREQ=YEARLY;BYDAY=1SU;BYMONTH=11
TZNAME:CST
END:STANDARD
END:VTIMEZONE
BEGIN:VEVENT
DTSTAMP:20260422T042113Z
UID:30f3a313-9984-4b24-9d36-72781814627c
DTSTART;VALUE=DATE:20260421
DTEND;VALUE=DATE:20260422
DESCRIPTION:
LOCATION:
SUMMARY:Science 5th & 8th Grade STAAR
END:VEVENT
BEGIN:VEVENT
DTSTAMP:20260422T042113Z
UID:ae3cd884-6789-48d3-bad7-efcf7fb057fb
DTSTART:20260421T180000
DTEND:20260421T190000
DESCRIPTION:
LOCATION:
SUMMARY:V Baseball vs Joaquin
END:VEVENT
BEGIN:VEVENT
DTSTAMP:20260422T042113Z
UID:32862b6c-7d6c-406d-923d-4a928017ebc0
DTSTART:20260422T080000
DTEND:20260422T090000
DESCRIPTION:
LOCATION:
SUMMARY:Biology EOC
END:VEVENT
BEGIN:VEVENT
DTSTAMP:20260422T042113Z
UID:f18bf403-212b-4745-9ce3-a458a3d2bdc3
DTSTART;VALUE=DATE:20260423
DTEND;VALUE=DATE:20260424
DESCRIPTION:
LOCATION:
SUMMARY:SS 8th Grade STAAR
END:VEVENT
BEGIN:VEVENT
DTSTAMP:20260422T042113Z
UID:46f2d729-3335-4ec8-b4d7-695b46fab315
DTSTART;VALUE=DATE:20260427
DTEND;VALUE=DATE:20260429
DESCRIPTION:
LOCATION:
SUMMARY:Boys State Golf Tournament
END:VEVENT
BEGIN:VEVENT
DTSTAMP:20260422T042113Z
UID:495bfecf-78d1-46b1-bcff-95f9731d7a78
DTSTART:20260427T180000
DTEND:20260427T210000
DESCRIPTION:-::~:~::~:~:~:~:~:~:~:~:~:~:~:~:~:~:~:~:~:~:~:~:~:~:~:~:~:~:~:~
 :~:~:~:~:~:~:~:~::~:~::-\nJoin with Google Meet: https://meet.google.com/j
 di-degn-agh\nOr dial: (US) +1 507-591-1021 PIN: 752739640#\n\nLearn more a
 bout Meet at: https://support.google.com/a/users/answer/9282720\n\nPlease 
 do not edit this section.\n-::~:~::~:~:~:~:~:~:~:~:~:~:~:~:~:~:~:~:~:~:~:~
 :~:~:~:~:~:~:~:~:~:~:~:~:~:~:~:~::~:~::-
LOCATION:
SUMMARY:FFA Banquet - MS Gym 
END:VEVENT
BEGIN:VEVENT
DTSTAMP:20260422T042113Z
UID:4ee778e6-f071-4a0d-84aa-66f6223cce0d
DTSTART;VALUE=DATE:20260428
DTEND;VALUE=DATE:20260429
DESCRIPTION:
LOCATION:
SUMMARY:Algebra I EOC
END:VEVENT
BEGIN:VEVENT
DTSTAMP:20260422T042113Z
UID:93abd505-c30f-4ecb-b764-652df0a1bb66
DTSTART;VALUE=DATE:20260429
DTEND;VALUE=DATE:20260430
DESCRIPTION:
LOCATION:
SUMMARY:Math 3-5 STAAR
END:VEVENT
BEGIN:VEVENT
DTSTAMP:20260422T042113Z
UID:c6a5c4b1-2d05-424b-8ef9-bfac90605d60
DTSTART;VALUE=DATE:20260430
DTEND;VALUE=DATE:20260501
DESCRIPTION:
LOCATION:
SUMMARY:6th - 8th  Math STAAR
END:VEVENT
BEGIN:VEVENT
DTSTAMP:20260422T042113Z
UID:4cdd1c88-1beb-41f0-8e74-a6480c0a18c9
DTSTART;VALUE=DATE:20260504
DTEND;VALUE=DATE:20260505
DESCRIPTION:
LOCATION:
SUMMARY:District FFA Degree Check @ GHS
END:VEVENT
BEGIN:VEVENT
DTSTAMP:20260422T042113Z
UID:40a088a1-6ab7-4ee8-97bf-3e1c1fbdcc6a
DTSTART;VALUE=DATE:20260504
DTEND;VALUE=DATE:20260505
DESCRIPTION:
LOCATION:Region 7 Education Service Center\, 1909 N Longview St\, Kilgore\,
  TX 75662\, USA
SUMMARY:High School Robotics Competition
END:VEVENT
BEGIN:VEVENT
DTSTAMP:20260422T042113Z
UID:6612664a-3a22-4bb0-8b65-7c76cd8fc245
DTSTART;VALUE=DATE:20260504
DTEND;VALUE=DATE:20260506
DESCRIPTION:
LOCATION:
SUMMARY:Girls State Golf Tournament
END:VEVENT
BEGIN:VEVENT
DTSTAMP:20260422T042113Z
UID:bba4676b-27b6-4dc8-8d17-ea8f1c071d53
DTSTART:20260505T180000
DTEND:20260505T200000
DESCRIPTION:
LOCATION:
SUMMARY:GHS Scholarship Banquet
END:VEVENT
BEGIN:VEVENT
DTSTAMP:20260422T042113Z
UID:665ab3e4-eadd-4b0d-a363-031ba416b14c
DTSTART;VALUE=DATE:20260507
DTEND;VALUE=DATE:20260509
DESCRIPTION:
LOCATION:
SUMMARY:State Tennis Tournament
END:VEVENT
BEGIN:VEVENT
DTSTAMP:20260422T042113Z
UID:eddc2874-8319-454e-9443-63880b2e1e4e
DTSTART;VALUE=DATE:20260508
DTEND;VALUE=DATE:20260509
DESCRIPTION:
LOCATION:Region 7 Education Service Center\, 1909 N Longview St\, Kilgore\,
  TX 75662\, USA
SUMMARY:Elementary Robotics Competition
END:VEVENT
BEGIN:VEVENT
DTSTAMP:20260422T042113Z
UID:58d64753-9f26-47cc-8990-502f9c404d4d
DTSTART;VALUE=DATE:20260509
DTEND;VALUE=DATE:20260510
DESCRIPTION:
LOCATION:
SUMMARY:Circle Of Champions Twirling Competition
END:VEVENT
BEGIN:VEVENT
DTSTAMP:20260422T042113Z
UID:70b3e170-42c9-4832-af26-304b4454d094
DTSTART;VALUE=DATE:20260513
DTEND;VALUE=DATE:20260514
DESCRIPTION:
LOCATION:Region 7 Education Service Center\, 1909 N Longview St\, Kilgore\,
  TX 75662\, USA
SUMMARY:MS Robotics Competition
END:VEVENT
BEGIN:VEVENT
DTSTAMP:20260422T042113Z
UID:811cbae4-f868-46e1-96e0-51871e278adb
DTSTART:20260518T090000
DTEND:20260518T100000
DESCRIPTION:
LOCATION:
SUMMARY:GHS Academic Awards
END:VEVENT
BEGIN:VEVENT
DTSTAMP:20260422T042113Z
UID:99330205-f255-4dac-90d0-4dc4699b0e8a
DTSTART;VALUE=DATE:20260521
DTEND;VALUE=DATE:20260522
DESCRIPTION:
LOCATION:
SUMMARY:Early Release 12:45 
END:VEVENT
BEGIN:VEVENT
DTSTAMP:20260422T042113Z
UID:6088b9f4-afa3-45a3-9406-a78cf18184dd
DTSTART:20260521T083000
DTEND:20260521T094500
DESCRIPTION:
LOCATION:
SUMMARY:G Awards (Elementary)
END:VEVENT
BEGIN:VEVENT
DTSTAMP:20260422T042113Z
UID:c82632e0-542d-4dff-b89a-4e4804a10fca
DTSTART:20260521T090000
DTEND:20260521T100000
DESCRIPTION:
LOCATION:
SUMMARY:Kindergarten Graduation
END:VEVENT
BEGIN:VEVENT
DTSTAMP:20260422T042113Z
UID:5f8bb227-1149-4fb5-834c-a9e44e9b5985
DTSTART:20260521T100000
DTEND:20260521T110000
DESCRIPTION:
LOCATION:
SUMMARY:G Awards Middle School
END:VEVENT
BEGIN:VEVENT
DTSTAMP:20260422T042113Z
UID:59dbff3c-4788-4377-85aa-4e314431c707
DTSTART:20260521T190000
DTEND:20260521T200000
DESCRIPTION:
LOCATION:
SUMMARY:8th Grade Graduation
END:VEVENT
BEGIN:VEVENT
DTSTAMP:20260422T042113Z
UID:a1d801f8-9178-44cb-8b8c-998904510eed
DTSTART;VALUE=DATE:20260522
DTEND;VALUE=DATE:20260523
DESCRIPTION:
LOCATION:
SUMMARY:Staff Inservice/Student Holiday
END:VEVENT
BEGIN:VEVENT
DTSTAMP:20260422T042113Z
UID:86b37330-0140-4a6d-aa9d-9c1d7abcd04f
DTSTART:20260522T190000
DTEND:20260522T200000
DESCRIPTION:
LOCATION:
SUMMARY:GHS Graduation
END:VEVENT
BEGIN:VEVENT
DTSTAMP:20260422T042113Z
UID:bdc31ce4-c001-4b02-a68e-48a1ccb55622
DTSTART;VALUE=DATE:20260525
DTEND;VALUE=DATE:20260526
DESCRIPTION:
LOCATION:
SUMMARY:Flexible PD Day/Student Holiday
END:VEVENT
END:VCALENDAR
