BEGIN:VCALENDAR
VERSION:2.0
PRODID:icalendar-ruby
CALSCALE:GREGORIAN
BEGIN:VTIMEZONE
TZID:America/Chicago
BEGIN:DAYLIGHT
DTSTART:20260308T030000
TZOFFSETFROM:-0600
TZOFFSETTO:-0500
RRULE:FREQ=YEARLY;BYDAY=2SU;BYMONTH=3
TZNAME:CDT
END:DAYLIGHT
BEGIN:STANDARD
DTSTART:20261101T010000
TZOFFSETFROM:-0500
TZOFFSETTO:-0600
RRULE:FREQ=YEARLY;BYDAY=1SU;BYMONTH=11
TZNAME:CST
END:STANDARD
END:VTIMEZONE
BEGIN:VEVENT
DTSTAMP:20260419T153344Z
UID:04634857-6938-4aea-a81e-e4a90b1ef571
DTSTART:20260420T170000
DTEND:20260420T180000
DESCRIPTION:
LOCATION:
SUMMARY:School Board Meeting
END:VEVENT
BEGIN:VEVENT
DTSTAMP:20260419T153344Z
UID:1f431181-ab57-4528-a8bd-5c6375b67075
DTSTART:20260507T140000
DTEND:20260507T150000
DESCRIPTION:
LOCATION:
SUMMARY:District Wellness Committee
END:VEVENT
BEGIN:VEVENT
DTSTAMP:20260419T153344Z
UID:d6ffcc29-bcc4-483a-bfbc-82d9708e82d5
DTSTART;VALUE=DATE:20260508
DTEND;VALUE=DATE:20260509
DESCRIPTION:
LOCATION:
SUMMARY:Kindergarten Visit
END:VEVENT
BEGIN:VEVENT
DTSTAMP:20260419T153344Z
UID:625a63fd-0f5c-4492-b908-e21738e6679d
DTSTART:20260511T170000
DTEND:20260511T180000
DESCRIPTION:
LOCATION:
SUMMARY:School Board Meeting
END:VEVENT
BEGIN:VEVENT
DTSTAMP:20260419T153344Z
UID:c9d9dd88-1857-4586-b971-c4932ae44f95
DTSTART;VALUE=DATE:20260515
DTEND;VALUE=DATE:20260516
DESCRIPTION:
LOCATION:
SUMMARY:High School Graduation
END:VEVENT
BEGIN:VEVENT
DTSTAMP:20260419T153344Z
UID:f975f6d1-9285-4755-b115-844409c6b2c8
DTSTART:20260515T193000
DTEND:20260515T203000
DESCRIPTION:
LOCATION:
SUMMARY:High School Graduation
END:VEVENT
BEGIN:VEVENT
DTSTAMP:20260419T153344Z
UID:44049789-36b5-4f89-a266-48106e0b17c1
DTSTART:20260520T083000
DTEND:20260520T120000
DESCRIPTION:
LOCATION:
SUMMARY:Badger Family Pantry Open
END:VEVENT
BEGIN:VEVENT
DTSTAMP:20260419T153344Z
UID:ebd085ac-e85c-494a-bf66-f434c1fc792c
DTSTART:20260520T093000
DTEND:20260520T103000
DESCRIPTION:
LOCATION:
SUMMARY:Pre - K Graduation
END:VEVENT
BEGIN:VEVENT
DTSTAMP:20260419T153344Z
UID:87ff8659-c1aa-4f33-be02-1ea220a5812a
DTSTART;VALUE=DATE:20260522
DTEND;VALUE=DATE:20260523
DESCRIPTION:
LOCATION:
SUMMARY:1/2 Day for Students (12:20pm dismissal)
END:VEVENT
BEGIN:VEVENT
DTSTAMP:20260419T153344Z
UID:4286aebc-daf3-4b36-99ad-7e0e1dcf2a06
DTSTART:20260615T170000
DTEND:20260615T180000
DESCRIPTION:
LOCATION:
SUMMARY:School Board Meeting
END:VEVENT
BEGIN:VEVENT
DTSTAMP:20260419T153344Z
UID:624909c9-6285-41d0-a92f-ee0e0ea3fd77
DTSTART:20260617T083000
DTEND:20260617T120000
DESCRIPTION:
LOCATION:
SUMMARY:Badger Family Pantry Open
END:VEVENT
BEGIN:VEVENT
DTSTAMP:20260419T153344Z
UID:538aa5cf-fe99-4fd8-a6ce-d75cfa219368
DTSTART:20260715T083000
DTEND:20260715T120000
DESCRIPTION:
LOCATION:
SUMMARY:Badger Family Pantry Open
END:VEVENT
BEGIN:VEVENT
DTSTAMP:20260419T153344Z
UID:c7d54331-8e3f-4088-a2e5-4897650a4600
DTSTART:20260720T170000
DTEND:20260720T180000
DESCRIPTION:
LOCATION:
SUMMARY:School Board Meeting
END:VEVENT
BEGIN:VEVENT
DTSTAMP:20260419T153344Z
UID:ffe9ea80-caba-4681-8bd3-a58448ef38fa
DTSTART:20260817T170000
DTEND:20260817T180000
DESCRIPTION:
LOCATION:
SUMMARY:School Board Meeting
END:VEVENT
BEGIN:VEVENT
DTSTAMP:20260419T153344Z
UID:1a6ce28f-0b29-490f-9a4a-59b0c0e35c7c
DTSTART:20260819T083000
DTEND:20260819T120000
DESCRIPTION:
LOCATION:
SUMMARY:Badger Family Pantry Open
END:VEVENT
BEGIN:VEVENT
DTSTAMP:20260419T153344Z
UID:49a617f6-1a3a-45f5-9bf3-a5002f9b87f1
DTSTART:20260916T083000
DTEND:20260916T120000
DESCRIPTION:
LOCATION:
SUMMARY:Badger Family Pantry Open
END:VEVENT
BEGIN:VEVENT
DTSTAMP:20260419T153344Z
UID:4c7b5b78-0841-40be-8451-eb47909312fe
DTSTART;VALUE=DATE:20260917
DTEND;VALUE=DATE:20260918
DESCRIPTION:
LOCATION:
SUMMARY:Constitution Day
END:VEVENT
BEGIN:VEVENT
DTSTAMP:20260419T153344Z
UID:a77caa4f-408d-428e-b5ca-32943789722a
DTSTART:20260921T170000
DTEND:20260921T180000
DESCRIPTION:
LOCATION:
SUMMARY:School Board Meeting
END:VEVENT
BEGIN:VEVENT
DTSTAMP:20260419T153344Z
UID:0adfd9bb-6df7-40ee-a38a-39c16b5e4fce
DTSTART;VALUE=DATE:20260923
DTEND;VALUE=DATE:20260924
DESCRIPTION:
LOCATION:
SUMMARY:Education Technology Day
END:VEVENT
BEGIN:VEVENT
DTSTAMP:20260419T153344Z
UID:f0078afa-8cc3-4a43-9742-cf4c5e3b4b95
DTSTART;VALUE=DATE:20261002
DTEND;VALUE=DATE:20261003
DESCRIPTION:
LOCATION:
SUMMARY:National Custodial Workers Recognition Day
END:VEVENT
BEGIN:VEVENT
DTSTAMP:20260419T153344Z
UID:afdd2b9d-764d-43f0-98a7-572975d66c74
DTSTART;VALUE=DATE:20261016
DTEND;VALUE=DATE:20261017
DESCRIPTION:
LOCATION:
SUMMARY:Bos`s Day
END:VEVENT
BEGIN:VEVENT
DTSTAMP:20260419T153344Z
UID:0002448d-be0c-4ec6-9732-021255f2a39b
DTSTART:20261019T170000
DTEND:20261019T180000
DESCRIPTION:
LOCATION:
SUMMARY:School Board Meeting
END:VEVENT
BEGIN:VEVENT
DTSTAMP:20260419T153344Z
UID:d5228135-c4a3-4bee-adda-45f77e3debda
DTSTART:20261021T083000
DTEND:20261021T120000
DESCRIPTION:
LOCATION:
SUMMARY:Badger Family Pantry Open
END:VEVENT
BEGIN:VEVENT
DTSTAMP:20260419T153344Z
UID:ad0b6759-149b-422a-a6cf-da73cbad4747
DTSTART;VALUE=DATE:20261027
DTEND;VALUE=DATE:20261028
DESCRIPTION:
LOCATION:
SUMMARY:Flu Clinic- EC and Elem
END:VEVENT
BEGIN:VEVENT
DTSTAMP:20260419T153344Z
UID:f9a3c293-32cc-4c43-83f2-3ff80bd2f937
DTSTART;VALUE=DATE:20261028
DTEND;VALUE=DATE:20261029
DESCRIPTION:
LOCATION:
SUMMARY:Flu Clinic- MS\, JH\, HS
END:VEVENT
BEGIN:VEVENT
DTSTAMP:20260419T153344Z
UID:450e73fa-02d4-49e2-8004-db936b09fea0
DTSTART:20261116T170000
DTEND:20261116T180000
DESCRIPTION:
LOCATION:
SUMMARY:School Board Meeting
END:VEVENT
BEGIN:VEVENT
DTSTAMP:20260419T153344Z
UID:f76685dd-a09f-46e2-a5b9-23447ed2684d
DTSTART:20261118T083000
DTEND:20261118T120000
DESCRIPTION:
LOCATION:
SUMMARY:Badger Family Pantry Open
END:VEVENT
BEGIN:VEVENT
DTSTAMP:20260419T153344Z
UID:aaab1328-21bf-467e-94e5-7f7532a0d64c
DTSTART:20261216T083000
DTEND:20261216T120000
DESCRIPTION:
LOCATION:
SUMMARY:Badger Family Pantry Open
END:VEVENT
BEGIN:VEVENT
DTSTAMP:20260419T153344Z
UID:0e9f1f4c-ea5a-4222-9a4b-44fc50aaba97
DTSTART:20261221T170000
DTEND:20261221T180000
DESCRIPTION:
LOCATION:
SUMMARY:School Board Meeting
END:VEVENT
BEGIN:VEVENT
DTSTAMP:20260419T153344Z
UID:c0e00092-6ab3-45b7-a321-e5abb8058fbf
DTSTART:20270118T170000
DTEND:20270118T180000
DESCRIPTION:
LOCATION:
SUMMARY:School Board Meeting
END:VEVENT
BEGIN:VEVENT
DTSTAMP:20260419T153344Z
UID:ee49f830-4efa-429a-a0a4-61fdd03ff13c
DTSTART:20270120T083000
DTEND:20270120T120000
DESCRIPTION:
LOCATION:
SUMMARY:Badger Family Pantry Open
END:VEVENT
BEGIN:VEVENT
DTSTAMP:20260419T153344Z
UID:b4aeb4bc-3129-4607-8000-6ac206406b4d
DTSTART:20270215T170000
DTEND:20270215T180000
DESCRIPTION:
LOCATION:
SUMMARY:School Board Meeting
END:VEVENT
END:VCALENDAR
