BEGIN:VCALENDAR
VERSION:2.0
PRODID:icalendar-ruby
CALSCALE:GREGORIAN
BEGIN:VTIMEZONE
TZID:America/Chicago
BEGIN:DAYLIGHT
DTSTART:20260308T030000
TZOFFSETFROM:-0600
TZOFFSETTO:-0500
RRULE:FREQ=YEARLY;BYDAY=2SU;BYMONTH=3
TZNAME:CDT
END:DAYLIGHT
BEGIN:STANDARD
DTSTART:20261101T010000
TZOFFSETFROM:-0500
TZOFFSETTO:-0600
RRULE:FREQ=YEARLY;BYDAY=1SU;BYMONTH=11
TZNAME:CST
END:STANDARD
END:VTIMEZONE
BEGIN:VEVENT
DTSTAMP:20260425T222641Z
UID:9c547e24-d9db-4f69-b39b-1339342beaea
DTSTART;VALUE=DATE:20260501
DTEND;VALUE=DATE:20260502
DESCRIPTION:<h1 style="text-align: left"><a target="_blank" rel="noopener n
 oreferrer nofollow" href="https://www.gobound.com/ia/schools/jeffeleclin/c
 alendar?includePractices=false&amp\;v=month&amp\;date"><strong>Click here 
 to be directed to. Bound for all Events!</strong></a></h1>
LOCATION:
SUMMARY:Click here to be directed to Bound for all Events!
END:VEVENT
BEGIN:VEVENT
DTSTAMP:20260425T222641Z
UID:d86c6326-0ef0-4482-aca3-a5888a37b0d1
DTSTART;VALUE=DATE:20260601
DTEND;VALUE=DATE:20260602
DESCRIPTION:<h1 style="text-align: left"><a target="_blank" rel="noopener n
 oreferrer nofollow" href="https://www.gobound.com/ia/schools/jeffeleclin/c
 alendar?includePractices=false&amp\;v=month&amp\;date"><strong>Click here 
 to be directed to. Bound for all Events!</strong></a></h1>
LOCATION:
SUMMARY:Click here to be directed to Bound for all Events!
END:VEVENT
END:VCALENDAR
