BEGIN:VCALENDAR
VERSION:2.0
PRODID:icalendar-ruby
CALSCALE:GREGORIAN
BEGIN:VTIMEZONE
TZID:America/Chicago
BEGIN:DAYLIGHT
DTSTART:20260308T030000
TZOFFSETFROM:-0600
TZOFFSETTO:-0500
RRULE:FREQ=YEARLY;BYDAY=2SU;BYMONTH=3
TZNAME:CDT
END:DAYLIGHT
BEGIN:STANDARD
DTSTART:20261101T010000
TZOFFSETFROM:-0500
TZOFFSETTO:-0600
RRULE:FREQ=YEARLY;BYDAY=1SU;BYMONTH=11
TZNAME:CST
END:STANDARD
END:VTIMEZONE
BEGIN:VEVENT
DTSTAMP:20260420T140830Z
UID:7c739cca-4219-49ce-8cd3-7595b39c5283
DTSTART;VALUE=DATE:20260420
DTEND;VALUE=DATE:20260421
DESCRIPTION:
LOCATION:
SUMMARY:GHS Biology EOC
END:VEVENT
BEGIN:VEVENT
DTSTAMP:20260420T140830Z
UID:04c750f1-3669-4fbd-957e-53521d9e741d
DTSTART:20260420T170000
DTEND:20260420T183000
DESCRIPTION:
LOCATION:
SUMMARY:JV Blue Baseball @ Pottsboro 
END:VEVENT
BEGIN:VEVENT
DTSTAMP:20260420T140830Z
UID:9da1ca51-df3e-452c-a68d-90555e602a8f
DTSTART:20260420T180000
DTEND:20260420T190000
DESCRIPTION:
LOCATION:Old Elementary Cafeteria\, 200 W Elm\, Gunter
SUMMARY:Board Meeting
END:VEVENT
BEGIN:VEVENT
DTSTAMP:20260420T140830Z
UID:a1b2edbe-1215-419c-b226-39b04d7fddda
DTSTART;VALUE=DATE:20260421
DTEND;VALUE=DATE:20260422
DESCRIPTION:
LOCATION:
SUMMARY:GES 5th Grade Science STAAR
END:VEVENT
BEGIN:VEVENT
DTSTAMP:20260420T140830Z
UID:93d770b4-379f-4337-9cb4-49bbe83a272a
DTSTART:20260421T190000
DTEND:20260421T210000
DESCRIPTION:
LOCATION:
SUMMARY:V Baseball @ Pottsboro 
END:VEVENT
BEGIN:VEVENT
DTSTAMP:20260420T140830Z
UID:0011e350-f278-415d-9532-a647fd776c00
DTSTART;VALUE=DATE:20260422
DTEND;VALUE=DATE:20260423
DESCRIPTION:
LOCATION:
SUMMARY:GMS 7th Grade Math STAAR
END:VEVENT
BEGIN:VEVENT
DTSTAMP:20260420T140830Z
UID:771e513e-484d-494b-a493-79c55ac55302
DTSTART:20260422T180000
DTEND:20260422T193000
DESCRIPTION:
LOCATION:
SUMMARY:NHS Induction Ceremony
END:VEVENT
BEGIN:VEVENT
DTSTAMP:20260420T140830Z
UID:f0f25654-0676-4520-94e0-507c41497ab5
DTSTART;VALUE=DATE:20260423
DTEND;VALUE=DATE:20260424
DESCRIPTION:
LOCATION:
SUMMARY:GMS 6th Grade Math STAAR
END:VEVENT
BEGIN:VEVENT
DTSTAMP:20260420T140830Z
UID:82fcf732-65dc-47f7-bedf-56a15cd46895
DTSTART;VALUE=DATE:20260424
DTEND;VALUE=DATE:20260425
DESCRIPTION:
LOCATION:
SUMMARY:STAFF WORK DAY
END:VEVENT
BEGIN:VEVENT
DTSTAMP:20260420T140830Z
UID:126fd81b-9d74-413c-9921-bb03ff14696e
DTSTART;VALUE=DATE:20260424
DTEND;VALUE=DATE:20260426
DESCRIPTION:
LOCATION:
SUMMARY:Regional UIL
END:VEVENT
BEGIN:VEVENT
DTSTAMP:20260420T140830Z
UID:d23c2021-1dec-48f2-8c38-f9ddda7eff4b
DTSTART:20260424T190000
DTEND:20260424T210000
DESCRIPTION:
LOCATION:
SUMMARY:V Baseball @ Gunter vs Pottsboro 
END:VEVENT
BEGIN:VEVENT
DTSTAMP:20260420T140830Z
UID:a5199524-8653-456e-90d0-5e74a6dc39fb
DTSTART:20260426T160000
DTEND:20260426T173000
DESCRIPTION:
LOCATION:
SUMMARY:Tigerettes Spring Show @ Gunter Elementary
END:VEVENT
BEGIN:VEVENT
DTSTAMP:20260420T140830Z
UID:41c144d8-4498-44f5-8f85-6a01de4ee85d
DTSTART;VALUE=DATE:20260427
DTEND;VALUE=DATE:20260428
DESCRIPTION:
LOCATION:
SUMMARY:GMS/GHS  8th Grade Math STAAR/Algebra 1 EOC
END:VEVENT
BEGIN:VEVENT
DTSTAMP:20260420T140830Z
UID:e092e18d-6751-4322-9c32-2b7f4e5af52e
DTSTART;VALUE=DATE:20260428
DTEND;VALUE=DATE:20260429
DESCRIPTION:
LOCATION:
SUMMARY:GES 3-5 Grade Math STAAR
END:VEVENT
BEGIN:VEVENT
DTSTAMP:20260420T140830Z
UID:fe2252f6-e17a-42b2-8e64-d8f431d1c126
DTSTART;VALUE=DATE:20260501
DTEND;VALUE=DATE:20260502
DESCRIPTION:
LOCATION:
SUMMARY:Regional Track @ Whitehouse
END:VEVENT
BEGIN:VEVENT
DTSTAMP:20260420T140830Z
UID:924d03a5-35a2-4063-9293-6e176e4ce575
DTSTART:20260501T070000
DTEND:20260501T080000
DESCRIPTION:
LOCATION:
SUMMARY:NO SCHOOL
END:VEVENT
BEGIN:VEVENT
DTSTAMP:20260420T140830Z
UID:89c8aef6-a234-44ae-9f1b-3c7cf6688449
DTSTART:20260502T090000
DTEND:20260502T130000
DESCRIPTION:
LOCATION:
SUMMARY:5th Grade Band Instrument Selection-- GHS Band Hall
END:VEVENT
BEGIN:VEVENT
DTSTAMP:20260420T140830Z
UID:f7bc56f9-97a4-48b9-900f-63ce538a0b84
DTSTART:20260504T180000
DTEND:20260504T210000
DESCRIPTION:
LOCATION:
SUMMARY:GHS Band Banquet 
END:VEVENT
BEGIN:VEVENT
DTSTAMP:20260420T140830Z
UID:d368526d-fe0a-41c1-8574-53575df153f6
DTSTART:20260506T180000
DTEND:20260506T190000
DESCRIPTION:
LOCATION:Gunter High School
SUMMARY:Academic Banquet
END:VEVENT
BEGIN:VEVENT
DTSTAMP:20260420T140830Z
UID:9f661bc2-2440-4671-ae1d-c192e4c4c55c
DTSTART:20260507T180000
DTEND:20260507T200000
DESCRIPTION:Band Concert-- Commons\nGunter High School\n\nConfirmation numb
 er: MNPB8975MEXU
LOCATION:Gunter High School
SUMMARY:Band Concert-- Commons
END:VEVENT
BEGIN:VEVENT
DTSTAMP:20260420T140830Z
UID:2b7ee632-62ce-431c-a6ef-a1be19e4485e
DTSTART:20260508T070000
DTEND:20260508T080000
DESCRIPTION:
LOCATION:
SUMMARY:NO SCHOOL
END:VEVENT
BEGIN:VEVENT
DTSTAMP:20260420T140830Z
UID:1d52a02e-cca2-4ac9-8083-19aef33f6610
DTSTART:20260511T173000
DTEND:20260511T183000
DESCRIPTION:
LOCATION:
SUMMARY:NJHS Induction Ceremony @ GMS Gym
END:VEVENT
BEGIN:VEVENT
DTSTAMP:20260420T140830Z
UID:444286c5-815a-4081-834a-0b7d84ac7f81
DTSTART:20260511T180000
DTEND:20260511T190000
DESCRIPTION:
LOCATION:Gunter High School
SUMMARY:Senior Awards/Scholarship Ceremony
END:VEVENT
BEGIN:VEVENT
DTSTAMP:20260420T140830Z
UID:82d83fa9-b2f5-42c7-a26f-2bd027c33298
DTSTART;VALUE=DATE:20260514
DTEND;VALUE=DATE:20260515
DESCRIPTION:
LOCATION:
SUMMARY:Special Olympics
END:VEVENT
BEGIN:VEVENT
DTSTAMP:20260420T140830Z
UID:d638a848-9452-4405-ac71-f54c7cf8edcd
DTSTART;VALUE=DATE:20260514
DTEND;VALUE=DATE:20260515
DESCRIPTION:
LOCATION:
SUMMARY:State Track @ Austin
END:VEVENT
BEGIN:VEVENT
DTSTAMP:20260420T140830Z
UID:f24ff6f4-550b-4056-8025-db84fdd24293
DTSTART:20260515T070000
DTEND:20260515T080000
DESCRIPTION:
LOCATION:
SUMMARY:NO SCHOOL
END:VEVENT
BEGIN:VEVENT
DTSTAMP:20260420T140830Z
UID:3352c764-d49b-4044-bb5e-2e5f28cdb520
DTSTART:20260518T100000
DTEND:20260518T113000
DESCRIPTION:Busses will leave the GES campus at 9:30am
LOCATION:Gunter High School - Main Gym
SUMMARY:GES Awards Ceremony (2nd - 5th Grade) 
END:VEVENT
BEGIN:VEVENT
DTSTAMP:20260420T140830Z
UID:ac265882-d35d-4c8b-9410-3d4f1e0e8859
DTSTART:20260518T180000
DTEND:20260518T190000
DESCRIPTION:
LOCATION:Old Elementary Cafeteria\, 200 W Elm\, Gunter
SUMMARY:Board Meeting
END:VEVENT
BEGIN:VEVENT
DTSTAMP:20260420T140830Z
UID:bb97c39f-a5c9-4cf9-b358-2c05bf150b2b
DTSTART:20260522T070000
DTEND:20260522T080000
DESCRIPTION:
LOCATION:
SUMMARY:STAFF WORK DAY
END:VEVENT
BEGIN:VEVENT
DTSTAMP:20260420T140830Z
UID:783aa7ab-84e6-4234-a03e-49699bac96b2
DTSTART:20260522T200000
DTEND:20260522T210000
DESCRIPTION:
LOCATION:
SUMMARY:Graduation
END:VEVENT
BEGIN:VEVENT
DTSTAMP:20260420T140830Z
UID:7bdf73af-a64a-4798-9b15-5c52a2b41852
DTSTART;VALUE=DATE:20260525
DTEND;VALUE=DATE:20260526
DESCRIPTION:
LOCATION:
SUMMARY:MEMORIAL DAY
END:VEVENT
BEGIN:VEVENT
DTSTAMP:20260420T140830Z
UID:21deed0c-386c-473f-9c03-b71734ffef2c
DTSTART:20260615T180000
DTEND:20260615T190000
DESCRIPTION:
LOCATION:Old Elementary Cafeteria\, 200 W Elm\, Gunter
SUMMARY:Board Meeting
END:VEVENT
BEGIN:VEVENT
DTSTAMP:20260420T140830Z
UID:87219cd0-4a0f-4741-8c42-ede49fd11be2
DTSTART;VALUE=DATE:20260619
DTEND;VALUE=DATE:20260620
DESCRIPTION:
LOCATION:
SUMMARY:JUNTEENTH
END:VEVENT
BEGIN:VEVENT
DTSTAMP:20260420T140830Z
UID:19fb8f48-2806-45bb-ba05-f9a004e2938f
DTSTART:20260629T180000
DTEND:20260629T190000
DESCRIPTION:
LOCATION:Old Elementary Cafeteria\, 200 W Elm\, Gunter
SUMMARY:Board Meeting
END:VEVENT
BEGIN:VEVENT
DTSTAMP:20260420T140830Z
UID:212eca70-0cf9-40f8-994e-225989316623
DTSTART:20260720T180000
DTEND:20260720T190000
DESCRIPTION:
LOCATION:Old Elementary Cafeteria\, 200 W Elm\, Gunter 
SUMMARY:Board Meeting
END:VEVENT
BEGIN:VEVENT
DTSTAMP:20260420T140830Z
UID:4822f810-2721-4bfd-aa4f-4a97ed9c8239
DTSTART:20260810T073000
DTEND:20260810T083000
DESCRIPTION:
LOCATION:
SUMMARY:FIRST DAY OF SCHOOL
END:VEVENT
BEGIN:VEVENT
DTSTAMP:20260420T140830Z
UID:99f3085c-9703-4691-b163-22c47270ef49
DTSTART:20260907T070000
DTEND:20260907T080000
DESCRIPTION:
LOCATION:
SUMMARY:NO SCHOOL-LABOR DAY
END:VEVENT
BEGIN:VEVENT
DTSTAMP:20260420T140830Z
UID:6b2eb77f-1a62-4bf7-8f7d-92bc16cf6daa
DTSTART;VALUE=DATE:20260911
DTEND;VALUE=DATE:20260912
DESCRIPTION:
LOCATION:
SUMMARY:TEACHER IN-SERVICE
END:VEVENT
BEGIN:VEVENT
DTSTAMP:20260420T140830Z
UID:b94d42f5-dc51-49ed-9ee7-3e13924069e4
DTSTART;VALUE=DATE:20261002
DTEND;VALUE=DATE:20261003
DESCRIPTION:
LOCATION:
SUMMARY:TEACHER INSERVICE
END:VEVENT
BEGIN:VEVENT
DTSTAMP:20260420T140830Z
UID:576b1365-26ed-43ee-970b-b215debcfd49
DTSTART;VALUE=DATE:20261106
DTEND;VALUE=DATE:20261107
DESCRIPTION:
LOCATION:
SUMMARY:TEACHER INSERVICE
END:VEVENT
BEGIN:VEVENT
DTSTAMP:20260420T140830Z
UID:9451c54e-db41-4ea4-871f-d08bbfcb0514
DTSTART;VALUE=DATE:20261123
DTEND;VALUE=DATE:20261128
DESCRIPTION:
LOCATION:
SUMMARY:THANKSGIVING BREAK
END:VEVENT
BEGIN:VEVENT
DTSTAMP:20260420T140830Z
UID:3fd9bdd6-1d7c-438b-a3c5-4a163725da1d
DTSTART;VALUE=DATE:20261204
DTEND;VALUE=DATE:20261205
DESCRIPTION:
LOCATION:
SUMMARY:TEACHER INSERVICE
END:VEVENT
BEGIN:VEVENT
DTSTAMP:20260420T140830Z
UID:621ff36c-ab9c-4193-9f81-5b4e198e6053
DTSTART;VALUE=DATE:20261221
DTEND;VALUE=DATE:20270105
DESCRIPTION:
LOCATION:
SUMMARY:CHRISTMAS BREAK
END:VEVENT
BEGIN:VEVENT
DTSTAMP:20260420T140830Z
UID:91fd877a-6a20-4ddc-a242-049d84b30374
DTSTART;VALUE=DATE:20270104
DTEND;VALUE=DATE:20270105
DESCRIPTION:
LOCATION:
SUMMARY:TEACHER INSERVICE
END:VEVENT
BEGIN:VEVENT
DTSTAMP:20260420T140830Z
UID:fe6f68d2-1e12-4f92-87a3-4533de2c3aa4
DTSTART;VALUE=DATE:20270108
DTEND;VALUE=DATE:20270109
DESCRIPTION:
LOCATION:
SUMMARY:MAKE-UP DAY
END:VEVENT
BEGIN:VEVENT
DTSTAMP:20260420T140830Z
UID:131dc06c-dc9e-4f9d-9284-146bcd747392
DTSTART;VALUE=DATE:20270205
DTEND;VALUE=DATE:20270206
DESCRIPTION:
LOCATION:
SUMMARY:TEACHER INSERVICE
END:VEVENT
BEGIN:VEVENT
DTSTAMP:20260420T140830Z
UID:bc86a2ec-e126-40d4-a241-83a9c0096654
DTSTART;VALUE=DATE:20270305
DTEND;VALUE=DATE:20270306
DESCRIPTION:
LOCATION:
SUMMARY:TEACHER INSERVICE
END:VEVENT
BEGIN:VEVENT
DTSTAMP:20260420T140830Z
UID:11f684ee-bb73-461c-b97b-3ad504ecd23a
DTSTART;VALUE=DATE:20270315
DTEND;VALUE=DATE:20270320
DESCRIPTION:
LOCATION:
SUMMARY:SPRING BREAK
END:VEVENT
BEGIN:VEVENT
DTSTAMP:20260420T140830Z
UID:f34ccc58-b0e8-4f29-b031-66f86ceca453
DTSTART;VALUE=DATE:20270402
DTEND;VALUE=DATE:20270403
DESCRIPTION:
LOCATION:
SUMMARY:MAKE-UP DAY
END:VEVENT
BEGIN:VEVENT
DTSTAMP:20260420T140830Z
UID:471d2f1d-833f-4c02-88e0-d97b5471eb48
DTSTART;VALUE=DATE:20270416
DTEND;VALUE=DATE:20270417
DESCRIPTION:
LOCATION:
SUMMARY:MAKE-UP DAY
END:VEVENT
BEGIN:VEVENT
DTSTAMP:20260420T140830Z
UID:9a9a6a37-0b52-413c-a1da-8be3f8351e3e
DTSTART;VALUE=DATE:20270430
DTEND;VALUE=DATE:20270501
DESCRIPTION:
LOCATION:
SUMMARY:MAKE-UP DAY
END:VEVENT
BEGIN:VEVENT
DTSTAMP:20260420T140830Z
UID:95adf742-80e3-4680-bdb6-234bd04a3104
DTSTART;VALUE=DATE:20270527
DTEND;VALUE=DATE:20270528
DESCRIPTION:
LOCATION:
SUMMARY:LAST DAY OF SCHOOL
END:VEVENT
BEGIN:VEVENT
DTSTAMP:20260420T140830Z
UID:54d3f224-78b5-4b8e-b7b8-77adb732350e
DTSTART;VALUE=DATE:20270528
DTEND;VALUE=DATE:20270529
DESCRIPTION:
LOCATION:
SUMMARY:TEACHER INSERVICE
END:VEVENT
BEGIN:VEVENT
DTSTAMP:20260420T140830Z
UID:60896a19-47d7-4d7c-8677-5f7d7736dc12
DTSTART;VALUE=DATE:20270531
DTEND;VALUE=DATE:20270601
DESCRIPTION:
LOCATION:
SUMMARY:HOLIDAY-MEMORIAL DAY
END:VEVENT
END:VCALENDAR
