BEGIN:VCALENDAR
VERSION:2.0
PRODID:icalendar-ruby
CALSCALE:GREGORIAN
BEGIN:VTIMEZONE
TZID:America/New_York
BEGIN:DAYLIGHT
DTSTART:20260308T030000
TZOFFSETFROM:-0500
TZOFFSETTO:-0400
RRULE:FREQ=YEARLY;BYDAY=2SU;BYMONTH=3
TZNAME:EDT
END:DAYLIGHT
BEGIN:STANDARD
DTSTART:20261101T010000
TZOFFSETFROM:-0400
TZOFFSETTO:-0500
RRULE:FREQ=YEARLY;BYDAY=1SU;BYMONTH=11
TZNAME:EST
END:STANDARD
END:VTIMEZONE
BEGIN:VEVENT
DTSTAMP:20260422T102419Z
UID:e727ffa0-1582-438e-8399-3fa1bcc1af1d
DTSTART:20260512T190000
DTEND:20260512T200000
DESCRIPTION:
LOCATION:2200 E Main Rd\, Portsmouth\, RI 02871\, USA
SUMMARY:School Committee Meeting
END:VEVENT
BEGIN:VEVENT
DTSTAMP:20260422T102419Z
UID:b9516670-9330-4a6c-b390-97facf8034aa
DTSTART:20260526T190000
DTEND:20260526T200000
DESCRIPTION:
LOCATION:
SUMMARY:School Committee Meeting
END:VEVENT
BEGIN:VEVENT
DTSTAMP:20260422T102419Z
UID:ad726407-c728-4904-9ec9-069558cdc31c
DTSTART:20260609T190000
DTEND:20260609T200000
DESCRIPTION:
LOCATION:2200 E Main Rd\, Portsmouth\, RI 02871\, USA
SUMMARY:School Committee Meeting
END:VEVENT
BEGIN:VEVENT
DTSTAMP:20260422T102419Z
UID:99a87721-2f33-4517-acfd-e8dac0428ab9
DTSTART:20260623T190000
DTEND:20260623T200000
DESCRIPTION:
LOCATION:2200 E Main Rd\, Portsmouth\, RI 02871\, USA
SUMMARY:School Committee Meeting
END:VEVENT
END:VCALENDAR
