BEGIN:VCALENDAR
VERSION:2.0
PRODID:icalendar-ruby
CALSCALE:GREGORIAN
BEGIN:VTIMEZONE
TZID:America/New_York
BEGIN:DAYLIGHT
DTSTART:20260308T030000
TZOFFSETFROM:-0500
TZOFFSETTO:-0400
RRULE:FREQ=YEARLY;BYDAY=2SU;BYMONTH=3
TZNAME:EDT
END:DAYLIGHT
BEGIN:STANDARD
DTSTART:20261101T010000
TZOFFSETFROM:-0400
TZOFFSETTO:-0500
RRULE:FREQ=YEARLY;BYDAY=1SU;BYMONTH=11
TZNAME:EST
END:STANDARD
END:VTIMEZONE
BEGIN:VEVENT
DTSTAMP:20260423T051427Z
UID:c8d2261b-be55-444d-87d4-17f8d3066ab7
DTSTART:20260422T143000
DTEND:20260424T173000
DESCRIPTION:
LOCATION:
SUMMARY:MED Scholastic Bookfair
END:VEVENT
BEGIN:VEVENT
DTSTAMP:20260423T051427Z
UID:5ef6825d-3547-4964-83c4-e7d57c62f2bf
DTSTART:20260423T143000
DTEND:20260423T152000
DESCRIPTION:
LOCATION:MED Gymnasium 
SUMMARY:MED Intramurals 4th grade 
END:VEVENT
BEGIN:VEVENT
DTSTAMP:20260423T051427Z
UID:adab94d3-4261-4302-9b30-da069bf5fbd9
DTSTART;VALUE=DATE:20260428
DTEND;VALUE=DATE:20260429
DESCRIPTION:
LOCATION:
SUMMARY:NYS Math Assessment Grades 3-8
END:VEVENT
BEGIN:VEVENT
DTSTAMP:20260423T051427Z
UID:0d769761-0d4d-4805-a2f2-dbe7bf04517f
DTSTART:20260428T180000
DTEND:20260428T180000
DESCRIPTION:
LOCATION:CHS Library
SUMMARY:Board of Education Meeting
END:VEVENT
BEGIN:VEVENT
DTSTAMP:20260423T051427Z
UID:2e1e294d-7de6-4713-85d4-17e486cd4f89
DTSTART;VALUE=DATE:20260429
DTEND;VALUE=DATE:20260430
DESCRIPTION:
LOCATION:
SUMMARY:NYS Math Assessment Grades 3-8
END:VEVENT
BEGIN:VEVENT
DTSTAMP:20260423T051427Z
UID:0bf9e2e1-6aaf-4e64-888b-015522e37397
DTSTART:20260429T150000
DTEND:20260429T190000
DESCRIPTION:<p><span>Voter registration in the MED Elementary School lobby 
 for those who have not previously registered to vote with either the Colum
 bia County Board of Elections or the Chatham Central School District and w
 ould like to vote in the School Budget Vote &amp\; Board of Education Elec
 tion.</span></p>
LOCATION:Mary E. Dardess Elementary School lobby
SUMMARY:Voter Registration
END:VEVENT
BEGIN:VEVENT
DTSTAMP:20260423T051427Z
UID:727529ac-5c8a-4166-9071-e90260ce35ab
DTSTART:20260504T190000
DTEND:20260504T190000
DESCRIPTION:
LOCATION:CHS
SUMMARY:Athletic Booster Club Meeting
END:VEVENT
BEGIN:VEVENT
DTSTAMP:20260423T051427Z
UID:c7599b40-b231-4fab-b575-99c96c6c72d5
DTSTART:20260504T191500
DTEND:20260504T191500
DESCRIPTION:
LOCATION:CHS
SUMMARY:Fine Arts Booster Club Meeting
END:VEVENT
BEGIN:VEVENT
DTSTAMP:20260423T051427Z
UID:1516ae8f-8b3d-4494-aa05-2a2c220dd55c
DTSTART;VALUE=DATE:20260505
DTEND;VALUE=DATE:20260506
DESCRIPTION:
LOCATION:
SUMMARY:NYS ELA Assessment Grades 3-8
END:VEVENT
BEGIN:VEVENT
DTSTAMP:20260423T051427Z
UID:1c2bc822-dac8-4172-a519-abef4bdeb29f
DTSTART;VALUE=DATE:20260506
DTEND;VALUE=DATE:20260507
DESCRIPTION:
LOCATION:
SUMMARY:NYS ELA Assessment Grades 3-8
END:VEVENT
BEGIN:VEVENT
DTSTAMP:20260423T051427Z
UID:28d3a40c-ff65-4343-88bd-cfa048f53801
DTSTART:20260506T190000
DTEND:20260506T200000
DESCRIPTION:
LOCATION:
SUMMARY:MED 5th grade Spring Concert CHS Auditorium
END:VEVENT
BEGIN:VEVENT
DTSTAMP:20260423T051427Z
UID:b7f5c7e5-d971-44d5-8ec0-b4c9f6c34ced
DTSTART;VALUE=DATE:20260512
DTEND;VALUE=DATE:20260513
DESCRIPTION:
LOCATION:
SUMMARY:NYS Science Assessment Grade 5-8
END:VEVENT
BEGIN:VEVENT
DTSTAMP:20260423T051427Z
UID:12e6b810-c580-4875-9dc3-31558cd71801
DTSTART:20260512T180000
DTEND:20260512T180000
DESCRIPTION:
LOCATION:CHS Library
SUMMARY:Board of Education Meeting & Budget Hearing 
END:VEVENT
BEGIN:VEVENT
DTSTAMP:20260423T051427Z
UID:78881ab0-64ce-4ef2-b351-e41911564ef1
DTSTART:20260513T160000
DTEND:20260513T200000
DESCRIPTION:<p><span>Voter registration in the MED Elementary School lobby 
 for those who have not previously registered to vote with either the Colum
 bia County Board of Elections or the Chatham Central School District and w
 ould like to vote in the School Budget Vote &amp\; Board of Education Elec
 tion.</span></p>
LOCATION:Mary E. Dardess Elementary School Lobby
SUMMARY:Voter Registration 
END:VEVENT
BEGIN:VEVENT
DTSTAMP:20260423T051427Z
UID:bb2d5f5b-64f6-469d-bb2d-568b7d5c7bb4
DTSTART:20260514T190000
DTEND:20260514T200000
DESCRIPTION:
LOCATION:
SUMMARY:MED 4th Grade Spring Concert CHS Auditorium
END:VEVENT
BEGIN:VEVENT
DTSTAMP:20260423T051427Z
UID:2a2fe0cd-8497-4d3a-9285-5dcec40a1749
DTSTART;VALUE=DATE:20260515
DTEND;VALUE=DATE:20260516
DESCRIPTION:<p>One of Chatham's greatest and most exciting traditions is ou
 r Senior Capstone Presentations.&nbsp\; To allow for our faculty to partic
 ipate and evaluate our seniors’ presentations\, students in grades PK-11
  will be dismissed early.</p><p>CMS students will be dismissed at 11:00am<
 /p><p>MED students will be dismissed at 11:15am</p><p>CHS students (grades
  9-11) will be dismissed at 11:25am</p><p>Capstone Projects will begin at 
 12:15pm</p>
LOCATION:
SUMMARY:Early Dismissal for Staff Development (CMS - 11am\, MED 11:15\, CHS
  11:25)
END:VEVENT
BEGIN:VEVENT
DTSTAMP:20260423T051427Z
UID:c4e11f0a-24be-4d06-b4f9-2a41337db3ba
DTSTART:20260515T190000
DTEND:20260515T203000
DESCRIPTION:
LOCATION:
SUMMARY:MED Musical CHS Auditorium 
END:VEVENT
BEGIN:VEVENT
DTSTAMP:20260423T051427Z
UID:2bc6bc24-4289-4f6a-802e-e68d948ca00d
DTSTART:20260516T140000
DTEND:20260516T153000
DESCRIPTION:
LOCATION:
SUMMARY:MED Musical CHS Auditorium 
END:VEVENT
BEGIN:VEVENT
DTSTAMP:20260423T051427Z
UID:fa5c02a8-ba17-420e-b872-92a6abf0180e
DTSTART:20260519T090000
DTEND:20260519T210000
DESCRIPTION:
LOCATION:MED Gym
SUMMARY:Annual Budget Vote & School Board Election
END:VEVENT
BEGIN:VEVENT
DTSTAMP:20260423T051427Z
UID:086eba7d-0f72-4412-ab5f-175746bff852
DTSTART:20260520T180000
DTEND:20260520T190000
DESCRIPTION:
LOCATION:
SUMMARY:5th to 6th Grade Parent Orientation Evening CMS Library
END:VEVENT
BEGIN:VEVENT
DTSTAMP:20260423T051427Z
UID:80adbadf-a8ea-4ee3-b0a7-3af25d2847c7
DTSTART;VALUE=DATE:20260522
DTEND;VALUE=DATE:20260523
DESCRIPTION:
LOCATION:
SUMMARY:Give-back Day - No School
END:VEVENT
BEGIN:VEVENT
DTSTAMP:20260423T051427Z
UID:a29efdb0-1148-4e87-aa48-62b81df4e089
DTSTART;VALUE=DATE:20260525
DTEND;VALUE=DATE:20260526
DESCRIPTION:<p>Schools &amp\; Offices Closed</p>
LOCATION:
SUMMARY:Memorial Day
END:VEVENT
BEGIN:VEVENT
DTSTAMP:20260423T051427Z
UID:1fb9bdeb-7fca-4aa8-807f-912e5eab2086
DTSTART:20260526T180000
DTEND:20260526T180000
DESCRIPTION:
LOCATION:CHS Library
SUMMARY:Board of Education Meeting
END:VEVENT
BEGIN:VEVENT
DTSTAMP:20260423T051427Z
UID:909d6a0e-4890-420a-bdcf-3ee861000dee
DTSTART;VALUE=DATE:20260601
DTEND;VALUE=DATE:20260606
DESCRIPTION:
LOCATION:
SUMMARY:MED 5th Grade Outdoor Classroom
END:VEVENT
BEGIN:VEVENT
DTSTAMP:20260423T051427Z
UID:30d34f90-72e3-4f9f-bcb0-9a5dcda65021
DTSTART:20260601T191500
DTEND:20260601T191500
DESCRIPTION:
LOCATION:CHS
SUMMARY:Fine Arts Booster Club Meeting
END:VEVENT
BEGIN:VEVENT
DTSTAMP:20260423T051427Z
UID:ccdca9bb-57ad-4315-9a31-8ca4ae0f956b
DTSTART:20260608T190000
DTEND:20260608T190000
DESCRIPTION:
LOCATION:CHS
SUMMARY:Athletic Booster Club Meeting
END:VEVENT
BEGIN:VEVENT
DTSTAMP:20260423T051427Z
UID:9b691c6a-07e6-464a-bd3f-a65134411d71
DTSTART:20260609T180000
DTEND:20260609T180000
DESCRIPTION:
LOCATION:CHS Library
SUMMARY:Board of Education Meeting
END:VEVENT
BEGIN:VEVENT
DTSTAMP:20260423T051427Z
UID:85ed6896-8b0b-47bb-b765-b262f1f99a55
DTSTART:20260612T090000
DTEND:20260612T094500
DESCRIPTION:
LOCATION:
SUMMARY:MED Arbor Day
END:VEVENT
BEGIN:VEVENT
DTSTAMP:20260423T051427Z
UID:31aafb6b-02b9-44b3-b2bc-89e337e438ae
DTSTART;VALUE=DATE:20260616
DTEND;VALUE=DATE:20260617
DESCRIPTION:
LOCATION:
SUMMARY:MED 5th grade Moving up Ceremony @ CHS 
END:VEVENT
BEGIN:VEVENT
DTSTAMP:20260423T051427Z
UID:ba66d584-3c57-4d79-abec-15a0bac633c6
DTSTART;VALUE=DATE:20260619
DTEND;VALUE=DATE:20260620
DESCRIPTION:<p>Schools &amp\; Offices Closed</p>
LOCATION:
SUMMARY:Juneteenth
END:VEVENT
BEGIN:VEVENT
DTSTAMP:20260423T051427Z
UID:b4b9328b-a395-4769-90ff-389f5098aa17
DTSTART;VALUE=DATE:20260622
DTEND;VALUE=DATE:20260623
DESCRIPTION:
LOCATION:
SUMMARY:MED PreK - 2nd Grade Field Day
END:VEVENT
BEGIN:VEVENT
DTSTAMP:20260423T051427Z
UID:b66f5d9a-8488-4146-82ba-ffaecb2d7fc0
DTSTART;VALUE=DATE:20260623
DTEND;VALUE=DATE:20260624
DESCRIPTION:
LOCATION:
SUMMARY:MED 3rd-5th Grade Field Day
END:VEVENT
BEGIN:VEVENT
DTSTAMP:20260423T051427Z
UID:108b6419-f25a-461c-b23f-a8c0fce8074a
DTSTART;VALUE=DATE:20260624
DTEND;VALUE=DATE:20260627
DESCRIPTION:
LOCATION:
SUMMARY:Early Dismissal CMS/MED - 11:15 CMS\, 11:30 MED (No Lunches Served)
END:VEVENT
BEGIN:VEVENT
DTSTAMP:20260423T051427Z
UID:96dcf0f1-2790-4277-a1db-61c1c59643d0
DTSTART;VALUE=DATE:20260626
DTEND;VALUE=DATE:20260627
DESCRIPTION:
LOCATION:
SUMMARY:Last Day of Classes
END:VEVENT
BEGIN:VEVENT
DTSTAMP:20260423T051427Z
UID:dde2e71f-771e-4365-a3e7-adb03e5d0860
DTSTART;VALUE=DATE:20260626
DTEND;VALUE=DATE:20260627
DESCRIPTION:
LOCATION:
SUMMARY:MED/CMS/CHS Report Cards Issued
END:VEVENT
BEGIN:VEVENT
DTSTAMP:20260423T051427Z
UID:785f027e-4329-47cf-860b-6c89f4567d02
DTSTART;VALUE=DATE:20260703
DTEND;VALUE=DATE:20260704
DESCRIPTION:<p>Schools &amp\; Offices Closed</p>
LOCATION:
SUMMARY:Independence Day (Observed)
END:VEVENT
BEGIN:VEVENT
DTSTAMP:20260423T051427Z
UID:0da57ac2-b8f8-450b-ab8a-0b2e84073b1a
DTSTART;VALUE=DATE:20260704
DTEND;VALUE=DATE:20260705
DESCRIPTION:
LOCATION:
SUMMARY:Independence Day
END:VEVENT
BEGIN:VEVENT
DTSTAMP:20260423T051427Z
UID:a7d0955c-d4be-4f04-894f-1cc37cd077c1
DTSTART:20260707T180000
DTEND:20260707T180000
DESCRIPTION:
LOCATION:CHS Library
SUMMARY:Board Organizational Meeting
END:VEVENT
BEGIN:VEVENT
DTSTAMP:20260423T051427Z
UID:35f6a987-b389-4d19-8757-fcc25c5551ad
DTSTART:20260819T180000
DTEND:20260819T180000
DESCRIPTION:
LOCATION:CHS Library
SUMMARY:Board of Education Meeting
END:VEVENT
END:VCALENDAR
