BEGIN:VCALENDAR
VERSION:2.0
PRODID:icalendar-ruby
CALSCALE:GREGORIAN
BEGIN:VTIMEZONE
TZID:America/New_York
BEGIN:DAYLIGHT
DTSTART:20260308T030000
TZOFFSETFROM:-0500
TZOFFSETTO:-0400
RRULE:FREQ=YEARLY;BYDAY=2SU;BYMONTH=3
TZNAME:EDT
END:DAYLIGHT
BEGIN:STANDARD
DTSTART:20261101T010000
TZOFFSETFROM:-0400
TZOFFSETTO:-0500
RRULE:FREQ=YEARLY;BYDAY=1SU;BYMONTH=11
TZNAME:EST
END:STANDARD
END:VTIMEZONE
BEGIN:VEVENT
DTSTAMP:20260425T113636Z
UID:440bd821-0ce7-4f8d-9e47-9958f18773d4
DTSTART;VALUE=DATE:20260427
DTEND;VALUE=DATE:20260428
DESCRIPTION:
LOCATION:
SUMMARY: Schools Reopen - First Day of School After April Break
END:VEVENT
BEGIN:VEVENT
DTSTAMP:20260425T113636Z
UID:7ea5ed86-f942-467e-903a-3cbe4ba9ad0d
DTSTART;VALUE=DATE:20260428
DTEND;VALUE=DATE:20260429
DESCRIPTION:
LOCATION:
SUMMARY:Grade 4 Math MCAS Session #1
END:VEVENT
BEGIN:VEVENT
DTSTAMP:20260425T113636Z
UID:77b85a56-2e38-47b0-8d1a-38b8ab46ca70
DTSTART;VALUE=DATE:20260429
DTEND;VALUE=DATE:20260430
DESCRIPTION:
LOCATION:
SUMMARY:Grade 4 Math MCAS Session #2
END:VEVENT
BEGIN:VEVENT
DTSTAMP:20260425T113636Z
UID:fd61fe68-9c27-4879-b747-75ecb3079714
DTSTART;VALUE=DATE:20260430
DTEND;VALUE=DATE:20260501
DESCRIPTION:
LOCATION:
SUMMARY:Spring Picture Day
END:VEVENT
BEGIN:VEVENT
DTSTAMP:20260425T113636Z
UID:e5ab46a4-175a-40f2-bbda-131b00c4928c
DTSTART:20260504T170000
DTEND:20260504T190000
DESCRIPTION:
LOCATION:
SUMMARY:Gibbons Fine Arts Night
END:VEVENT
BEGIN:VEVENT
DTSTAMP:20260425T113636Z
UID:db83b8e1-e5d2-42cd-b3b8-c3f26394d96c
DTSTART;VALUE=DATE:20260505
DTEND;VALUE=DATE:20260506
DESCRIPTION:
LOCATION:
SUMMARY:Grade 5 Math MCAS Session #1
END:VEVENT
BEGIN:VEVENT
DTSTAMP:20260425T113636Z
UID:523ef316-9d04-4ae0-aa29-30e5cf751ec6
DTSTART;VALUE=DATE:20260506
DTEND;VALUE=DATE:20260507
DESCRIPTION:
LOCATION:
SUMMARY:Grade 5 Math MCAS Session #2
END:VEVENT
BEGIN:VEVENT
DTSTAMP:20260425T113636Z
UID:b1584bc3-a65c-43e3-aeb9-49ad217321ce
DTSTART;VALUE=DATE:20260507
DTEND;VALUE=DATE:20260508
DESCRIPTION:<p>School hours for early release days:</p><ul><li>SHS &amp\;
  OMS - 7:35am - 11:32am</li><li>Elementary Schools - 8:30am - 12:20pm</li>
 <li>Preschool - 8:30am - 11:00am (No afternoon preschool session)</li></ul
 ><p>Lunch will still be served.<br> </p>
LOCATION:
SUMMARY:Early Release Day
END:VEVENT
BEGIN:VEVENT
DTSTAMP:20260425T113636Z
UID:78600e56-7764-4e40-99fa-e6d69d5bf92c
DTSTART:20260507T180000
DTEND:20260507T193000
DESCRIPTION:
LOCATION:
SUMMARY:Gibbons Family Night: Magician
END:VEVENT
BEGIN:VEVENT
DTSTAMP:20260425T113636Z
UID:8deddf56-9f27-4b01-9079-c10697b99046
DTSTART;VALUE=DATE:20260512
DTEND;VALUE=DATE:20260513
DESCRIPTION:
LOCATION:
SUMMARY:Grade 3 Math MCAS Session #1
END:VEVENT
BEGIN:VEVENT
DTSTAMP:20260425T113636Z
UID:17525034-b537-4c12-9830-4b72b1b2b9fe
DTSTART;VALUE=DATE:20260513
DTEND;VALUE=DATE:20260514
DESCRIPTION:
LOCATION:
SUMMARY:Grade 3 Math MCAS Session #2
END:VEVENT
BEGIN:VEVENT
DTSTAMP:20260425T113636Z
UID:b59bda69-d358-4234-9ee5-cd043e4cc279
DTSTART;VALUE=DATE:20260519
DTEND;VALUE=DATE:20260520
DESCRIPTION:
LOCATION:
SUMMARY:Grade 5 STEM MCAS Session #1
END:VEVENT
BEGIN:VEVENT
DTSTAMP:20260425T113636Z
UID:2e7291a9-8b91-43cd-86ae-833aa367581f
DTSTART;VALUE=DATE:20260520
DTEND;VALUE=DATE:20260521
DESCRIPTION:
LOCATION:
SUMMARY:Grade 5 STEM MCAS Session #2
END:VEVENT
BEGIN:VEVENT
DTSTAMP:20260425T113636Z
UID:76c05d10-fd5e-4a7e-9482-7edefc7b66ae
DTSTART:20260520T180000
DTEND:20260520T193000
DESCRIPTION:
LOCATION:
SUMMARY:Gibbons Talent Show
END:VEVENT
BEGIN:VEVENT
DTSTAMP:20260425T113636Z
UID:b8135da4-e78a-4ea4-b761-2d095c5d9012
DTSTART:20260522T090000
DTEND:20260522T094500
DESCRIPTION:
LOCATION:
SUMMARY:Grade 3 Concert for Parents/Guardians
END:VEVENT
BEGIN:VEVENT
DTSTAMP:20260425T113636Z
UID:7d78d52c-59b6-4233-b8ae-56ec46fdfc4a
DTSTART;VALUE=DATE:20260525
DTEND;VALUE=DATE:20260526
DESCRIPTION:
LOCATION:
SUMMARY:NO SCHOOL - Memorial Day
END:VEVENT
BEGIN:VEVENT
DTSTAMP:20260425T113636Z
UID:232dfc11-dbdf-4f68-9d25-69a1904bf6a4
DTSTART;VALUE=DATE:20260604
DTEND;VALUE=DATE:20260605
DESCRIPTION:<p>School hours for early release days:</p><ul><li>SHS &amp\;
  OMS - 7:35am - 11:32am</li><li>Elementary Schools - 8:30am - 12:20pm</li>
 <li>Preschool - 8:30am - 11:00am (No afternoon preschool session)</li></ul
 ><p>Lunch will still be served.<br> </p>
LOCATION:
SUMMARY:Early Release Day
END:VEVENT
BEGIN:VEVENT
DTSTAMP:20260425T113636Z
UID:d63240c9-593c-423f-a0a9-6281713e5407
DTSTART:20260605T090000
DTEND:20260605T100000
DESCRIPTION:
LOCATION:
SUMMARY:Kindergarten Celebration
END:VEVENT
BEGIN:VEVENT
DTSTAMP:20260425T113636Z
UID:ee48c501-d65f-48d5-b028-33419a96e0c7
DTSTART:20260612T091500
DTEND:20260612T103000
DESCRIPTION:
LOCATION:
SUMMARY:Grade 5 Moving on Ceremony
END:VEVENT
BEGIN:VEVENT
DTSTAMP:20260425T113636Z
UID:964fad55-0c27-49ea-a5aa-820c67b4d29a
DTSTART:20260616T100000
DTEND:20260616T103000
DESCRIPTION:
LOCATION:
SUMMARY:Flag Day Celebration
END:VEVENT
BEGIN:VEVENT
DTSTAMP:20260425T113636Z
UID:913075e4-8023-4cc6-abda-4e2cef462969
DTSTART;VALUE=DATE:20260619
DTEND;VALUE=DATE:20260620
DESCRIPTION:
LOCATION:
SUMMARY:Juneteenth - Schools/Offices Closed
END:VEVENT
BEGIN:VEVENT
DTSTAMP:20260425T113636Z
UID:a49171e2-a323-4877-b6fc-6f6b378288d2
DTSTART;VALUE=DATE:20260622
DTEND;VALUE=DATE:20260623
DESCRIPTION:
LOCATION:
SUMMARY:Gibbons Field Day
END:VEVENT
BEGIN:VEVENT
DTSTAMP:20260425T113636Z
UID:b8d4ffa4-aa1b-4305-a511-4d1add3ad815
DTSTART;VALUE=DATE:20260623
DTEND;VALUE=DATE:20260624
DESCRIPTION:
LOCATION:
SUMMARY:Rain Date for Gibbons Field Day
END:VEVENT
BEGIN:VEVENT
DTSTAMP:20260425T113636Z
UID:1cf186f1-0775-49c6-b3c0-bc3bcce6eb69
DTSTART;VALUE=DATE:20260624
DTEND;VALUE=DATE:20260625
DESCRIPTION:
LOCATION:
SUMMARY: Last Day of School/Early Release Day (With 5 Snow Days)
END:VEVENT
END:VCALENDAR
