BEGIN:VCALENDAR
VERSION:2.0
PRODID:icalendar-ruby
CALSCALE:GREGORIAN
BEGIN:VTIMEZONE
TZID:America/New_York
BEGIN:DAYLIGHT
DTSTART:20260308T030000
TZOFFSETFROM:-0500
TZOFFSETTO:-0400
RRULE:FREQ=YEARLY;BYDAY=2SU;BYMONTH=3
TZNAME:EDT
END:DAYLIGHT
BEGIN:STANDARD
DTSTART:20261101T010000
TZOFFSETFROM:-0400
TZOFFSETTO:-0500
RRULE:FREQ=YEARLY;BYDAY=1SU;BYMONTH=11
TZNAME:EST
END:STANDARD
END:VTIMEZONE
BEGIN:VEVENT
DTSTAMP:20260420T205018Z
UID:bc9a4fbb-f71f-4355-b1ab-0b023661ac21
DTSTART:20260420T081500
DTEND:20260420T090000
DESCRIPTION:
LOCATION:
SUMMARY:Debate Club
END:VEVENT
BEGIN:VEVENT
DTSTAMP:20260420T205018Z
UID:b4db69aa-2587-4b39-9b2b-53bf4a32eddd
DTSTART:20260420T160000
DTEND:20260420T173000
DESCRIPTION:
LOCATION:
SUMMARY:Aerospace Club
END:VEVENT
BEGIN:VEVENT
DTSTAMP:20260420T205018Z
UID:d72f5c22-f16a-40aa-8d0c-f474c47e8ef3
DTSTART:20260420T160000
DTEND:20260420T173000
DESCRIPTION:
LOCATION:
SUMMARY:Color Guard 
END:VEVENT
BEGIN:VEVENT
DTSTAMP:20260420T205018Z
UID:4548f556-5b41-45f6-a827-a71ab162fbeb
DTSTART:20260421T160000
DTEND:20260421T173000
DESCRIPTION:
LOCATION:
SUMMARY:Chess Club
END:VEVENT
BEGIN:VEVENT
DTSTAMP:20260420T205018Z
UID:132cb584-5dc9-4de1-999f-e03086435cfd
DTSTART:20260422T082000
DTEND:20260422T090000
DESCRIPTION:
LOCATION:
SUMMARY:First Priority 
END:VEVENT
BEGIN:VEVENT
DTSTAMP:20260420T205018Z
UID:c1455cdc-6664-462f-9873-6642d5fa4a98
DTSTART:20260422T160000
DTEND:20260422T173000
DESCRIPTION:
LOCATION:
SUMMARY:Engineering Club 
END:VEVENT
BEGIN:VEVENT
DTSTAMP:20260420T205018Z
UID:a239651d-935d-447e-ba04-850a81181fa4
DTSTART:20260427T081500
DTEND:20260427T090000
DESCRIPTION:
LOCATION:
SUMMARY:Debate Club
END:VEVENT
BEGIN:VEVENT
DTSTAMP:20260420T205018Z
UID:64208f6a-3b05-4065-a7aa-f223aaa9c432
DTSTART:20260427T160000
DTEND:20260427T173000
DESCRIPTION:
LOCATION:
SUMMARY:Aerospace Club
END:VEVENT
BEGIN:VEVENT
DTSTAMP:20260420T205018Z
UID:1cfe62e4-50ac-49f4-83ed-8bc3c04cd34c
DTSTART:20260427T160000
DTEND:20260427T173000
DESCRIPTION:
LOCATION:
SUMMARY:Color Guard 
END:VEVENT
BEGIN:VEVENT
DTSTAMP:20260420T205018Z
UID:8e860dee-2715-4c77-8e04-7caa1566c05c
DTSTART:20260428T160000
DTEND:20260428T173000
DESCRIPTION:
LOCATION:
SUMMARY:Chess Club
END:VEVENT
BEGIN:VEVENT
DTSTAMP:20260420T205018Z
UID:9782d8e3-50e1-4ea3-979d-c8fe2eb8a2c9
DTSTART:20260429T082000
DTEND:20260429T090000
DESCRIPTION:
LOCATION:
SUMMARY:First Priority 
END:VEVENT
BEGIN:VEVENT
DTSTAMP:20260420T205018Z
UID:23b64435-10b8-41b4-8302-1ddbd6356faf
DTSTART:20260429T160000
DTEND:20260429T173000
DESCRIPTION:
LOCATION:
SUMMARY:Engineering Club 
END:VEVENT
BEGIN:VEVENT
DTSTAMP:20260420T205018Z
UID:ff819c2c-5a18-49e0-9b17-2fb3fdcf8930
DTSTART:20260504T081500
DTEND:20260504T090000
DESCRIPTION:
LOCATION:
SUMMARY:Debate Club
END:VEVENT
BEGIN:VEVENT
DTSTAMP:20260420T205018Z
UID:95f380e3-2871-4710-b13a-0eb98389e16f
DTSTART:20260504T160000
DTEND:20260504T173000
DESCRIPTION:
LOCATION:
SUMMARY:Aerospace Club
END:VEVENT
BEGIN:VEVENT
DTSTAMP:20260420T205018Z
UID:03c716b5-9589-4cc8-bf58-aef98c9c37cd
DTSTART:20260504T160000
DTEND:20260504T173000
DESCRIPTION:
LOCATION:
SUMMARY:Color Guard 
END:VEVENT
BEGIN:VEVENT
DTSTAMP:20260420T205018Z
UID:95dbb91e-25be-4de0-b5f0-e8e8dfd9e549
DTSTART:20260505T160000
DTEND:20260505T173000
DESCRIPTION:
LOCATION:
SUMMARY:Chess Club
END:VEVENT
BEGIN:VEVENT
DTSTAMP:20260420T205018Z
UID:48e80de7-1772-4d05-ae19-699b21949386
DTSTART:20260506T082000
DTEND:20260506T090000
DESCRIPTION:
LOCATION:
SUMMARY:First Priority 
END:VEVENT
BEGIN:VEVENT
DTSTAMP:20260420T205018Z
UID:e6821963-f8b1-4042-8717-674758ccc6ed
DTSTART:20260506T160000
DTEND:20260506T173000
DESCRIPTION:
LOCATION:
SUMMARY:Engineering Club 
END:VEVENT
BEGIN:VEVENT
DTSTAMP:20260420T205018Z
UID:863efe8a-6dd8-47a1-9b78-b061b4d4d1e8
DTSTART:20260511T081500
DTEND:20260511T090000
DESCRIPTION:
LOCATION:
SUMMARY:Debate Club
END:VEVENT
BEGIN:VEVENT
DTSTAMP:20260420T205018Z
UID:21049db7-a4aa-4a8a-ad29-211b4ee6f258
DTSTART:20260511T160000
DTEND:20260511T173000
DESCRIPTION:
LOCATION:
SUMMARY:Aerospace Club
END:VEVENT
BEGIN:VEVENT
DTSTAMP:20260420T205018Z
UID:89428bad-11fe-4236-84db-ace32c28e0b6
DTSTART:20260511T160000
DTEND:20260511T173000
DESCRIPTION:
LOCATION:
SUMMARY:Color Guard 
END:VEVENT
BEGIN:VEVENT
DTSTAMP:20260420T205018Z
UID:2cdb4276-999c-43ee-b4a2-ece6795a3fbc
DTSTART:20260512T160000
DTEND:20260512T173000
DESCRIPTION:
LOCATION:
SUMMARY:Chess Club
END:VEVENT
BEGIN:VEVENT
DTSTAMP:20260420T205018Z
UID:471c4454-2d96-4cbd-9e08-289750621006
DTSTART:20260513T082000
DTEND:20260513T090000
DESCRIPTION:
LOCATION:
SUMMARY:First Priority 
END:VEVENT
BEGIN:VEVENT
DTSTAMP:20260420T205018Z
UID:3d4b49d7-dda3-4772-8a6b-94b5114cd2ea
DTSTART:20260513T160000
DTEND:20260513T173000
DESCRIPTION:
LOCATION:
SUMMARY:Engineering Club 
END:VEVENT
BEGIN:VEVENT
DTSTAMP:20260420T205018Z
UID:1ac8d7d2-2d78-4314-bcc6-5bbdb0f8d0e7
DTSTART:20260518T081500
DTEND:20260518T090000
DESCRIPTION:
LOCATION:
SUMMARY:Debate Club
END:VEVENT
BEGIN:VEVENT
DTSTAMP:20260420T205018Z
UID:ad8c3340-312b-4b8d-9e17-0e6b8361ea02
DTSTART:20260518T160000
DTEND:20260518T173000
DESCRIPTION:
LOCATION:
SUMMARY:Aerospace Club
END:VEVENT
BEGIN:VEVENT
DTSTAMP:20260420T205018Z
UID:e5ef42cd-1884-4e5c-9f25-a1c18fa4e325
DTSTART:20260518T160000
DTEND:20260518T173000
DESCRIPTION:
LOCATION:
SUMMARY:Color Guard 
END:VEVENT
BEGIN:VEVENT
DTSTAMP:20260420T205018Z
UID:4ddabda4-2213-47cb-a13c-b69ba47b7abd
DTSTART:20260519T160000
DTEND:20260519T173000
DESCRIPTION:
LOCATION:
SUMMARY:Chess Club
END:VEVENT
BEGIN:VEVENT
DTSTAMP:20260420T205018Z
UID:9a0b6ccf-b6ee-4d80-ae2e-5e238f8e3f4b
DTSTART:20260520T082000
DTEND:20260520T090000
DESCRIPTION:
LOCATION:
SUMMARY:First Priority 
END:VEVENT
BEGIN:VEVENT
DTSTAMP:20260420T205018Z
UID:d7b8d5ad-38d8-475e-9ca4-d71db54f4e3e
DTSTART:20260520T160000
DTEND:20260520T173000
DESCRIPTION:
LOCATION:
SUMMARY:Engineering Club 
END:VEVENT
BEGIN:VEVENT
DTSTAMP:20260420T205018Z
UID:2d859488-c889-41c5-a675-3ff9c748b6da
DTSTART:20260525T081500
DTEND:20260525T090000
DESCRIPTION:
LOCATION:
SUMMARY:Debate Club
END:VEVENT
BEGIN:VEVENT
DTSTAMP:20260420T205018Z
UID:d7f98ff1-d24a-4dd8-a7b5-4d66f9e9a3aa
DTSTART:20260525T160000
DTEND:20260525T173000
DESCRIPTION:
LOCATION:
SUMMARY:Aerospace Club
END:VEVENT
BEGIN:VEVENT
DTSTAMP:20260420T205018Z
UID:8e4d65d1-4b1f-4af9-a91f-b79e4b61d3f8
DTSTART:20260525T160000
DTEND:20260525T173000
DESCRIPTION:
LOCATION:
SUMMARY:Color Guard 
END:VEVENT
BEGIN:VEVENT
DTSTAMP:20260420T205018Z
UID:73588f67-d7ab-4cb0-b55e-361e5378311a
DTSTART:20260526T160000
DTEND:20260526T173000
DESCRIPTION:
LOCATION:
SUMMARY:Chess Club
END:VEVENT
BEGIN:VEVENT
DTSTAMP:20260420T205018Z
UID:de83d773-66e4-45f9-975e-78a4c312501f
DTSTART:20260527T082000
DTEND:20260527T090000
DESCRIPTION:
LOCATION:
SUMMARY:First Priority 
END:VEVENT
END:VCALENDAR
