BEGIN:VCALENDAR
VERSION:2.0
PRODID:icalendar-ruby
CALSCALE:GREGORIAN
BEGIN:VTIMEZONE
TZID:America/New_York
BEGIN:DAYLIGHT
DTSTART:20260308T030000
TZOFFSETFROM:-0500
TZOFFSETTO:-0400
RRULE:FREQ=YEARLY;BYDAY=2SU;BYMONTH=3
TZNAME:EDT
END:DAYLIGHT
BEGIN:STANDARD
DTSTART:20261101T010000
TZOFFSETFROM:-0400
TZOFFSETTO:-0500
RRULE:FREQ=YEARLY;BYDAY=1SU;BYMONTH=11
TZNAME:EST
END:STANDARD
END:VTIMEZONE
BEGIN:VEVENT
DTSTAMP:20260425T102633Z
UID:4807a825-c745-4085-ba18-6d0be0661ac9
DTSTART:20260429T090000
DTEND:20260429T140000
DESCRIPTION:
LOCATION:
SUMMARY:Early Release Day
END:VEVENT
BEGIN:VEVENT
DTSTAMP:20260425T102633Z
UID:ac201911-bd6a-4306-aec7-bbe123c515fc
DTSTART:20260508T140000
DTEND:20260509T030000
DESCRIPTION:
LOCATION:
SUMMARY:8th Grade End of Year Field Trip
END:VEVENT
BEGIN:VEVENT
DTSTAMP:20260425T102633Z
UID:2772af59-c4b4-47c3-a9e9-7b6826ed5cc2
DTSTART:20260512T090000
DTEND:20260512T160000
DESCRIPTION:
LOCATION:
SUMMARY:FAST ELA testing 
END:VEVENT
BEGIN:VEVENT
DTSTAMP:20260425T102633Z
UID:0eb4e016-f92d-4a33-a7a2-def761871256
DTSTART:20260514T090000
DTEND:20260514T160000
DESCRIPTION:
LOCATION:
SUMMARY:FAST Math Testing  & Algebra and Geometry EOC
END:VEVENT
BEGIN:VEVENT
DTSTAMP:20260425T102633Z
UID:cb6243e6-249f-428a-ad7f-c7311c83a5f5
DTSTART:20260515T180000
DTEND:20260515T210000
DESCRIPTION:<p>See the "News" section of this website for more information 
 or click on the "Important 8th Grade Information button" on our homepage. 
 </p>
LOCATION:
SUMMARY:8th Grade Dance
END:VEVENT
BEGIN:VEVENT
DTSTAMP:20260425T102633Z
UID:029861a4-8a4d-4085-906b-05c512d2a9cc
DTSTART:20260518T144500
DTEND:20260518T160000
DESCRIPTION:
LOCATION:
SUMMARY:Yearbook Signing Party
END:VEVENT
BEGIN:VEVENT
DTSTAMP:20260425T102633Z
UID:f77ad2b2-fd30-42c1-9579-2a856e8ad9c4
DTSTART:20260519T090000
DTEND:20260519T160000
DESCRIPTION:
LOCATION:
SUMMARY:8th Grade Science Exam & Biology EOC Exam
END:VEVENT
BEGIN:VEVENT
DTSTAMP:20260425T102633Z
UID:5da89f48-3dcf-478e-bb9e-3c55f6daefed
DTSTART:20260520T090000
DTEND:20260520T160000
DESCRIPTION:<p>See the "News" section of this website for the flyer with mo
 re information about the event.</p>
LOCATION:
SUMMARY:6th Grade Fun Day 
END:VEVENT
BEGIN:VEVENT
DTSTAMP:20260425T102633Z
UID:a523d636-5463-4df2-8134-cc1af68a4c54
DTSTART:20260520T093000
DTEND:20260520T143000
DESCRIPTION:<p>See the "News" section of our website for the flyer with mor
 e information. </p>
LOCATION:
SUMMARY:7th Grade End of Year Trip to Dave and Busters.
END:VEVENT
BEGIN:VEVENT
DTSTAMP:20260425T102633Z
UID:599604e1-6849-4700-a367-7762aa95b612
DTSTART:20260521T090000
DTEND:20260521T160000
DESCRIPTION:
LOCATION:
SUMMARY:8th Grade Civics EOC
END:VEVENT
BEGIN:VEVENT
DTSTAMP:20260425T102633Z
UID:ee72ce67-6e52-4392-a0fd-9cf5f64ea5f4
DTSTART:20260525T090000
DTEND:20260525T160000
DESCRIPTION:
LOCATION:
SUMMARY:Memorial Day - No School for Students and Teachers
END:VEVENT
BEGIN:VEVENT
DTSTAMP:20260425T102633Z
UID:29e5e656-121f-48c9-aeb1-7c2b0fe776e4
DTSTART:20260527T173000
DTEND:20260527T193000
DESCRIPTION:
LOCATION:
SUMMARY:8th Grade Promotion
END:VEVENT
BEGIN:VEVENT
DTSTAMP:20260425T102633Z
UID:09295b34-fccc-4dc4-8ff2-c8eef42e5baf
DTSTART:20260528T080000
DTEND:20260528T090000
DESCRIPTION:
LOCATION:
SUMMARY:Last Day of School for Students
END:VEVENT
END:VCALENDAR
