BEGIN:VCALENDAR
VERSION:2.0
PRODID:icalendar-ruby
CALSCALE:GREGORIAN
BEGIN:VTIMEZONE
TZID:America/Denver
BEGIN:DAYLIGHT
DTSTART:20260308T030000
TZOFFSETFROM:-0700
TZOFFSETTO:-0600
RRULE:FREQ=YEARLY;BYDAY=2SU;BYMONTH=3
TZNAME:MDT
END:DAYLIGHT
BEGIN:STANDARD
DTSTART:20261101T010000
TZOFFSETFROM:-0600
TZOFFSETTO:-0700
RRULE:FREQ=YEARLY;BYDAY=1SU;BYMONTH=11
TZNAME:MST
END:STANDARD
END:VTIMEZONE
BEGIN:VEVENT
DTSTAMP:20260421T102911Z
UID:b5c7f72b-ebdd-4d4a-8114-34c0ad39d663
DTSTART;VALUE=DATE:20260422
DTEND;VALUE=DATE:20260423
DESCRIPTION:
LOCATION:
SUMMARY:Administrative Assistant Day!
END:VEVENT
BEGIN:VEVENT
DTSTAMP:20260421T102911Z
UID:70046038-5c51-4700-be0d-1f9e571ca54d
DTSTART;VALUE=DATE:20260525
DTEND;VALUE=DATE:20260526
DESCRIPTION:
LOCATION:
SUMMARY:Memorial Day. (No School)
END:VEVENT
BEGIN:VEVENT
DTSTAMP:20260421T102911Z
UID:7d1c10f1-52da-4988-9c93-809bcf676da8
DTSTART;VALUE=DATE:20260527
DTEND;VALUE=DATE:20260528
DESCRIPTION:
LOCATION:
SUMMARY:Early Out
END:VEVENT
BEGIN:VEVENT
DTSTAMP:20260421T102911Z
UID:79843ea3-624a-43d2-83f7-cbafce98b6ee
DTSTART;VALUE=DATE:20260528
DTEND;VALUE=DATE:20260529
DESCRIPTION:
LOCATION:
SUMMARY:Last Day of School
END:VEVENT
BEGIN:VEVENT
DTSTAMP:20260421T102911Z
UID:ea45571a-7e88-4aa9-86d6-7781931f9524
DTSTART;VALUE=DATE:20260907
DTEND;VALUE=DATE:20260908
DESCRIPTION:
LOCATION:
SUMMARY:NO SCHOOL
END:VEVENT
END:VCALENDAR
