BEGIN:VCALENDAR
VERSION:2.0
PRODID:icalendar-ruby
CALSCALE:GREGORIAN
BEGIN:VTIMEZONE
TZID:America/Denver
BEGIN:DAYLIGHT
DTSTART:20260308T030000
TZOFFSETFROM:-0700
TZOFFSETTO:-0600
RRULE:FREQ=YEARLY;BYDAY=2SU;BYMONTH=3
TZNAME:MDT
END:DAYLIGHT
BEGIN:STANDARD
DTSTART:20261101T010000
TZOFFSETFROM:-0600
TZOFFSETTO:-0700
RRULE:FREQ=YEARLY;BYDAY=1SU;BYMONTH=11
TZNAME:MST
END:STANDARD
END:VTIMEZONE
BEGIN:VEVENT
DTSTAMP:20260420T081633Z
UID:acaf116a-8f5b-4df5-b47a-2284a9f89efd
DTSTART;VALUE=DATE:20260507
DTEND;VALUE=DATE:20260508
DESCRIPTION:
LOCATION:
SUMMARY:Field Trip 
END:VEVENT
BEGIN:VEVENT
DTSTAMP:20260420T081633Z
UID:0b0f6e22-271e-488b-afdb-4d3665215798
DTSTART;VALUE=DATE:20260511
DTEND;VALUE=DATE:20260515
DESCRIPTION:
LOCATION:
SUMMARY:Acadience Testing 
END:VEVENT
BEGIN:VEVENT
DTSTAMP:20260420T081633Z
UID:e4457e15-d3d0-46d9-b3d3-8f8574706693
DTSTART:20260513T183000
DTEND:20260513T220000
DESCRIPTION:
LOCATION:
SUMMARY:Board Meeting 
END:VEVENT
BEGIN:VEVENT
DTSTAMP:20260420T081633Z
UID:469adbad-b367-4c54-957f-72a8d2c11eac
DTSTART;VALUE=DATE:20260521
DTEND;VALUE=DATE:20260522
DESCRIPTION:
LOCATION:
SUMMARY:Track Meet 
END:VEVENT
BEGIN:VEVENT
DTSTAMP:20260420T081633Z
UID:bc8d5937-4445-4c70-9019-953eecce7ac3
DTSTART;VALUE=DATE:20260525
DTEND;VALUE=DATE:20260526
DESCRIPTION:
LOCATION:
SUMMARY:No School Memorial Day 
END:VEVENT
BEGIN:VEVENT
DTSTAMP:20260420T081633Z
UID:819dd461-a30d-452c-a36c-b757e9172595
DTSTART;VALUE=DATE:20260527
DTEND;VALUE=DATE:20260529
DESCRIPTION:
LOCATION:
SUMMARY:Early Release days 
END:VEVENT
BEGIN:VEVENT
DTSTAMP:20260420T081633Z
UID:a903b97f-7abc-49bd-8150-ab5e979c9458
DTSTART;VALUE=DATE:20260528
DTEND;VALUE=DATE:20260529
DESCRIPTION:
LOCATION:
SUMMARY:Last Day 
END:VEVENT
BEGIN:VEVENT
DTSTAMP:20260420T081633Z
UID:d99e3ac6-8266-4bc8-8b67-947b621c63fc
DTSTART;VALUE=DATE:20260529
DTEND;VALUE=DATE:20260530
DESCRIPTION:
LOCATION:
SUMMARY:PD day for Teachers 
END:VEVENT
END:VCALENDAR
