BEGIN:VCALENDAR
VERSION:2.0
PRODID:icalendar-ruby
CALSCALE:GREGORIAN
BEGIN:VTIMEZONE
TZID:America/Denver
BEGIN:DAYLIGHT
DTSTART:20260308T030000
TZOFFSETFROM:-0700
TZOFFSETTO:-0600
RRULE:FREQ=YEARLY;BYDAY=2SU;BYMONTH=3
TZNAME:MDT
END:DAYLIGHT
BEGIN:STANDARD
DTSTART:20261101T010000
TZOFFSETFROM:-0600
TZOFFSETTO:-0700
RRULE:FREQ=YEARLY;BYDAY=1SU;BYMONTH=11
TZNAME:MST
END:STANDARD
END:VTIMEZONE
BEGIN:VEVENT
DTSTAMP:20260420T201512Z
UID:3b15c24d-4385-403f-b4f5-2553e5f32f1f
DTSTART;VALUE=DATE:20260420
DTEND;VALUE=DATE:20260421
DESCRIPTION:
LOCATION:
SUMMARY:4th Grade Museum Of Nat History Field Trip 
END:VEVENT
BEGIN:VEVENT
DTSTAMP:20260420T201512Z
UID:73eedee5-01ce-4bd3-84e5-50235ef3c98b
DTSTART:20260420T170000
DTEND:20260420T190000
DESCRIPTION:
LOCATION:
SUMMARY:Elementary School Literacy Nights
END:VEVENT
BEGIN:VEVENT
DTSTAMP:20260420T201512Z
UID:e7a129cc-b673-4ec6-8c73-644c3aed9431
DTSTART;VALUE=DATE:20260422
DTEND;VALUE=DATE:20260423
DESCRIPTION:
LOCATION:
SUMMARY:Secretary Day!
END:VEVENT
BEGIN:VEVENT
DTSTAMP:20260420T201512Z
UID:3b66190f-af5e-49f0-9983-2718c3ed37fc
DTSTART;VALUE=DATE:20260424
DTEND;VALUE=DATE:20260425
DESCRIPTION:
LOCATION:
SUMMARY:PTA Fun Run
END:VEVENT
BEGIN:VEVENT
DTSTAMP:20260420T201512Z
UID:dcb1f99d-1415-48b6-9e61-69ae7d4349fd
DTSTART;VALUE=DATE:20260501
DTEND;VALUE=DATE:20260502
DESCRIPTION:
LOCATION:
SUMMARY:Principal Day!
END:VEVENT
BEGIN:VEVENT
DTSTAMP:20260420T201512Z
UID:158e35cd-799d-4b7d-81fd-d0b14608c7ac
DTSTART;VALUE=DATE:20260511
DTEND;VALUE=DATE:20260515
DESCRIPTION:
LOCATION:
SUMMARY:Acadience- All Grades 
END:VEVENT
BEGIN:VEVENT
DTSTAMP:20260420T201512Z
UID:b82b1f14-49a1-4cb5-a376-5b3061ab198f
DTSTART;VALUE=DATE:20260518
DTEND;VALUE=DATE:20260519
DESCRIPTION:More information will be coming later.
LOCATION:Box Elder High School\, 380 S 600 W\, Brigham City\, UT 84302\, US
 A
SUMMARY:4th and 5th Grade Pentathlon
END:VEVENT
BEGIN:VEVENT
DTSTAMP:20260420T201512Z
UID:f87419b6-50c1-4832-965a-f00d60e61b63
DTSTART;VALUE=DATE:20260520
DTEND;VALUE=DATE:20260521
DESCRIPTION:
LOCATION:
SUMMARY:Wax Museum- 5th Grade 
END:VEVENT
BEGIN:VEVENT
DTSTAMP:20260420T201512Z
UID:c70e1419-fdfd-4b6a-b8ae-cf35bb75d3b5
DTSTART:20260521T092000
DTEND:20260521T133000
DESCRIPTION:
LOCATION:
SUMMARY:5th Grade Field Trip- Toads
END:VEVENT
BEGIN:VEVENT
DTSTAMP:20260420T201512Z
UID:d823730a-0fd0-4205-b536-4f811acbc310
DTSTART;VALUE=DATE:20260526
DTEND;VALUE=DATE:20260527
DESCRIPTION:
LOCATION:
SUMMARY:Reunification
END:VEVENT
BEGIN:VEVENT
DTSTAMP:20260420T201512Z
UID:deda47d5-1b3c-4106-9868-347d87250dfd
DTSTART;VALUE=DATE:20260527
DTEND;VALUE=DATE:20260528
DESCRIPTION:
LOCATION:
SUMMARY:Yearbook Signing/Candybomber
END:VEVENT
BEGIN:VEVENT
DTSTAMP:20260420T201512Z
UID:7eac0cf9-7b86-4bfc-ba64-bdcc83994d76
DTSTART:20260527T104500
DTEND:20260527T111500
DESCRIPTION:
LOCATION:
SUMMARY:Candy Bomber 
END:VEVENT
BEGIN:VEVENT
DTSTAMP:20260420T201512Z
UID:dbea4188-20ec-43a1-ace9-041f4aab043a
DTSTART;VALUE=DATE:20261008
DTEND;VALUE=DATE:20261010
DESCRIPTION:
LOCATION:
SUMMARY:Fall Break
END:VEVENT
END:VCALENDAR
