BEGIN:VCALENDAR
VERSION:2.0
PRODID:icalendar-ruby
CALSCALE:GREGORIAN
BEGIN:VTIMEZONE
TZID:America/New_York
BEGIN:DAYLIGHT
DTSTART:20260308T030000
TZOFFSETFROM:-0500
TZOFFSETTO:-0400
RRULE:FREQ=YEARLY;BYDAY=2SU;BYMONTH=3
TZNAME:EDT
END:DAYLIGHT
BEGIN:STANDARD
DTSTART:20261101T010000
TZOFFSETFROM:-0400
TZOFFSETTO:-0500
RRULE:FREQ=YEARLY;BYDAY=1SU;BYMONTH=11
TZNAME:EST
END:STANDARD
END:VTIMEZONE
BEGIN:VEVENT
DTSTAMP:20260419T211604Z
UID:4e8f0044-cade-4ab9-81af-307b8b93c81f
DTSTART;VALUE=DATE:20260429
DTEND;VALUE=DATE:20260430
DESCRIPTION:
LOCATION:
SUMMARY:2 Hour Early Release (Students)
END:VEVENT
BEGIN:VEVENT
DTSTAMP:20260419T211604Z
UID:8b5116a9-6a73-42e8-9950-fdebd4a63502
DTSTART;VALUE=DATE:20260525
DTEND;VALUE=DATE:20260526
DESCRIPTION:
LOCATION:
SUMMARY:Memorial Day - All Schools and Offices Closed
END:VEVENT
BEGIN:VEVENT
DTSTAMP:20260419T211604Z
UID:141bb8ab-a809-4e63-b98b-ced6bff5b1b4
DTSTART;VALUE=DATE:20260601
DTEND;VALUE=DATE:20260603
DESCRIPTION:
LOCATION:
SUMMARY:Teacher Workdays
END:VEVENT
BEGIN:VEVENT
DTSTAMP:20260419T211604Z
UID:d1665480-eb79-4c1b-87c7-288ed9b677b4
DTSTART;VALUE=DATE:20260619
DTEND;VALUE=DATE:20260620
DESCRIPTION:
LOCATION:
SUMMARY:Juneteenth - Schools and Offices Closed
END:VEVENT
END:VCALENDAR
