BEGIN:VCALENDAR
VERSION:2.0
PRODID:icalendar-ruby
CALSCALE:GREGORIAN
BEGIN:VTIMEZONE
TZID:America/Chicago
BEGIN:DAYLIGHT
DTSTART:20260308T030000
TZOFFSETFROM:-0600
TZOFFSETTO:-0500
RRULE:FREQ=YEARLY;BYDAY=2SU;BYMONTH=3
TZNAME:CDT
END:DAYLIGHT
BEGIN:STANDARD
DTSTART:20261101T010000
TZOFFSETFROM:-0500
TZOFFSETTO:-0600
RRULE:FREQ=YEARLY;BYDAY=1SU;BYMONTH=11
TZNAME:CST
END:STANDARD
END:VTIMEZONE
BEGIN:VEVENT
DTSTAMP:20260421T104618Z
UID:8669a48c-bcda-4c3d-a7c1-deb09b74f2a4
DTSTART:20260421T173000
DTEND:20260421T183000
DESCRIPTION:@ El Dorado Middle School End time: 6:30pm
LOCATION:El Dorado Middle School
SUMMARY:EMS Pride/Site Council Meeting
END:VEVENT
BEGIN:VEVENT
DTSTAMP:20260421T104618Z
UID:054f375a-0fb8-4ae4-9ec5-368e07e0d130
DTSTART:20260421T180000
DTEND:20260421T190000
DESCRIPTION:@ EMS Gym 1 End time: 7:00pm
LOCATION:EMS Gym 1
SUMMARY:EMS Fifth Grade Parent Meeting
END:VEVENT
BEGIN:VEVENT
DTSTAMP:20260421T104618Z
UID:42143acd-0249-4aaa-9299-f03394a059a1
DTSTART;VALUE=DATE:20260422
DTEND;VALUE=DATE:20260423
DESCRIPTION:@ El Dorado Public Schools 
LOCATION:El Dorado Public Schools
SUMMARY:Administrative Professionals Day
END:VEVENT
BEGIN:VEVENT
DTSTAMP:20260421T104618Z
UID:291f7892-8428-4405-a2e3-df12d7768bc7
DTSTART;VALUE=DATE:20260422
DTEND;VALUE=DATE:20260423
DESCRIPTION:@ El Dorado Public Schools 
LOCATION:El Dorado Public Schools
SUMMARY:Earth Day
END:VEVENT
BEGIN:VEVENT
DTSTAMP:20260421T104618Z
UID:0112f476-e644-4ffd-bda3-4c267a2c47bd
DTSTART:20260423T153000
DTEND:20260423T163000
DESCRIPTION:El Dorado Middle School vs Haysville Middle School@ El Dorado M
 ain Street Tennis Courts 
LOCATION:El Dorado Main Street Tennis Courts
SUMMARY:Tennis:Boys 7/8 vs Haysville Middle School
END:VEVENT
BEGIN:VEVENT
DTSTAMP:20260421T104618Z
UID:c0a6b5b8-b3a8-42d8-8b65-fac5b48ec7c3
DTSTART:20260423T163000
DTEND:20260423T190000
DESCRIPTION:Haysville Middle School vs El Dorado Middle School@ Haysville D
 istrict Stadium 
LOCATION:Haysville District Stadium
SUMMARY:Soccer 7/8 vs El Dorado Middle School
END:VEVENT
BEGIN:VEVENT
DTSTAMP:20260421T104618Z
UID:a39d6e68-a665-4922-b9db-62b7a285cee2
DTSTART:20260424T090000
DTEND:20260424T100000
DESCRIPTION:Winfield Middle School vs El Dorado Middle School@ Winfield - T
 .H. Vaughn Tennis Center 
LOCATION:Winfield - T.H. Vaughn Tennis Center
SUMMARY:Tennis:Boys 7/8 vs El Dorado Middle School
END:VEVENT
BEGIN:VEVENT
DTSTAMP:20260421T104618Z
UID:eaaeb82d-770e-4b76-8dc9-0b36e9950ab5
DTSTART;VALUE=DATE:20260427
DTEND;VALUE=DATE:20260428
DESCRIPTION:@ El Dorado Public Schools 
LOCATION:El Dorado Public Schools
SUMMARY:No School
END:VEVENT
BEGIN:VEVENT
DTSTAMP:20260421T104618Z
UID:b5258ede-c238-4c70-8991-7f9def349bae
DTSTART;VALUE=DATE:20260427
DTEND;VALUE=DATE:20260428
DESCRIPTION:@ El Dorado Public Schools 
LOCATION:El Dorado Public Schools
SUMMARY:Staff Professional Development
END:VEVENT
BEGIN:VEVENT
DTSTAMP:20260421T104618Z
UID:ecea5368-8ef8-4331-9990-8517eaca58a0
DTSTART:20260427T170000
DTEND:20260427T180000
DESCRIPTION:El Dorado Middle School vs Prairie Hills Middle School@ El Dora
 do - BG Products Veterens Sports Complex 
LOCATION:El Dorado - BG Products Veterens Sports Complex
SUMMARY:Soccer 7/8 vs Prairie Hills Middle School
END:VEVENT
BEGIN:VEVENT
DTSTAMP:20260421T104618Z
UID:95fe8db0-7498-475f-9bc9-665414cdfa22
DTSTART:20260428T153000
DTEND:20260428T200000
DESCRIPTION:Circle Middle School vs Andover Central Middle School\,Arkansas
  City Middle School\,Augusta Middle School\,Eisenhower Middle School\,El D
 orado Middle School\,Haysville Middle School\,Magdalen Catholic\,McPherson
  Middle\,Prairie Hills Middle School\,Wellington Middle School\,Winfield M
 iddle School@ Circle High School 
LOCATION:Circle High School
SUMMARY:Track 7/8 vs Andover Central Middle School\,Arkansas City Middle Sc
 hool\,Augusta Middle School\,Eisenhower Middle School\,El Dorado Middle Sc
 hool\,Haysville Middle School\,Magdalen Catholic\,McPherson Middle\,Prairi
 e Hills Middle School\,Wellington Middle School\,Winfield Middle School
END:VEVENT
BEGIN:VEVENT
DTSTAMP:20260421T104618Z
UID:27cfa3dc-1cb7-4d97-96f7-e141584fc55f
DTSTART:20260430T144500
DTEND:20260430T154500
DESCRIPTION:Mulvane Middle School vs Augusta Middle School\,Circle Middle S
 chool\,Clearwater Middle School\,El Dorado Middle School\,Haysville West M
 iddle School\,Rose Hill Middle School\,Wellington Middle School@ Mulvane M
 iddle School 
LOCATION:Mulvane Middle School
SUMMARY:Track 7/8 vs Augusta Middle School\,Circle Middle School\,Clearwate
 r Middle School\,El Dorado Middle School\,Haysville West Middle School\,Ro
 se Hill Middle School\,Wellington Middle School
END:VEVENT
BEGIN:VEVENT
DTSTAMP:20260421T104618Z
UID:85505b9c-2d45-457d-8793-07dfdba7cab9
DTSTART:20260430T153000
DTEND:20260430T163000
DESCRIPTION:McPherson Middle vs El Dorado Middle School@ McPherson - Wall P
 ark 
LOCATION:McPherson - Wall Park
SUMMARY:Tennis:Boys 7/8 vs El Dorado Middle School
END:VEVENT
BEGIN:VEVENT
DTSTAMP:20260421T104618Z
UID:feeb2d75-5aa4-4f88-a520-234c21b96f0b
DTSTART:20260430T170000
DTEND:20260430T180000
DESCRIPTION:El Dorado Middle School vs Haysville West Middle School@ El Dor
 ado - BG Products Veterens Sports Complex 
LOCATION:El Dorado - BG Products Veterens Sports Complex
SUMMARY:Soccer 7/8 vs Haysville West Middle School
END:VEVENT
BEGIN:VEVENT
DTSTAMP:20260421T104618Z
UID:2a3ec6fb-fcd9-44e9-9a2c-abd0723b4324
DTSTART;VALUE=DATE:20260501
DTEND;VALUE=DATE:20260502
DESCRIPTION:@ El Dorado Public Schools 
LOCATION:El Dorado Public Schools
SUMMARY:School Lunch Hero Day
END:VEVENT
BEGIN:VEVENT
DTSTAMP:20260421T104618Z
UID:a1d50fee-e93a-4b2c-bdc7-fd6d75d379a9
DTSTART;VALUE=DATE:20260501
DTEND;VALUE=DATE:20260502
DESCRIPTION:@ El Dorado Public Schools 
LOCATION:El Dorado Public Schools
SUMMARY:School Principals' Day
END:VEVENT
BEGIN:VEVENT
DTSTAMP:20260421T104618Z
UID:f3d36a6a-9861-4ea8-81fe-26dff91e3d95
DTSTART;VALUE=DATE:20260504
DTEND;VALUE=DATE:20260505
DESCRIPTION:@ El Dorado Public Schools 
LOCATION:El Dorado Public Schools
SUMMARY:Teacher Appreciation Week
END:VEVENT
BEGIN:VEVENT
DTSTAMP:20260421T104618Z
UID:0bcb5846-eeea-4bb7-8dc9-49cc4f683bc4
DTSTART;VALUE=DATE:20260504
DTEND;VALUE=DATE:20260505
DESCRIPTION:Maize South Middle School vs El Dorado Middle School@ Maize Sou
 th Middle School 
LOCATION:Maize South Middle School
SUMMARY:Track 7/8 vs El Dorado Middle School
END:VEVENT
BEGIN:VEVENT
DTSTAMP:20260421T104618Z
UID:0d046240-c12a-4b2b-b22c-2bbbb3c9c5f0
DTSTART:20260504T090000
DTEND:20260504T160000
DESCRIPTION:Wellington Middle School vs McPherson Middle\,Arkansas City Mid
 dle School\,El Dorado Middle School\,Haysville Middle School\,Haysville We
 st Middle School\,Prairie Hills Middle School\,Winfield Middle School@ Wel
 lington Middle School 
LOCATION:Wellington Middle School
SUMMARY:Tennis:Boys 7/8 vs McPherson Middle\,Arkansas City Middle School\,E
 l Dorado Middle School\,Haysville Middle School\,Haysville West Middle Sch
 ool\,Prairie Hills Middle School\,Winfield Middle School
END:VEVENT
BEGIN:VEVENT
DTSTAMP:20260421T104618Z
UID:59af1a66-fe60-48dc-9360-509c5e662d53
DTSTART;VALUE=DATE:20260505
DTEND;VALUE=DATE:20260506
DESCRIPTION:@ El Dorado Public Schools 
LOCATION:El Dorado Public Schools
SUMMARY:Teacher's Day
END:VEVENT
BEGIN:VEVENT
DTSTAMP:20260421T104618Z
UID:8d203087-8cfe-4893-92b4-d6b844fd1785
DTSTART;VALUE=DATE:20260506
DTEND;VALUE=DATE:20260507
DESCRIPTION:@ El Dorado Public Schools 
LOCATION:El Dorado Public Schools
SUMMARY:National School Nurse Day
END:VEVENT
BEGIN:VEVENT
DTSTAMP:20260421T104618Z
UID:563e14f4-1178-4a27-b9ba-bc2f40ecb52b
DTSTART:20260506T190000
DTEND:20260506T200000
DESCRIPTION:@ El Dorado High School - Auditorium 
LOCATION:El Dorado High School - Auditorium
SUMMARY:EHS/EMS City-Wide Orchestra Concert
END:VEVENT
BEGIN:VEVENT
DTSTAMP:20260421T104618Z
UID:b95bdd24-80e9-4b47-9463-a70ba0af86c7
DTSTART:20260507T153000
DTEND:20260507T163000
DESCRIPTION:Maize vs Andover Middle School\,Derby Middle School\,Derby Nort
 h Middle School\,El Dorado Middle School\,Maize South Middle School\,Rose 
 Hill Middle School\,Winfield Middle@ Maize High School 
LOCATION:Maize High School
SUMMARY:Track 7/8 vs Andover Middle School\,Derby Middle School\,Derby Nort
 h Middle School\,El Dorado Middle School\,Maize South Middle School\,Rose 
 Hill Middle School\,Winfield Middle
END:VEVENT
BEGIN:VEVENT
DTSTAMP:20260421T104618Z
UID:be25a036-7c67-40bc-86fe-1a0a4266a4fd
DTSTART:20260507T160000
DTEND:20260507T170000
DESCRIPTION:Prairie Hills Middle School vs El Dorado Middle School@ Prairie
  Hills Middle School 
LOCATION:Prairie Hills Middle School
SUMMARY:Soccer 7/8 vs El Dorado Middle School
END:VEVENT
BEGIN:VEVENT
DTSTAMP:20260421T104618Z
UID:266faaff-8b85-48f3-99b8-7a8df0783d4d
DTSTART:20260508T200000
DTEND:20260508T220000
DESCRIPTION:@ Activity Center End time: 10:00pm
LOCATION:Activity Center
SUMMARY:EMS PRIDE Dance
END:VEVENT
BEGIN:VEVENT
DTSTAMP:20260421T104618Z
UID:cab03011-ce69-4da3-bea4-c622d4106468
DTSTART:20260509T190000
DTEND:20260509T200000
DESCRIPTION:@ USD 490 Performing Arts Center Choir Concert
LOCATION:USD 490 Performing Arts Center
SUMMARY:Wildcat Cabaret EHS/EMS
END:VEVENT
BEGIN:VEVENT
DTSTAMP:20260421T104618Z
UID:91a5c8a8-7231-41c7-a160-9d2d0248c4f3
DTSTART:20260511T180000
DTEND:20260511T190000
DESCRIPTION:@ USD 490 Administration Office 
LOCATION:USD 490 Administration Office
SUMMARY:BOE Meeting
END:VEVENT
BEGIN:VEVENT
DTSTAMP:20260421T104618Z
UID:f3465079-4633-4265-8e39-4dcc5308ec11
DTSTART:20260511T190000
DTEND:20260511T200000
DESCRIPTION:@ El Dorado High School - Auditorium 
LOCATION:El Dorado High School - Auditorium
SUMMARY:EMS/EHS Band Regalement
END:VEVENT
BEGIN:VEVENT
DTSTAMP:20260421T104618Z
UID:3d407169-a902-4d1e-94c8-928ae21c3c28
DTSTART;VALUE=DATE:20260521
DTEND;VALUE=DATE:20260522
DESCRIPTION:@ El Dorado Public Schools 
LOCATION:El Dorado Public Schools
SUMMARY:Last day of classes
END:VEVENT
BEGIN:VEVENT
DTSTAMP:20260421T104618Z
UID:d4fdd3ff-62a5-4673-8b39-9ede425620b0
DTSTART:20260521T090000
DTEND:20260521T100000
DESCRIPTION:@ El Dorado Middle School End time: 10:00am
LOCATION:El Dorado Middle School
SUMMARY:EMS Awards Assembly
END:VEVENT
BEGIN:VEVENT
DTSTAMP:20260421T104618Z
UID:43e7a8bd-4c9c-4184-b18d-3cf00238daf5
DTSTART;VALUE=DATE:20260522
DTEND;VALUE=DATE:20260523
DESCRIPTION:@ El Dorado Public Schools AM Staff Development/PM Staff Workda
 y
LOCATION:El Dorado Public Schools
SUMMARY:Staff Professional Development/Workday
END:VEVENT
BEGIN:VEVENT
DTSTAMP:20260421T104618Z
UID:c3e417ef-1421-4528-a4a8-8b2b9585b28f
DTSTART;VALUE=DATE:20260525
DTEND;VALUE=DATE:20260526
DESCRIPTION:@ El Dorado Public Schools Memorial Day
LOCATION:El Dorado Public Schools
SUMMARY:No School
END:VEVENT
BEGIN:VEVENT
DTSTAMP:20260421T104618Z
UID:dd9f26b5-3c1c-49f9-8ee6-dc7de13c9fcf
DTSTART;VALUE=DATE:20260526
DTEND;VALUE=DATE:20260527
DESCRIPTION:@ El Dorado Public Schools 
LOCATION:El Dorado Public Schools
SUMMARY:Staff Workday
END:VEVENT
BEGIN:VEVENT
DTSTAMP:20260421T104618Z
UID:f7474eac-3629-4d67-b810-4753be83dd30
DTSTART;VALUE=DATE:20260601
DTEND;VALUE=DATE:20260602
DESCRIPTION:@ El Dorado Public Schools 
LOCATION:El Dorado Public Schools
SUMMARY:Summer Programs Begin
END:VEVENT
BEGIN:VEVENT
DTSTAMP:20260421T104618Z
UID:8593184c-0eda-4c37-93e7-50b7e243dcb3
DTSTART:20260608T180000
DTEND:20260608T190000
DESCRIPTION:@ USD 490 Administration Office 
LOCATION:USD 490 Administration Office
SUMMARY:BOE Meeting
END:VEVENT
BEGIN:VEVENT
DTSTAMP:20260421T104618Z
UID:ae107bb4-8b62-4615-9904-2a01816cd451
DTSTART;VALUE=DATE:20260625
DTEND;VALUE=DATE:20260626
DESCRIPTION:@ El Dorado Public Schools 
LOCATION:El Dorado Public Schools
SUMMARY:Summer Programs End
END:VEVENT
BEGIN:VEVENT
DTSTAMP:20260421T104618Z
UID:1465391c-5818-4ab6-9de5-3d016722841f
DTSTART:20260629T180000
DTEND:20260629T190000
DESCRIPTION:@ USD 490 Administration Office 
LOCATION:USD 490 Administration Office
SUMMARY:BOE Meeting
END:VEVENT
END:VCALENDAR
