BEGIN:VCALENDAR
VERSION:2.0
PRODID:icalendar-ruby
CALSCALE:GREGORIAN
BEGIN:VTIMEZONE
TZID:America/Los_Angeles
BEGIN:DAYLIGHT
DTSTART:20260308T030000
TZOFFSETFROM:-0800
TZOFFSETTO:-0700
RRULE:FREQ=YEARLY;BYDAY=2SU;BYMONTH=3
TZNAME:PDT
END:DAYLIGHT
BEGIN:STANDARD
DTSTART:20261101T010000
TZOFFSETFROM:-0700
TZOFFSETTO:-0800
RRULE:FREQ=YEARLY;BYDAY=1SU;BYMONTH=11
TZNAME:PST
END:STANDARD
END:VTIMEZONE
BEGIN:VEVENT
DTSTAMP:20260425T114631Z
UID:7ab26cfd-fca3-43da-956c-69e1f103cc0a
DTSTART:20260501T131500
DTEND:20260501T151500
DESCRIPTION:
LOCATION:
SUMMARY:Early Dismissal
END:VEVENT
BEGIN:VEVENT
DTSTAMP:20260425T114631Z
UID:e3a2f3fd-66ee-4e4d-8ade-e4ae7c498ae7
DTSTART:20260508T131500
DTEND:20260508T151500
DESCRIPTION:
LOCATION:
SUMMARY:Early Dismissal
END:VEVENT
BEGIN:VEVENT
DTSTAMP:20260425T114631Z
UID:cb51914b-45c5-4132-8d12-50fcc99d96fc
DTSTART:20260515T131500
DTEND:20260515T151500
DESCRIPTION:
LOCATION:
SUMMARY:Early Dismissal
END:VEVENT
BEGIN:VEVENT
DTSTAMP:20260425T114631Z
UID:8949364a-2d19-4a55-904c-8b3684d30a3d
DTSTART:20260522T080000
DTEND:20260522T153000
DESCRIPTION:
LOCATION:
SUMMARY:Possible weather make up day -No school
END:VEVENT
BEGIN:VEVENT
DTSTAMP:20260425T114631Z
UID:bc4f4525-b971-43ff-a10c-cbd81aa7688b
DTSTART:20260525T080000
DTEND:20260525T153000
DESCRIPTION:
LOCATION:
SUMMARY:Memorial Day No School
END:VEVENT
BEGIN:VEVENT
DTSTAMP:20260425T114631Z
UID:5babe693-7bfc-487a-9fb3-c66845c3366e
DTSTART:20260529T131500
DTEND:20260529T151500
DESCRIPTION:
LOCATION:
SUMMARY:Early Dismissal
END:VEVENT
BEGIN:VEVENT
DTSTAMP:20260425T114631Z
UID:bc604855-9189-42eb-8a94-3065b164c8d6
DTSTART:20260605T131500
DTEND:20260605T151500
DESCRIPTION:
LOCATION:
SUMMARY:Early Dismissal
END:VEVENT
BEGIN:VEVENT
DTSTAMP:20260425T114631Z
UID:f3dbc5b5-c386-450a-bcb3-c3b588cff080
DTSTART;VALUE=DATE:20260612
DTEND;VALUE=DATE:20260613
DESCRIPTION:
LOCATION:
SUMMARY:Hoquiam High School Senior Graduation
END:VEVENT
BEGIN:VEVENT
DTSTAMP:20260425T114631Z
UID:a3e1f1f3-8ed3-4a50-8628-d817994ba95a
DTSTART:20260612T082500
DTEND:20260612T145000
DESCRIPTION:
LOCATION:
SUMMARY:Full day of school for Students
END:VEVENT
BEGIN:VEVENT
DTSTAMP:20260425T114631Z
UID:28ca7762-d196-45fc-b6de-22b46990e5fe
DTSTART:20260612T090000
DTEND:20260612T110000
DESCRIPTION:
LOCATION:
SUMMARY:Vehicle Day
END:VEVENT
BEGIN:VEVENT
DTSTAMP:20260425T114631Z
UID:beb4c726-d109-4118-8200-f0f1dfa114a5
DTSTART:20260615T131500
DTEND:20260615T153000
DESCRIPTION:
LOCATION:
SUMMARY:Early release dismissal at 1:15
END:VEVENT
BEGIN:VEVENT
DTSTAMP:20260425T114631Z
UID:dc1a90cf-0b81-4ae2-a53c-faa02cb599a1
DTSTART:20260616T112000
DTEND:20260616T153000
DESCRIPTION:
LOCATION:
SUMMARY:Half day dismissal at 11:20 - Last day of school
END:VEVENT
END:VCALENDAR
