BEGIN:VCALENDAR
VERSION:2.0
PRODID:icalendar-ruby
CALSCALE:GREGORIAN
BEGIN:VTIMEZONE
TZID:America/Los_Angeles
BEGIN:DAYLIGHT
DTSTART:20260308T030000
TZOFFSETFROM:-0800
TZOFFSETTO:-0700
RRULE:FREQ=YEARLY;BYDAY=2SU;BYMONTH=3
TZNAME:PDT
END:DAYLIGHT
BEGIN:STANDARD
DTSTART:20261101T010000
TZOFFSETFROM:-0700
TZOFFSETTO:-0800
RRULE:FREQ=YEARLY;BYDAY=1SU;BYMONTH=11
TZNAME:PST
END:STANDARD
END:VTIMEZONE
BEGIN:VEVENT
DTSTAMP:20260421T212757Z
UID:6f477ec3-5292-420e-8566-ae180bcae947
DTSTART:20260424T080000
DTEND:20260424T090000
DESCRIPTION:
LOCATION:
SUMMARY:Early Release--1:15 pm
END:VEVENT
BEGIN:VEVENT
DTSTAMP:20260421T212757Z
UID:a27e4449-1be3-4078-9664-904a059ba942
DTSTART:20260501T080000
DTEND:20260501T090000
DESCRIPTION:
LOCATION:
SUMMARY:Early Release--1:15 pm
END:VEVENT
BEGIN:VEVENT
DTSTAMP:20260421T212757Z
UID:760aa061-f34b-41e8-9723-906643c11faa
DTSTART:20260508T080000
DTEND:20260508T090000
DESCRIPTION:
LOCATION:
SUMMARY:Early Release--1:15 pm
END:VEVENT
BEGIN:VEVENT
DTSTAMP:20260421T212757Z
UID:d6a2bfe2-ad74-4611-be70-3f27087195e3
DTSTART:20260515T080000
DTEND:20260515T090000
DESCRIPTION:
LOCATION:
SUMMARY:Early Release--1:15 pm
END:VEVENT
BEGIN:VEVENT
DTSTAMP:20260421T212757Z
UID:5bd824e2-974d-42fa-aca9-1deffbae876e
DTSTART:20260522T080000
DTEND:20260522T090000
DESCRIPTION:<p>If the district has not been shut down due to inclement weat
 her\, this is a day off for Students and Staff. If the district has had to
  shut down\, then this will be a FULL day of school\, with students being 
 dismissed at 2:50 pm.</p>
LOCATION:
SUMMARY:WEATHER MAKE UP DAY (SEE DETAILS)
END:VEVENT
BEGIN:VEVENT
DTSTAMP:20260421T212757Z
UID:03392320-ea60-4dc5-8294-756abc982d4d
DTSTART:20260525T080000
DTEND:20260525T090000
DESCRIPTION:
LOCATION:
SUMMARY:NO SCHOOL--MEMORIAL DAY
END:VEVENT
BEGIN:VEVENT
DTSTAMP:20260421T212757Z
UID:999bb57f-4ce4-4c20-aa2b-a1b2de0a531e
DTSTART:20260529T080000
DTEND:20260529T090000
DESCRIPTION:
LOCATION:
SUMMARY:Early Release--1:15 pm
END:VEVENT
BEGIN:VEVENT
DTSTAMP:20260421T212757Z
UID:bef205f7-faa7-4582-a226-88c8d78091ef
DTSTART:20260529T080000
DTEND:20260529T090000
DESCRIPTION:
LOCATION:
SUMMARY:Early Release--1:15 pm
END:VEVENT
BEGIN:VEVENT
DTSTAMP:20260421T212757Z
UID:e547d892-a084-4883-a1aa-36f68041e012
DTSTART:20260605T080000
DTEND:20260605T090000
DESCRIPTION:
LOCATION:
SUMMARY:Early Release--1:15 pm
END:VEVENT
BEGIN:VEVENT
DTSTAMP:20260421T212757Z
UID:26e69821-0f85-4cc1-9fcb-b6df816c2baa
DTSTART:20260612T080000
DTEND:20260612T090000
DESCRIPTION:
LOCATION:
SUMMARY:Early Release--1:15 pm
END:VEVENT
BEGIN:VEVENT
DTSTAMP:20260421T212757Z
UID:150ffbaa-1a48-4d35-b27a-ed820a456057
DTSTART:20260615T080000
DTEND:20260615T090000
DESCRIPTION:
LOCATION:
SUMMARY:Early Release--1:15 pm
END:VEVENT
BEGIN:VEVENT
DTSTAMP:20260421T212757Z
UID:7004e3ed-b41a-4f16-aed7-92195bed1afa
DTSTART:20260616T080000
DTEND:20260616T090000
DESCRIPTION:
LOCATION:
SUMMARY:Early Release--11:20: LAST DAY OF SCHOOL
END:VEVENT
BEGIN:VEVENT
DTSTAMP:20260421T212757Z
UID:c630d44f-e99b-4fc5-bbc6-ede9fe0b9983
DTSTART:20260617T080000
DTEND:20260618T090000
DESCRIPTION:
LOCATION:
SUMMARY:HMS Office Open 8:00-3:00
END:VEVENT
BEGIN:VEVENT
DTSTAMP:20260421T212757Z
UID:06be61a5-c5b9-4f7e-8210-ffdfe079b02d
DTSTART:20260619T080000
DTEND:20260619T090000
DESCRIPTION:
LOCATION:
SUMMARY:HSD CLOSED--JUNETEENTH HOLIDAY
END:VEVENT
BEGIN:VEVENT
DTSTAMP:20260421T212757Z
UID:3860ac56-b08b-43ea-9ade-a2f106e81012
DTSTART:20260622T080000
DTEND:20260626T090000
DESCRIPTION:
LOCATION:
SUMMARY:HMS Office Open 8:00-3:00
END:VEVENT
BEGIN:VEVENT
DTSTAMP:20260421T212757Z
UID:d8906bed-1014-4649-a92b-f01530d9af3b
DTSTART:20260629T080000
DTEND:20260629T090000
DESCRIPTION:
LOCATION:
SUMMARY:HMS Office Open 8:00-3:00
END:VEVENT
BEGIN:VEVENT
DTSTAMP:20260421T212757Z
UID:7db41efe-360a-4318-a425-bc81d9bea3c8
DTSTART:20260630T080000
DTEND:20260630T090000
DESCRIPTION:
LOCATION:
SUMMARY:HMS Office Open 8:00-3:00
END:VEVENT
BEGIN:VEVENT
DTSTAMP:20260421T212757Z
UID:07fa5d4a-79cd-49d4-92a2-038cc1449bd2
DTSTART:20260701T080000
DTEND:20260701T090000
DESCRIPTION:
LOCATION:
SUMMARY:HMS OFFICE CLOSED
END:VEVENT
BEGIN:VEVENT
DTSTAMP:20260421T212757Z
UID:35b612ea-59ed-4bba-95d0-b56d2494f3c8
DTSTART:20260702T080000
DTEND:20260702T090000
DESCRIPTION:
LOCATION:
SUMMARY:HMS OFFICE CLOSED
END:VEVENT
BEGIN:VEVENT
DTSTAMP:20260421T212757Z
UID:836ef4bc-f9bf-4d40-877d-3eebec57a319
DTSTART:20260703T080000
DTEND:20260703T090000
DESCRIPTION:
LOCATION:
SUMMARY:HMS OFFICE CLOSED
END:VEVENT
BEGIN:VEVENT
DTSTAMP:20260421T212757Z
UID:5564f3ef-3ef6-4b88-88ec-791e12d9edd9
DTSTART:20260706T080000
DTEND:20260710T090000
DESCRIPTION:
LOCATION:
SUMMARY:HMS OFFICE CLOSED
END:VEVENT
BEGIN:VEVENT
DTSTAMP:20260421T212757Z
UID:ad430454-fb4f-43bb-84fb-9a0a800e999d
DTSTART:20260713T080000
DTEND:20260713T090000
DESCRIPTION:
LOCATION:
SUMMARY:HMS OFFICE CLOSED
END:VEVENT
BEGIN:VEVENT
DTSTAMP:20260421T212757Z
UID:a2a8f8e7-639c-4c78-a109-383ba8736bc7
DTSTART:20260714T080000
DTEND:20260717T090000
DESCRIPTION:
LOCATION:
SUMMARY:HMS OFFICE CLOSED
END:VEVENT
BEGIN:VEVENT
DTSTAMP:20260421T212757Z
UID:4798c6a7-93c2-45e0-8645-d948dfec972c
DTSTART:20260720T080000
DTEND:20260724T090000
DESCRIPTION:
LOCATION:
SUMMARY:HMS OFFICE CLOSED
END:VEVENT
BEGIN:VEVENT
DTSTAMP:20260421T212757Z
UID:c9aeb29f-093f-4b60-a713-e3a29a5eb90c
DTSTART:20260727T080000
DTEND:20260731T090000
DESCRIPTION:
LOCATION:
SUMMARY:HMS OFFICE CLOSED
END:VEVENT
BEGIN:VEVENT
DTSTAMP:20260421T212757Z
UID:abf184ed-9044-4128-83c8-d5caa918f79e
DTSTART:20260908T073000
DTEND:20260908T130000
DESCRIPTION:
LOCATION:
SUMMARY:Picture Day
END:VEVENT
BEGIN:VEVENT
DTSTAMP:20260421T212757Z
UID:fe6b3275-3365-4a7f-95e8-7bd9c448794a
DTSTART:20261013T080000
DTEND:20261013T120000
DESCRIPTION:
LOCATION:
SUMMARY:Picture Retakes
END:VEVENT
END:VCALENDAR
