BEGIN:VCALENDAR
VERSION:2.0
PRODID:icalendar-ruby
CALSCALE:GREGORIAN
BEGIN:VTIMEZONE
TZID:America/Juneau
BEGIN:DAYLIGHT
DTSTART:20260308T030000
TZOFFSETFROM:-0900
TZOFFSETTO:-0800
RRULE:FREQ=YEARLY;BYDAY=2SU;BYMONTH=3
TZNAME:AKDT
END:DAYLIGHT
BEGIN:STANDARD
DTSTART:20261101T010000
TZOFFSETFROM:-0800
TZOFFSETTO:-0900
RRULE:FREQ=YEARLY;BYDAY=1SU;BYMONTH=11
TZNAME:AKST
END:STANDARD
END:VTIMEZONE
BEGIN:VEVENT
DTSTAMP:20260420T012356Z
UID:37330c52-7b65-4fcd-aca8-a80ca6e054c5
DTSTART:20260515T080000
DTEND:20260515T090000
DESCRIPTION:
LOCATION:
SUMMARY:Angoon HS Graduation
END:VEVENT
BEGIN:VEVENT
DTSTAMP:20260420T012356Z
UID:f786da75-5020-4650-ba36-d759fa8190b1
DTSTART:20260517T080000
DTEND:20260517T090000
DESCRIPTION:
LOCATION:
SUMMARY:Gustavus HS Graduation
END:VEVENT
BEGIN:VEVENT
DTSTAMP:20260420T012356Z
UID:33dad71c-ad5d-471d-81cb-6c5653000c2d
DTSTART;VALUE=DATE:20260521
DTEND;VALUE=DATE:20260522
DESCRIPTION:
LOCATION:
SUMMARY:4the Quarter Ends
END:VEVENT
BEGIN:VEVENT
DTSTAMP:20260420T012356Z
UID:60e18aa7-66bb-4fef-87da-83ba04b92a5c
DTSTART;VALUE=DATE:20260521
DTEND;VALUE=DATE:20260522
DESCRIPTION:
LOCATION:
SUMMARY:Last Day of School
END:VEVENT
BEGIN:VEVENT
DTSTAMP:20260420T012356Z
UID:cfbf44ef-f718-4ec7-8fe8-88be3758b3b1
DTSTART;VALUE=DATE:20260522
DTEND;VALUE=DATE:20260523
DESCRIPTION:
LOCATION:
SUMMARY:Teacher Work Day
END:VEVENT
BEGIN:VEVENT
DTSTAMP:20260420T012356Z
UID:b6edc530-b62b-40fe-82a8-6d799b27e10c
DTSTART;VALUE=DATE:20260525
DTEND;VALUE=DATE:20260526
DESCRIPTION:
LOCATION:
SUMMARY:Holiday
END:VEVENT
END:VCALENDAR
