BEGIN:VCALENDAR
VERSION:2.0
PRODID:icalendar-ruby
CALSCALE:GREGORIAN
BEGIN:VTIMEZONE
TZID:America/Chicago
BEGIN:DAYLIGHT
DTSTART:20260308T030000
TZOFFSETFROM:-0600
TZOFFSETTO:-0500
RRULE:FREQ=YEARLY;BYDAY=2SU;BYMONTH=3
TZNAME:CDT
END:DAYLIGHT
BEGIN:STANDARD
DTSTART:20261101T010000
TZOFFSETFROM:-0500
TZOFFSETTO:-0600
RRULE:FREQ=YEARLY;BYDAY=1SU;BYMONTH=11
TZNAME:CST
END:STANDARD
END:VTIMEZONE
BEGIN:VEVENT
DTSTAMP:20260424T094509Z
UID:a9efbdd6-c2e9-4793-a537-cc4c2dd81bd9
DTSTART;VALUE=DATE:20260424
DTEND;VALUE=DATE:20260425
DESCRIPTION:
LOCATION:
SUMMARY:Day 2 Regional Academic UIL 
END:VEVENT
BEGIN:VEVENT
DTSTAMP:20260424T094509Z
UID:527db81a-3983-490c-a9f8-a80e0f2e0e0b
DTSTART;VALUE=DATE:20260428
DTEND;VALUE=DATE:20260429
DESCRIPTION:
LOCATION:
SUMMARY:School Bus Driver Appreciation Day
END:VEVENT
BEGIN:VEVENT
DTSTAMP:20260424T094509Z
UID:190720ea-9d0c-43c6-b988-1a8b8947b284
DTSTART;VALUE=DATE:20260501
DTEND;VALUE=DATE:20260503
DESCRIPTION:
LOCATION:
SUMMARY:FFA TTU State Contest
END:VEVENT
BEGIN:VEVENT
DTSTAMP:20260424T094509Z
UID:b809c900-61b7-4ec2-8084-fd9d5dab9d1f
DTSTART;VALUE=DATE:20260501
DTEND;VALUE=DATE:20260503
DESCRIPTION:
LOCATION:
SUMMARY:HS Regional Track Meet @ Springtown
END:VEVENT
BEGIN:VEVENT
DTSTAMP:20260424T094509Z
UID:565767e8-ee2a-41b4-9a6e-e14390e65c9a
DTSTART;VALUE=DATE:20260501
DTEND;VALUE=DATE:20260502
DESCRIPTION:
LOCATION:
SUMMARY:JH/HS Kona Ice Day
END:VEVENT
BEGIN:VEVENT
DTSTAMP:20260424T094509Z
UID:a8f1ad46-c449-464d-b588-c3294deb7e7f
DTSTART;VALUE=DATE:20260501
DTEND;VALUE=DATE:20260502
DESCRIPTION:
LOCATION:
SUMMARY:School Lunch Hero Day
END:VEVENT
BEGIN:VEVENT
DTSTAMP:20260424T094509Z
UID:b4b4bd8a-5c06-4577-8291-98f0fded4f61
DTSTART;VALUE=DATE:20260501
DTEND;VALUE=DATE:20260502
DESCRIPTION:
LOCATION:
SUMMARY:School Principal Appreciation Day
END:VEVENT
BEGIN:VEVENT
DTSTAMP:20260424T094509Z
UID:29b8b4de-684f-41e2-b4db-b99dc21ebe54
DTSTART;VALUE=DATE:20260502
DTEND;VALUE=DATE:20260503
DESCRIPTION:
LOCATION:
SUMMARY:FFA Texas State Ag Mech Show
END:VEVENT
BEGIN:VEVENT
DTSTAMP:20260424T094509Z
UID:bbae6864-9388-4285-81eb-bc8d823d6f32
DTSTART;VALUE=DATE:20260504
DTEND;VALUE=DATE:20260505
DESCRIPTION:
LOCATION:
SUMMARY:FFA Area Convention
END:VEVENT
BEGIN:VEVENT
DTSTAMP:20260424T094509Z
UID:dda0bbb7-3e3c-455b-bc16-6aa20e856571
DTSTART;VALUE=DATE:20260504
DTEND;VALUE=DATE:20260505
DESCRIPTION:
LOCATION:
SUMMARY:Teacher Appreciation Week
END:VEVENT
BEGIN:VEVENT
DTSTAMP:20260424T094509Z
UID:a3a2361a-78d7-42ad-a1aa-b56c34291c71
DTSTART;VALUE=DATE:20260506
DTEND;VALUE=DATE:20260507
DESCRIPTION:
LOCATION:
SUMMARY:School Nurse Day
END:VEVENT
BEGIN:VEVENT
DTSTAMP:20260424T094509Z
UID:9e68a833-1a97-4b7b-96e1-aa4d8e1dbbf9
DTSTART;VALUE=DATE:20260508
DTEND;VALUE=DATE:20260509
DESCRIPTION:
LOCATION:
SUMMARY:Elementary Field Day
END:VEVENT
BEGIN:VEVENT
DTSTAMP:20260424T094509Z
UID:7f1be4c5-e380-4f71-8593-40112e222da1
DTSTART;VALUE=DATE:20260511
DTEND;VALUE=DATE:20260512
DESCRIPTION:
LOCATION:
SUMMARY:Speech Language Pathologist Day (Actually May 18th)
END:VEVENT
BEGIN:VEVENT
DTSTAMP:20260424T094509Z
UID:c6dfcf24-079c-4a6b-a84a-7d2046da9d64
DTSTART;VALUE=DATE:20260513
DTEND;VALUE=DATE:20260514
DESCRIPTION:
LOCATION:
SUMMARY:Kindergarten Graduation/Senior Walk
END:VEVENT
BEGIN:VEVENT
DTSTAMP:20260424T094509Z
UID:99568508-544d-451b-85b2-a760053df070
DTSTART:20260513T180000
DTEND:20260513T190000
DESCRIPTION:
LOCATION:
SUMMARY:Board Meeting Elementary
END:VEVENT
BEGIN:VEVENT
DTSTAMP:20260424T094509Z
UID:3f3b292e-d845-45fb-be63-9bb3955b13bc
DTSTART;VALUE=DATE:20260514
DTEND;VALUE=DATE:20260515
DESCRIPTION:
LOCATION:
SUMMARY:Early Dismissal Day
END:VEVENT
BEGIN:VEVENT
DTSTAMP:20260424T094509Z
UID:48b03c7b-31fd-446d-b37a-3c738fd8d479
DTSTART;VALUE=DATE:20260514
DTEND;VALUE=DATE:20260515
DESCRIPTION:
LOCATION:
SUMMARY:Elementary Awards Day
END:VEVENT
BEGIN:VEVENT
DTSTAMP:20260424T094509Z
UID:3c0a51fb-db23-422b-b1b5-221cd4118002
DTSTART;VALUE=DATE:20260514
DTEND;VALUE=DATE:20260515
DESCRIPTION:
LOCATION:
SUMMARY:Last Day of School
END:VEVENT
BEGIN:VEVENT
DTSTAMP:20260424T094509Z
UID:e1b96718-9134-4b1a-8230-5471471a2173
DTSTART;VALUE=DATE:20260515
DTEND;VALUE=DATE:20260516
DESCRIPTION:
LOCATION:
SUMMARY:Graduation
END:VEVENT
BEGIN:VEVENT
DTSTAMP:20260424T094509Z
UID:65edb359-9aa4-4cd2-9e8c-b1a2ae8ea916
DTSTART:20260604T130000
DTEND:20260604T140000
DESCRIPTION:We have scheduled the summer safety and security meeting for Ju
 ne 4 at 1PM (Valley Mills Elementary). I will send an agenda as we get clo
 ser to the meeting date. Thank you.
LOCATION:Valley Mills Elementary School\, 102 Hwy 6\, Valley Mills\, TX 766
 89\, USA
SUMMARY:VMISD Summer Safety and Security Team Meeting
END:VEVENT
BEGIN:VEVENT
DTSTAMP:20260424T094509Z
UID:78a5d4e2-569e-4dad-a030-99dea1e5f917
DTSTART;VALUE=DATE:20260706
DTEND;VALUE=DATE:20260711
DESCRIPTION:
LOCATION:
SUMMARY:FFA State Convention
END:VEVENT
BEGIN:VEVENT
DTSTAMP:20260424T094509Z
UID:35cdb959-bb3c-407a-95ab-48c1639db42d
DTSTART;VALUE=DATE:20260828
DTEND;VALUE=DATE:20260829
DESCRIPTION:
LOCATION:
SUMMARY:Football vs. Wortham
END:VEVENT
BEGIN:VEVENT
DTSTAMP:20260424T094509Z
UID:ccdb7a18-96c2-436a-893b-053cdca449f5
DTSTART;VALUE=DATE:20260904
DTEND;VALUE=DATE:20260905
DESCRIPTION:
LOCATION:
SUMMARY:Football @ Holland 7:30PM
END:VEVENT
BEGIN:VEVENT
DTSTAMP:20260424T094509Z
UID:8b5b0e75-6334-45c8-8a67-15d7e6448f21
DTSTART;VALUE=DATE:20260911
DTEND;VALUE=DATE:20260912
DESCRIPTION:
LOCATION:
SUMMARY:Football @ Crawford 7:30PM
END:VEVENT
BEGIN:VEVENT
DTSTAMP:20260424T094509Z
UID:f4465ea7-a7b2-4ea3-93e8-3a679a8efdcf
DTSTART;VALUE=DATE:20260918
DTEND;VALUE=DATE:20260919
DESCRIPTION:
LOCATION:
SUMMARY:Football vs. Blooming Grove
END:VEVENT
BEGIN:VEVENT
DTSTAMP:20260424T094509Z
UID:721474d2-f3d9-443c-b842-108484e98ee1
DTSTART;VALUE=DATE:20260925
DTEND;VALUE=DATE:20260926
DESCRIPTION:
LOCATION:
SUMMARY:Football @ Riesel
END:VEVENT
BEGIN:VEVENT
DTSTAMP:20260424T094509Z
UID:43cee85c-bd31-4542-94b2-76caa0beabe7
DTSTART;VALUE=DATE:20261002
DTEND;VALUE=DATE:20261003
DESCRIPTION:
LOCATION:
SUMMARY:Homecoming vs. Itasca
END:VEVENT
BEGIN:VEVENT
DTSTAMP:20260424T094509Z
UID:c95c6a0b-8297-4c45-b904-ee86dbef71fe
DTSTART;VALUE=DATE:20261009
DTEND;VALUE=DATE:20261010
DESCRIPTION:
LOCATION:
SUMMARY:Football @ Bosqueville
END:VEVENT
BEGIN:VEVENT
DTSTAMP:20260424T094509Z
UID:993c97f8-b1af-426b-998e-675d370a84d1
DTSTART;VALUE=DATE:20261016
DTEND;VALUE=DATE:20261017
DESCRIPTION:
LOCATION:
SUMMARY:BYE WEEK
END:VEVENT
BEGIN:VEVENT
DTSTAMP:20260424T094509Z
UID:2d50c6c9-5735-40d1-8c26-b22ae9fca724
DTSTART;VALUE=DATE:20261023
DTEND;VALUE=DATE:20261024
DESCRIPTION:
LOCATION:
SUMMARY:Football vs. Dawson
END:VEVENT
BEGIN:VEVENT
DTSTAMP:20260424T094509Z
UID:56584609-8f9a-4779-9568-6da0d8a1aa74
DTSTART;VALUE=DATE:20261030
DTEND;VALUE=DATE:20261031
DESCRIPTION:
LOCATION:
SUMMARY:Football @ Axtell
END:VEVENT
BEGIN:VEVENT
DTSTAMP:20260424T094509Z
UID:78a2df21-47c6-4eeb-99ba-edbe0b694b30
DTSTART;VALUE=DATE:20261106
DTEND;VALUE=DATE:20261107
DESCRIPTION:
LOCATION:
SUMMARY:Football Senior Night vs. Italy
END:VEVENT
END:VCALENDAR
